BEGIN:VCALENDAR
VERSION:2.0
PRODID:-//Mobile Bay Now - ECPv6.15.20//NONSGML v1.0//EN
CALSCALE:GREGORIAN
METHOD:PUBLISH
X-ORIGINAL-URL:https://mobilebaynow.com
X-WR-CALDESC:Events for Mobile Bay Now
REFRESH-INTERVAL;VALUE=DURATION:PT1H
X-Robots-Tag:noindex
X-PUBLISHED-TTL:PT1H
BEGIN:VTIMEZONE
TZID:America/Chicago
BEGIN:DAYLIGHT
TZOFFSETFROM:-0600
TZOFFSETTO:-0500
TZNAME:CDT
DTSTART:20230312T080000
END:DAYLIGHT
BEGIN:STANDARD
TZOFFSETFROM:-0500
TZOFFSETTO:-0600
TZNAME:CST
DTSTART:20231105T070000
END:STANDARD
BEGIN:DAYLIGHT
TZOFFSETFROM:-0600
TZOFFSETTO:-0500
TZNAME:CDT
DTSTART:20240310T080000
END:DAYLIGHT
BEGIN:STANDARD
TZOFFSETFROM:-0500
TZOFFSETTO:-0600
TZNAME:CST
DTSTART:20241103T070000
END:STANDARD
BEGIN:DAYLIGHT
TZOFFSETFROM:-0600
TZOFFSETTO:-0500
TZNAME:CDT
DTSTART:20250309T080000
END:DAYLIGHT
BEGIN:STANDARD
TZOFFSETFROM:-0500
TZOFFSETTO:-0600
TZNAME:CST
DTSTART:20251102T070000
END:STANDARD
END:VTIMEZONE
BEGIN:VEVENT
DTSTART;TZID=America/Chicago:20241208T170000
DTEND;TZID=America/Chicago:20241208T193000
DTSTAMP:20260421T051958
CREATED:20241202T050744Z
LAST-MODIFIED:20241105T051308Z
UID:10001834-1733677200-1733686200@mobilebaynow.com
SUMMARY:Holidays At USS ALABAMA Battleship Memorial Park
DESCRIPTION:Celebrate the holiday season at USS ALABAMA Battleship Memorial Park and discover what a traditional holiday was like during WWⅡ with fun stories\, crafts\, music and more! Guests can enjoy the event and tour the USS ALABAMA Battleship. This event is free to the public and will prove to be fun for the whole family. Guests can also purchase refreshments like hot chocolate and beignets from our vendor: Mo’Bay Beignet Co. RSVP on our Facebook event page now! \n\n\n\nFor any questions contact Hannah Nelson at hnelson@ussalabama.com. \n\n\n\nDate: December 8\, 2024 \n\n\n\nLocation: Medal of Honor Aircraft Pavilion \n\n\n\nTime: 5:00 p.m. to 7:30 p.m. \n\n\n\n\n\n\n\n\n\n\n\n\n\n\n	Related
URL:https://mobilebaynow.com/event/holidays-at-uss-alabama-battleship-memorial-park/
LOCATION:USS Alabama’s Medal of Honor Aircraft Pavilion\, 2703 Battleship Parkway\, Mobile\, AL\, 36602\, United States
CATEGORIES:Most Popular
ATTACH;FMTTYPE=image/png:https://mobilebaynow.com/wp-content/uploads/2024/11/Holidays-at-BMP-ad-768x432-1.png
END:VEVENT
END:VCALENDAR