BEGIN:VCALENDAR
VERSION:2.0
PRODID:-//Mobile Bay Now - ECPv6.15.20//NONSGML v1.0//EN
CALSCALE:GREGORIAN
METHOD:PUBLISH
X-ORIGINAL-URL:https://mobilebaynow.com
X-WR-CALDESC:Events for Mobile Bay Now
REFRESH-INTERVAL;VALUE=DURATION:PT1H
X-Robots-Tag:noindex
X-PUBLISHED-TTL:PT1H
BEGIN:VTIMEZONE
TZID:America/Chicago
BEGIN:DAYLIGHT
TZOFFSETFROM:-0600
TZOFFSETTO:-0500
TZNAME:CDT
DTSTART:20230312T080000
END:DAYLIGHT
BEGIN:STANDARD
TZOFFSETFROM:-0500
TZOFFSETTO:-0600
TZNAME:CST
DTSTART:20231105T070000
END:STANDARD
BEGIN:DAYLIGHT
TZOFFSETFROM:-0600
TZOFFSETTO:-0500
TZNAME:CDT
DTSTART:20240310T080000
END:DAYLIGHT
BEGIN:STANDARD
TZOFFSETFROM:-0500
TZOFFSETTO:-0600
TZNAME:CST
DTSTART:20241103T070000
END:STANDARD
BEGIN:DAYLIGHT
TZOFFSETFROM:-0600
TZOFFSETTO:-0500
TZNAME:CDT
DTSTART:20250309T080000
END:DAYLIGHT
BEGIN:STANDARD
TZOFFSETFROM:-0500
TZOFFSETTO:-0600
TZNAME:CST
DTSTART:20251102T070000
END:STANDARD
END:VTIMEZONE
BEGIN:VEVENT
DTSTART;TZID=America/Chicago:20240628T180000
DTEND;TZID=America/Chicago:20240628T210000
DTSTAMP:20260420T064044
CREATED:20240618T173236Z
LAST-MODIFIED:20240618T173238Z
UID:10001500-1719597600-1719608400@mobilebaynow.com
SUMMARY:Ozanam's Jazz Extravaganza 2024
DESCRIPTION:Join Ozanam Charitable Pharmacy for a night of classic and contemporary jazz at the Jazz Extravaganza 2024 Fundraiser\, held at The Grand Hall. Enjoy performances by Harvey Antone’s Smooth Jazz Experience and John Milham & Friends. The event also features a silent auction\, raffle\, wine pull\, caricature artist\, delicious Southern cuisine\, and an open bar. The Excelsior Band will lead a Second Line. Tickets are $50 per person. Proceeds support Ozanam’s mission as Alabama’s only free prescription medication safety net for homeless and uninsured individuals in Mobile\, Baldwin\, Escambia\, and Washington counties. \n\n\n\n\n\n\n\n\n\n\n\n\n\n\n	Related
URL:https://mobilebaynow.com/event/ozanams-jazz-extravaganza-2024/
LOCATION:The Grand Hall\, 3556 Halls Mill Road\, Mobile\, AL\, 36693\, United States
CATEGORIES:Most Popular,Music
END:VEVENT
END:VCALENDAR