BEGIN:VCALENDAR
VERSION:2.0
PRODID:-//Mobile Bay Now - ECPv6.15.20//NONSGML v1.0//EN
CALSCALE:GREGORIAN
METHOD:PUBLISH
X-WR-CALNAME:Mobile Bay Now
X-ORIGINAL-URL:https://mobilebaynow.com
X-WR-CALDESC:Events for Mobile Bay Now
REFRESH-INTERVAL;VALUE=DURATION:PT1H
X-Robots-Tag:noindex
X-PUBLISHED-TTL:PT1H
BEGIN:VTIMEZONE
TZID:America/Chicago
BEGIN:DAYLIGHT
TZOFFSETFROM:-0600
TZOFFSETTO:-0500
TZNAME:CDT
DTSTART:20230312T080000
END:DAYLIGHT
BEGIN:STANDARD
TZOFFSETFROM:-0500
TZOFFSETTO:-0600
TZNAME:CST
DTSTART:20231105T070000
END:STANDARD
BEGIN:DAYLIGHT
TZOFFSETFROM:-0600
TZOFFSETTO:-0500
TZNAME:CDT
DTSTART:20240310T080000
END:DAYLIGHT
BEGIN:STANDARD
TZOFFSETFROM:-0500
TZOFFSETTO:-0600
TZNAME:CST
DTSTART:20241103T070000
END:STANDARD
BEGIN:DAYLIGHT
TZOFFSETFROM:-0600
TZOFFSETTO:-0500
TZNAME:CDT
DTSTART:20250309T080000
END:DAYLIGHT
BEGIN:STANDARD
TZOFFSETFROM:-0500
TZOFFSETTO:-0600
TZNAME:CST
DTSTART:20251102T070000
END:STANDARD
END:VTIMEZONE
BEGIN:VEVENT
DTSTART;TZID=America/Chicago:20240628T163000
DTEND;TZID=America/Chicago:20240628T193000
DTSTAMP:20260421T062514
CREATED:20240618T175140Z
LAST-MODIFIED:20240618T175141Z
UID:10001504-1719592200-1719603000@mobilebaynow.com
SUMMARY:GRILL AND CHILL
DESCRIPTION:Grill and Chill will be held on Friday\, June 28\, 2024\, from 4:30 to 7:30 p.m. at the James M. Seals Jr. Community Center. This free summer cookout invites teens ages 13 to 19 to enjoy delicious food in a relaxed atmosphere. It’s a great opportunity to connect\, make new friends\, and create lasting memories. The event includes food\, games\, and music. For more information or to register\, visit here: mprd.recdesk.com/Community/Program/Detail?programId. \n\n\n\n\n\n\n\n\n\n\n\n\n\n\n	Related
URL:https://mobilebaynow.com/event/grill-and-chill/
LOCATION:James M. Seals Jr Community Center\, 540 Texas St\, Mobile\, AL\, 36603\, United States
CATEGORIES:Food
ATTACH;FMTTYPE=image/png:https://mobilebaynow.com/wp-content/uploads/2024/06/imgscale-64.png
END:VEVENT
END:VCALENDAR