BEGIN:VCALENDAR
VERSION:2.0
PRODID:-//Mobile Bay Now - ECPv6.15.20//NONSGML v1.0//EN
CALSCALE:GREGORIAN
METHOD:PUBLISH
X-WR-CALNAME:Mobile Bay Now
X-ORIGINAL-URL:https://mobilebaynow.com
X-WR-CALDESC:Events for Mobile Bay Now
REFRESH-INTERVAL;VALUE=DURATION:PT1H
X-Robots-Tag:noindex
X-PUBLISHED-TTL:PT1H
BEGIN:VTIMEZONE
TZID:America/Chicago
BEGIN:DAYLIGHT
TZOFFSETFROM:-0600
TZOFFSETTO:-0500
TZNAME:CDT
DTSTART:20250309T080000
END:DAYLIGHT
BEGIN:STANDARD
TZOFFSETFROM:-0500
TZOFFSETTO:-0600
TZNAME:CST
DTSTART:20251102T070000
END:STANDARD
BEGIN:DAYLIGHT
TZOFFSETFROM:-0600
TZOFFSETTO:-0500
TZNAME:CDT
DTSTART:20260308T080000
END:DAYLIGHT
BEGIN:STANDARD
TZOFFSETFROM:-0500
TZOFFSETTO:-0600
TZNAME:CST
DTSTART:20261101T070000
END:STANDARD
BEGIN:DAYLIGHT
TZOFFSETFROM:-0600
TZOFFSETTO:-0500
TZNAME:CDT
DTSTART:20270314T080000
END:DAYLIGHT
BEGIN:STANDARD
TZOFFSETFROM:-0500
TZOFFSETTO:-0600
TZNAME:CST
DTSTART:20271107T070000
END:STANDARD
END:VTIMEZONE
BEGIN:VEVENT
DTSTART;TZID=America/Chicago:20260502T000000
DTEND;TZID=America/Chicago:20260502T235959
DTSTAMP:20260420T080805
CREATED:20260419T114734Z
LAST-MODIFIED:20260419T114734Z
UID:10003144-1777680000-1777766399@mobilebaynow.com
SUMMARY:Spring Bird Count 62nd Year! (Free!)
DESCRIPTION:Join us for our Spring Bird Count\, as we work to tally as many birds as we can in Jefferson\, Shelby and St. Clair counties. This will be our 62nd year conducting this count\, and to ensure good coverage and results we need your help!\nIf you know the name of a county party leader\, feel free to contact them directly to join their party – or\, you may contact our compiler (Greg Harber\, gharber@mindspring.com) for the party leader of the area where you’d like to count birds. It’s also acceptable to count birds in your yard or nearby park and submit your results to Greg.\nWe need the total number of birds for each species you observed/heard\, plus a summary of. your efforts: time spent…\n—\nEvent details:\nhttps://www.addevent.com/event/n858z5h071t1\n——\nPowered by addevent.com\nShare your next event with us! \n\n\n	Related
URL:https://mobilebaynow.com/event/spring-bird-count-62nd-year-free/
LOCATION:Anywhere!
END:VEVENT
END:VCALENDAR