BEGIN:VCALENDAR
VERSION:2.0
PRODID:-//Mobile Bay Now - ECPv6.15.20//NONSGML v1.0//EN
CALSCALE:GREGORIAN
METHOD:PUBLISH
X-WR-CALNAME:Mobile Bay Now
X-ORIGINAL-URL:https://mobilebaynow.com
X-WR-CALDESC:Events for Mobile Bay Now
REFRESH-INTERVAL;VALUE=DURATION:PT1H
X-Robots-Tag:noindex
X-PUBLISHED-TTL:PT1H
BEGIN:VTIMEZONE
TZID:America/Chicago
BEGIN:DAYLIGHT
TZOFFSETFROM:-0600
TZOFFSETTO:-0500
TZNAME:CDT
DTSTART:20250309T080000
END:DAYLIGHT
BEGIN:STANDARD
TZOFFSETFROM:-0500
TZOFFSETTO:-0600
TZNAME:CST
DTSTART:20251102T070000
END:STANDARD
BEGIN:DAYLIGHT
TZOFFSETFROM:-0600
TZOFFSETTO:-0500
TZNAME:CDT
DTSTART:20260308T080000
END:DAYLIGHT
BEGIN:STANDARD
TZOFFSETFROM:-0500
TZOFFSETTO:-0600
TZNAME:CST
DTSTART:20261101T070000
END:STANDARD
BEGIN:DAYLIGHT
TZOFFSETFROM:-0600
TZOFFSETTO:-0500
TZNAME:CDT
DTSTART:20270314T080000
END:DAYLIGHT
BEGIN:STANDARD
TZOFFSETFROM:-0500
TZOFFSETTO:-0600
TZNAME:CST
DTSTART:20271107T070000
END:STANDARD
END:VTIMEZONE
BEGIN:VEVENT
DTSTART;TZID=America/Chicago:20260520T180000
DTEND;TZID=America/Chicago:20260520T210000
DTSTAMP:20260423T000726
CREATED:20260422T225836Z
LAST-MODIFIED:20260422T225836Z
UID:10003204-1779300000-1779310800@mobilebaynow.com
SUMMARY:Poker Night at Waffles R Wild
DESCRIPTION:
URL:https://mobilebaynow.com/event/poker-night-at-waffles-r-wild-9/
LOCATION:AL
ATTACH;FMTTYPE=image/jpeg:https://mobilebaynow.com/wp-content/uploads/2026/04/Thumbnail-Waffles-R-Wild-Poker-Night-3U4NLd.jpg
END:VEVENT
BEGIN:VEVENT
DTSTART;TZID=America/Chicago:20260521T180000
DTEND;TZID=America/Chicago:20260521T220000
DTSTAMP:20260423T000726
CREATED:20260422T225836Z
LAST-MODIFIED:20260422T225836Z
UID:10003205-1779386400-1779400800@mobilebaynow.com
SUMMARY:Groovy Goat Thursday Night Karaoke
DESCRIPTION:Looking for a mid-week pick-me-up? Head to Groovy Goat every Thursday from 6:00 – 10:00 pm for Karaoke Night! Pick your song\, grab the mic\, and have a great time with friends.
URL:https://mobilebaynow.com/event/groovy-goat-thursday-night-karaoke-5/
LOCATION:AL
ATTACH;FMTTYPE=image/jpeg:https://mobilebaynow.com/wp-content/uploads/2026/04/Thumbnail-Kiley-4-bHifJQ.jpg
END:VEVENT
BEGIN:VEVENT
DTSTART;TZID=America/Chicago:20260522T100000
DTEND;TZID=America/Chicago:20260522T210000
DTSTAMP:20260423T000726
CREATED:20260422T225836Z
LAST-MODIFIED:20260422T225836Z
UID:10003206-1779444000-1779483600@mobilebaynow.com
SUMMARY:Tropic Falls – May Weekdays
DESCRIPTION:
URL:https://mobilebaynow.com/event/tropic-falls-may-weekdays-2/
LOCATION:AL
CATEGORIES:Hours,Tropic Falls Theme Park Hours
ATTACH;FMTTYPE=image/jpeg:https://mobilebaynow.com/wp-content/uploads/2026/04/calendarimage-rPIH12.jpg
END:VEVENT
BEGIN:VEVENT
DTSTART;TZID=America/Chicago:20260522T180000
DTEND;TZID=America/Chicago:20260522T210000
DTSTAMP:20260423T000726
CREATED:20260422T225837Z
LAST-MODIFIED:20260422T225837Z
UID:10003208-1779472800-1779483600@mobilebaynow.com
SUMMARY:Poker Night at Waffles R Wild
DESCRIPTION:
URL:https://mobilebaynow.com/event/poker-night-at-waffles-r-wild-10/
LOCATION:AL
ATTACH;FMTTYPE=image/jpeg:https://mobilebaynow.com/wp-content/uploads/2026/04/Thumbnail-Waffles-R-Wild-Poker-Night-3U4NLd.jpg
END:VEVENT
BEGIN:VEVENT
DTSTART;TZID=America/Chicago:20260522T180000
DTEND;TZID=America/Chicago:20260522T220000
DTSTAMP:20260423T000726
CREATED:20260422T225836Z
LAST-MODIFIED:20260422T225836Z
UID:10003207-1779472800-1779487200@mobilebaynow.com
SUMMARY:Friday Night Karaoke
DESCRIPTION:
URL:https://mobilebaynow.com/event/friday-night-karaoke-5/
LOCATION:AL
ATTACH;FMTTYPE=image/jpeg:https://mobilebaynow.com/wp-content/uploads/2026/04/Thumbnail-Cozumel-Friday-Night-Karaoke-bNZU1M.jpg
END:VEVENT
BEGIN:VEVENT
DTSTART;TZID=America/Chicago:20260526T190000
DTEND;TZID=America/Chicago:20260526T220000
DTSTAMP:20260423T000726
CREATED:20260413T013707Z
LAST-MODIFIED:20260413T013707Z
UID:10003075-1779822000-1779832800@mobilebaynow.com
SUMMARY:Comedy Open Mic at Oyster City Brewing Company
DESCRIPTION:Come to Oyster City Brewing Company for a night of laughs at our Open Mic Comedy event!
URL:https://mobilebaynow.com/event/comedy-open-mic-at-oyster-city-brewing-company-7/
LOCATION:Oyster City Brewing Company\, 600 Government Street\, Mobile\, AL\, 36602\, United States
ATTACH;FMTTYPE=image/jpeg:https://mobilebaynow.com/wp-content/uploads/2026/04/4fc342d3934a3b63ecfb1a48d9d50b8d.jpg
END:VEVENT
BEGIN:VEVENT
DTSTART;TZID=America/Chicago:20260602T190000
DTEND;TZID=America/Chicago:20260602T220000
DTSTAMP:20260423T000726
CREATED:20260413T013707Z
LAST-MODIFIED:20260413T013707Z
UID:10003076-1780426800-1780437600@mobilebaynow.com
SUMMARY:Comedy Open Mic at Oyster City Brewing Company
DESCRIPTION:Come to Oyster City Brewing Company for a night of laughs at our Open Mic Comedy event!
URL:https://mobilebaynow.com/event/comedy-open-mic-at-oyster-city-brewing-company-8/
LOCATION:Oyster City Brewing Company\, 600 Government Street\, Mobile\, AL\, 36602\, United States
ATTACH;FMTTYPE=image/jpeg:https://mobilebaynow.com/wp-content/uploads/2026/04/4fc342d3934a3b63ecfb1a48d9d50b8d.jpg
END:VEVENT
BEGIN:VEVENT
DTSTART;TZID=America/Chicago:20260605T070000
DTEND;TZID=America/Chicago:20260607T140000
DTSTAMP:20260423T000726
CREATED:20260422T230002Z
LAST-MODIFIED:20260422T230002Z
UID:10003222-1780642800-1780840800@mobilebaynow.com
SUMMARY:Flora-Bama Fishing Rodeo
DESCRIPTION:2026 REGISTRATION OPENING SOON!\n\nCategories will range from Catfish to Bill Fish\, including a Spearfishing category and everything in-between. Bring all the family and friends for a fun packed weekend. With that said\, we can promise you one thing – we’ll be giving away top-of-the-line prizes!
URL:https://mobilebaynow.com/event/flora-bama-fishing-rodeo/
LOCATION:Flora-Bama Lounge & Package\, 17401 Perdido Key Dr\, Pensacola\, FL\, United States
ATTACH;FMTTYPE=image/jpeg:https://mobilebaynow.com/wp-content/uploads/2026/04/651799691_1358349552990271_2213538323285436016_n-OWyR73.jpg
GEO:30.282254;-87.515744
X-APPLE-STRUCTURED-LOCATION;VALUE=URI;X-ADDRESS=Flora-Bama Lounge & Package 17401 Perdido Key Dr Pensacola FL United States;X-APPLE-RADIUS=500;X-TITLE=17401 Perdido Key Dr:geo:-87.515744,30.282254
END:VEVENT
BEGIN:VEVENT
DTSTART;TZID=America/Chicago:20260609T190000
DTEND;TZID=America/Chicago:20260609T220000
DTSTAMP:20260423T000726
CREATED:20260413T013707Z
LAST-MODIFIED:20260413T013707Z
UID:10003077-1781031600-1781042400@mobilebaynow.com
SUMMARY:Comedy Open Mic at Oyster City Brewing Company
DESCRIPTION:Come to Oyster City Brewing Company for a night of laughs at our Open Mic Comedy event!
URL:https://mobilebaynow.com/event/comedy-open-mic-at-oyster-city-brewing-company-9/
LOCATION:Oyster City Brewing Company\, 600 Government Street\, Mobile\, AL\, 36602\, United States
ATTACH;FMTTYPE=image/jpeg:https://mobilebaynow.com/wp-content/uploads/2026/04/4fc342d3934a3b63ecfb1a48d9d50b8d.jpg
END:VEVENT
BEGIN:VEVENT
DTSTART;TZID=America/Chicago:20260616T190000
DTEND;TZID=America/Chicago:20260616T220000
DTSTAMP:20260423T000726
CREATED:20260413T013708Z
LAST-MODIFIED:20260413T013708Z
UID:10003078-1781636400-1781647200@mobilebaynow.com
SUMMARY:Comedy Open Mic at Oyster City Brewing Company
DESCRIPTION:Come to Oyster City Brewing Company for a night of laughs at our Open Mic Comedy event!
URL:https://mobilebaynow.com/event/comedy-open-mic-at-oyster-city-brewing-company-10/
LOCATION:Oyster City Brewing Company\, 600 Government Street\, Mobile\, AL\, 36602\, United States
ATTACH;FMTTYPE=image/jpeg:https://mobilebaynow.com/wp-content/uploads/2026/04/4fc342d3934a3b63ecfb1a48d9d50b8d.jpg
END:VEVENT
BEGIN:VEVENT
DTSTART;TZID=America/Chicago:20260623T190000
DTEND;TZID=America/Chicago:20260623T220000
DTSTAMP:20260423T000726
CREATED:20260413T013708Z
LAST-MODIFIED:20260413T013708Z
UID:10003079-1782241200-1782252000@mobilebaynow.com
SUMMARY:Comedy Open Mic at Oyster City Brewing Company
DESCRIPTION:Come to Oyster City Brewing Company for a night of laughs at our Open Mic Comedy event!
URL:https://mobilebaynow.com/event/comedy-open-mic-at-oyster-city-brewing-company-11/
LOCATION:Oyster City Brewing Company\, 600 Government Street\, Mobile\, AL\, 36602\, United States
ATTACH;FMTTYPE=image/jpeg:https://mobilebaynow.com/wp-content/uploads/2026/04/4fc342d3934a3b63ecfb1a48d9d50b8d.jpg
END:VEVENT
BEGIN:VEVENT
DTSTART;TZID=America/Chicago:20260630T190000
DTEND;TZID=America/Chicago:20260630T220000
DTSTAMP:20260423T000726
CREATED:20260413T013708Z
LAST-MODIFIED:20260413T013708Z
UID:10003080-1782846000-1782856800@mobilebaynow.com
SUMMARY:Comedy Open Mic at Oyster City Brewing Company
DESCRIPTION:Come to Oyster City Brewing Company for a night of laughs at our Open Mic Comedy event!
URL:https://mobilebaynow.com/event/comedy-open-mic-at-oyster-city-brewing-company-12/
LOCATION:Oyster City Brewing Company\, 600 Government Street\, Mobile\, AL\, 36602\, United States
ATTACH;FMTTYPE=image/jpeg:https://mobilebaynow.com/wp-content/uploads/2026/04/4fc342d3934a3b63ecfb1a48d9d50b8d.jpg
END:VEVENT
BEGIN:VEVENT
DTSTART;TZID=America/Chicago:20260704T080000
DTEND;TZID=America/Chicago:20260704T080000
DTSTAMP:20260423T000726
CREATED:20260422T230004Z
LAST-MODIFIED:20260422T230004Z
UID:10003223-1783152000-1783152000@mobilebaynow.com
SUMMARY:6th Annual Freedom Run
DESCRIPTION:Saturday\, July 4th\, 2026 (Rain or Shine)\nFlora-Bama’s 6th Annual Freedom Run will take place on Saturday\, July 4th\, 2026. This patriotic run will feature two courses: The 4 Mile Run/Walk Course or the 1-Mile Fun Run/Walk From ribbons and bows to flags\, socks & t-shirts… Break out your best red\, white and blue attire because we want to make this run scream AMERICA!  Registration Includes: Race Shirt (guaranteed to the first 400 registrants)\, Patriotic swag\, and Food & Drink at our post-race party! All fun run participants will receive a finisher medal once they cross the finish line. Awards will be given 1st place in all categories.
URL:https://mobilebaynow.com/event/6th-annual-freedom-run/
LOCATION:Flora-Bama Lounge & Package\, 17401 Perdido Key Dr\, Pensacola\, FL\, United States
ATTACH;FMTTYPE=image/jpeg:https://mobilebaynow.com/wp-content/uploads/2026/04/658760549_1371494165009143_5235496238541005951_n-HfYHrp.jpg
GEO:30.282254;-87.515744
X-APPLE-STRUCTURED-LOCATION;VALUE=URI;X-ADDRESS=Flora-Bama Lounge & Package 17401 Perdido Key Dr Pensacola FL United States;X-APPLE-RADIUS=500;X-TITLE=17401 Perdido Key Dr:geo:-87.515744,30.282254
END:VEVENT
BEGIN:VEVENT
DTSTART;TZID=America/Chicago:20260707T190000
DTEND;TZID=America/Chicago:20260707T220000
DTSTAMP:20260423T000726
CREATED:20260413T013709Z
LAST-MODIFIED:20260413T013709Z
UID:10003081-1783450800-1783461600@mobilebaynow.com
SUMMARY:Comedy Open Mic at Oyster City Brewing Company
DESCRIPTION:Come to Oyster City Brewing Company for a night of laughs at our Open Mic Comedy event!
URL:https://mobilebaynow.com/event/comedy-open-mic-at-oyster-city-brewing-company-13/
LOCATION:Oyster City Brewing Company\, 600 Government Street\, Mobile\, AL\, 36602\, United States
ATTACH;FMTTYPE=image/jpeg:https://mobilebaynow.com/wp-content/uploads/2026/04/4fc342d3934a3b63ecfb1a48d9d50b8d.jpg
END:VEVENT
BEGIN:VEVENT
DTSTART;TZID=America/Chicago:20260714T190000
DTEND;TZID=America/Chicago:20260714T220000
DTSTAMP:20260423T000726
CREATED:20260413T013709Z
LAST-MODIFIED:20260413T013709Z
UID:10003082-1784055600-1784066400@mobilebaynow.com
SUMMARY:Comedy Open Mic at Oyster City Brewing Company
DESCRIPTION:Come to Oyster City Brewing Company for a night of laughs at our Open Mic Comedy event!
URL:https://mobilebaynow.com/event/comedy-open-mic-at-oyster-city-brewing-company-14/
LOCATION:Oyster City Brewing Company\, 600 Government Street\, Mobile\, AL\, 36602\, United States
ATTACH;FMTTYPE=image/jpeg:https://mobilebaynow.com/wp-content/uploads/2026/04/4fc342d3934a3b63ecfb1a48d9d50b8d.jpg
END:VEVENT
BEGIN:VEVENT
DTSTART;TZID=America/Chicago:20260721T190000
DTEND;TZID=America/Chicago:20260721T220000
DTSTAMP:20260423T000726
CREATED:20260413T013709Z
LAST-MODIFIED:20260413T013709Z
UID:10003083-1784660400-1784671200@mobilebaynow.com
SUMMARY:Comedy Open Mic at Oyster City Brewing Company
DESCRIPTION:Come to Oyster City Brewing Company for a night of laughs at our Open Mic Comedy event!
URL:https://mobilebaynow.com/event/comedy-open-mic-at-oyster-city-brewing-company-15/
LOCATION:Oyster City Brewing Company\, 600 Government Street\, Mobile\, AL\, 36602\, United States
ATTACH;FMTTYPE=image/jpeg:https://mobilebaynow.com/wp-content/uploads/2026/04/4fc342d3934a3b63ecfb1a48d9d50b8d.jpg
END:VEVENT
BEGIN:VEVENT
DTSTART;TZID=America/Chicago:20260728T190000
DTEND;TZID=America/Chicago:20260728T220000
DTSTAMP:20260423T000726
CREATED:20260413T013709Z
LAST-MODIFIED:20260413T013709Z
UID:10003084-1785265200-1785276000@mobilebaynow.com
SUMMARY:Comedy Open Mic at Oyster City Brewing Company
DESCRIPTION:Come to Oyster City Brewing Company for a night of laughs at our Open Mic Comedy event!
URL:https://mobilebaynow.com/event/comedy-open-mic-at-oyster-city-brewing-company-16/
LOCATION:Oyster City Brewing Company\, 600 Government Street\, Mobile\, AL\, 36602\, United States
ATTACH;FMTTYPE=image/jpeg:https://mobilebaynow.com/wp-content/uploads/2026/04/4fc342d3934a3b63ecfb1a48d9d50b8d.jpg
END:VEVENT
BEGIN:VEVENT
DTSTART;TZID=America/Chicago:20260804T190000
DTEND;TZID=America/Chicago:20260804T220000
DTSTAMP:20260423T000726
CREATED:20260413T013710Z
LAST-MODIFIED:20260413T013710Z
UID:10003085-1785870000-1785880800@mobilebaynow.com
SUMMARY:Comedy Open Mic at Oyster City Brewing Company
DESCRIPTION:Come to Oyster City Brewing Company for a night of laughs at our Open Mic Comedy event!
URL:https://mobilebaynow.com/event/comedy-open-mic-at-oyster-city-brewing-company-17/
LOCATION:Oyster City Brewing Company\, 600 Government Street\, Mobile\, AL\, 36602\, United States
ATTACH;FMTTYPE=image/jpeg:https://mobilebaynow.com/wp-content/uploads/2026/04/4fc342d3934a3b63ecfb1a48d9d50b8d.jpg
END:VEVENT
BEGIN:VEVENT
DTSTART;TZID=America/Chicago:20260811T190000
DTEND;TZID=America/Chicago:20260811T220000
DTSTAMP:20260423T000726
CREATED:20260413T013710Z
LAST-MODIFIED:20260413T013710Z
UID:10003086-1786474800-1786485600@mobilebaynow.com
SUMMARY:Comedy Open Mic at Oyster City Brewing Company
DESCRIPTION:Come to Oyster City Brewing Company for a night of laughs at our Open Mic Comedy event!
URL:https://mobilebaynow.com/event/comedy-open-mic-at-oyster-city-brewing-company-18/
LOCATION:Oyster City Brewing Company\, 600 Government Street\, Mobile\, AL\, 36602\, United States
ATTACH;FMTTYPE=image/jpeg:https://mobilebaynow.com/wp-content/uploads/2026/04/4fc342d3934a3b63ecfb1a48d9d50b8d.jpg
END:VEVENT
BEGIN:VEVENT
DTSTART;TZID=America/Chicago:20260815T000000
DTEND;TZID=America/Chicago:20260815T235959
DTSTAMP:20260423T000726
CREATED:20260415T201033Z
LAST-MODIFIED:20260415T201037Z
UID:10003130-1786752000-1786838399@mobilebaynow.com
SUMMARY:Timeless Hats by Susie Mae Pugh-Williams: A Legacy of Creativity\, Elegance\, Reverence & Resilience
DESCRIPTION:January 29 – August 15\, 2026 Curated by Dr. Irma McClaurin\, PhD and Bobby C. Williams\, Jr.  \n\n\n\nHats or ‘crowns’ as they are known in African American communities are an essential part of African American culture. They have played a key role in African American life from enslavement to modern day as symbols of reverence in houses of worship or resilience and resistance in times of enslavement and freedom. Susie Mae-Pugh Williams (1949 – 2020) was born and raised in Mobile\, AL. She taught herself the art of millinery (hat making) and created hats\, wraps\, fascinators and other head wear for herself\, friends and clients. Those creations would have been worn to church or for events such as weddings\, Mardi Gras festivities and other celebrations.  This exhibition contains over two dozen hats that were made by Mrs. Williams or that she admired and drew inspiration from for her own creations.  
URL:https://mobilebaynow.com/event/timeless-hats-by-susie-mae-pugh-williams-a-legacy-of-creativity-elegance-reverence-resilience/
LOCATION:AL
END:VEVENT
BEGIN:VEVENT
DTSTART;TZID=America/Chicago:20260818T190000
DTEND;TZID=America/Chicago:20260818T220000
DTSTAMP:20260423T000726
CREATED:20260413T013710Z
LAST-MODIFIED:20260413T013710Z
UID:10003087-1787079600-1787090400@mobilebaynow.com
SUMMARY:Comedy Open Mic at Oyster City Brewing Company
DESCRIPTION:Come to Oyster City Brewing Company for a night of laughs at our Open Mic Comedy event!
URL:https://mobilebaynow.com/event/comedy-open-mic-at-oyster-city-brewing-company-19/
LOCATION:Oyster City Brewing Company\, 600 Government Street\, Mobile\, AL\, 36602\, United States
ATTACH;FMTTYPE=image/jpeg:https://mobilebaynow.com/wp-content/uploads/2026/04/4fc342d3934a3b63ecfb1a48d9d50b8d.jpg
END:VEVENT
BEGIN:VEVENT
DTSTART;TZID=America/Chicago:20260825T190000
DTEND;TZID=America/Chicago:20260825T220000
DTSTAMP:20260423T000726
CREATED:20260413T013711Z
LAST-MODIFIED:20260413T013711Z
UID:10003088-1787684400-1787695200@mobilebaynow.com
SUMMARY:Comedy Open Mic at Oyster City Brewing Company
DESCRIPTION:Come to Oyster City Brewing Company for a night of laughs at our Open Mic Comedy event!
URL:https://mobilebaynow.com/event/comedy-open-mic-at-oyster-city-brewing-company-20/
LOCATION:Oyster City Brewing Company\, 600 Government Street\, Mobile\, AL\, 36602\, United States
ATTACH;FMTTYPE=image/jpeg:https://mobilebaynow.com/wp-content/uploads/2026/04/4fc342d3934a3b63ecfb1a48d9d50b8d.jpg
END:VEVENT
BEGIN:VEVENT
DTSTART;TZID=America/Chicago:20260829T000000
DTEND;TZID=America/Chicago:20260829T235959
DTSTAMP:20260423T000726
CREATED:20260415T182650Z
LAST-MODIFIED:20260415T182654Z
UID:10003111-1787961600-1788047999@mobilebaynow.com
SUMMARY:America 250 – Kent Portfolio
DESCRIPTION:To commemorate the Bicentennial of the United States\, Lorillard\, a division of Loews Theaters\, Inc.\, produced the Kent Bicentennial Portfolio: Spirit of Independence in 1974. The company asked artists across the country the question\, “What does independence mean to you?” Over a hundred artists answered Lorillard’s inquiry and after countless interviews\, the company selected twelve artists for inclusion in the portfolio.Unusual for a commissioned art project\, the artists were given no restrictions on their creativity – be it size\, color or subject matter. The only requirement was to interpret the question\, “What does independence mean to you?”The interpretations of independence varied from artist to artist – some artists depicted the theme purely as a celebration of our country’s bicentennial\, some took a historic approach\, while others dove deeper. For instance\, Colleen Browning reflected on what it meant to be an immigrant in the United States\, while Jacob Lawrence reimagined the experience of African American parents having the freedom to vote in 1920s New Jersey during the Jim Crow era\, and Fritz Scholder pointed to the irony of a people who were treated as obstacles to expansion celebrating the bicentennial.The artists’ works were reproduced in 125 portfolios and gifted to museums across the country. Mobile Museum of Art was one of the fortunate recipients. In addition\, the American Federation of the Arts (AFA) and the United States Information Agency (USIA) further commemorated the Bicentennial and traveled the portfolio to museums and other institutions across the country and internationally to Europe\, Africa and Asia.
URL:https://mobilebaynow.com/event/america-250-kent-portfolio/
LOCATION:AL
END:VEVENT
BEGIN:VEVENT
DTSTART;TZID=America/Chicago:20260901T190000
DTEND;TZID=America/Chicago:20260901T220000
DTSTAMP:20260423T000726
CREATED:20260413T013711Z
LAST-MODIFIED:20260413T013711Z
UID:10003089-1788289200-1788300000@mobilebaynow.com
SUMMARY:Comedy Open Mic at Oyster City Brewing Company
DESCRIPTION:Come to Oyster City Brewing Company for a night of laughs at our Open Mic Comedy event!
URL:https://mobilebaynow.com/event/comedy-open-mic-at-oyster-city-brewing-company-21/
LOCATION:Oyster City Brewing Company\, 600 Government Street\, Mobile\, AL\, 36602\, United States
ATTACH;FMTTYPE=image/jpeg:https://mobilebaynow.com/wp-content/uploads/2026/04/4fc342d3934a3b63ecfb1a48d9d50b8d.jpg
END:VEVENT
BEGIN:VEVENT
DTSTART;TZID=America/Chicago:20260908T190000
DTEND;TZID=America/Chicago:20260908T220000
DTSTAMP:20260423T000726
CREATED:20260413T013711Z
LAST-MODIFIED:20260413T013711Z
UID:10003090-1788894000-1788904800@mobilebaynow.com
SUMMARY:Comedy Open Mic at Oyster City Brewing Company
DESCRIPTION:Come to Oyster City Brewing Company for a night of laughs at our Open Mic Comedy event!
URL:https://mobilebaynow.com/event/comedy-open-mic-at-oyster-city-brewing-company-22/
LOCATION:Oyster City Brewing Company\, 600 Government Street\, Mobile\, AL\, 36602\, United States
ATTACH;FMTTYPE=image/jpeg:https://mobilebaynow.com/wp-content/uploads/2026/04/4fc342d3934a3b63ecfb1a48d9d50b8d.jpg
END:VEVENT
BEGIN:VEVENT
DTSTART;TZID=America/Chicago:20260915T190000
DTEND;TZID=America/Chicago:20260915T220000
DTSTAMP:20260423T000726
CREATED:20260413T013711Z
LAST-MODIFIED:20260413T013711Z
UID:10003091-1789498800-1789509600@mobilebaynow.com
SUMMARY:Comedy Open Mic at Oyster City Brewing Company
DESCRIPTION:Come to Oyster City Brewing Company for a night of laughs at our Open Mic Comedy event!
URL:https://mobilebaynow.com/event/comedy-open-mic-at-oyster-city-brewing-company-23/
LOCATION:Oyster City Brewing Company\, 600 Government Street\, Mobile\, AL\, 36602\, United States
ATTACH;FMTTYPE=image/jpeg:https://mobilebaynow.com/wp-content/uploads/2026/04/4fc342d3934a3b63ecfb1a48d9d50b8d.jpg
END:VEVENT
BEGIN:VEVENT
DTSTART;TZID=America/Chicago:20260922T190000
DTEND;TZID=America/Chicago:20260922T220000
DTSTAMP:20260423T000726
CREATED:20260413T013712Z
LAST-MODIFIED:20260413T013712Z
UID:10003092-1790103600-1790114400@mobilebaynow.com
SUMMARY:Comedy Open Mic at Oyster City Brewing Company
DESCRIPTION:Come to Oyster City Brewing Company for a night of laughs at our Open Mic Comedy event!
URL:https://mobilebaynow.com/event/comedy-open-mic-at-oyster-city-brewing-company-24/
LOCATION:Oyster City Brewing Company\, 600 Government Street\, Mobile\, AL\, 36602\, United States
ATTACH;FMTTYPE=image/jpeg:https://mobilebaynow.com/wp-content/uploads/2026/04/4fc342d3934a3b63ecfb1a48d9d50b8d.jpg
END:VEVENT
BEGIN:VEVENT
DTSTART;TZID=America/Chicago:20260929T190000
DTEND;TZID=America/Chicago:20260929T220000
DTSTAMP:20260423T000726
CREATED:20260413T013712Z
LAST-MODIFIED:20260413T013712Z
UID:10003093-1790708400-1790719200@mobilebaynow.com
SUMMARY:Comedy Open Mic at Oyster City Brewing Company
DESCRIPTION:Come to Oyster City Brewing Company for a night of laughs at our Open Mic Comedy event!
URL:https://mobilebaynow.com/event/comedy-open-mic-at-oyster-city-brewing-company-25/
LOCATION:Oyster City Brewing Company\, 600 Government Street\, Mobile\, AL\, 36602\, United States
ATTACH;FMTTYPE=image/jpeg:https://mobilebaynow.com/wp-content/uploads/2026/04/4fc342d3934a3b63ecfb1a48d9d50b8d.jpg
END:VEVENT
BEGIN:VEVENT
DTSTART;TZID=America/Chicago:20261006T190000
DTEND;TZID=America/Chicago:20261006T220000
DTSTAMP:20260423T000726
CREATED:20260413T013712Z
LAST-MODIFIED:20260413T013712Z
UID:10003094-1791313200-1791324000@mobilebaynow.com
SUMMARY:Comedy Open Mic at Oyster City Brewing Company
DESCRIPTION:Come to Oyster City Brewing Company for a night of laughs at our Open Mic Comedy event!
URL:https://mobilebaynow.com/event/comedy-open-mic-at-oyster-city-brewing-company-26/
LOCATION:Oyster City Brewing Company\, 600 Government Street\, Mobile\, AL\, 36602\, United States
ATTACH;FMTTYPE=image/jpeg:https://mobilebaynow.com/wp-content/uploads/2026/04/4fc342d3934a3b63ecfb1a48d9d50b8d.jpg
END:VEVENT
BEGIN:VEVENT
DTSTART;TZID=America/Chicago:20261013T190000
DTEND;TZID=America/Chicago:20261013T220000
DTSTAMP:20260423T000726
CREATED:20260413T013713Z
LAST-MODIFIED:20260413T013713Z
UID:10003095-1791918000-1791928800@mobilebaynow.com
SUMMARY:Comedy Open Mic at Oyster City Brewing Company
DESCRIPTION:Come to Oyster City Brewing Company for a night of laughs at our Open Mic Comedy event!
URL:https://mobilebaynow.com/event/comedy-open-mic-at-oyster-city-brewing-company-27/
LOCATION:Oyster City Brewing Company\, 600 Government Street\, Mobile\, AL\, 36602\, United States
ATTACH;FMTTYPE=image/jpeg:https://mobilebaynow.com/wp-content/uploads/2026/04/4fc342d3934a3b63ecfb1a48d9d50b8d.jpg
END:VEVENT
END:VCALENDAR