BEGIN:VCALENDAR
VERSION:2.0
PRODID:-//Mobile Bay Now - ECPv6.15.20//NONSGML v1.0//EN
CALSCALE:GREGORIAN
METHOD:PUBLISH
X-ORIGINAL-URL:https://mobilebaynow.com
X-WR-CALDESC:Events for Mobile Bay Now
REFRESH-INTERVAL;VALUE=DURATION:PT1H
X-Robots-Tag:noindex
X-PUBLISHED-TTL:PT1H
BEGIN:VTIMEZONE
TZID:America/Chicago
BEGIN:DAYLIGHT
TZOFFSETFROM:-0600
TZOFFSETTO:-0500
TZNAME:CDT
DTSTART:20250309T080000
END:DAYLIGHT
BEGIN:STANDARD
TZOFFSETFROM:-0500
TZOFFSETTO:-0600
TZNAME:CST
DTSTART:20251102T070000
END:STANDARD
BEGIN:DAYLIGHT
TZOFFSETFROM:-0600
TZOFFSETTO:-0500
TZNAME:CDT
DTSTART:20260308T080000
END:DAYLIGHT
BEGIN:STANDARD
TZOFFSETFROM:-0500
TZOFFSETTO:-0600
TZNAME:CST
DTSTART:20261101T070000
END:STANDARD
BEGIN:DAYLIGHT
TZOFFSETFROM:-0600
TZOFFSETTO:-0500
TZNAME:CDT
DTSTART:20270314T080000
END:DAYLIGHT
BEGIN:STANDARD
TZOFFSETFROM:-0500
TZOFFSETTO:-0600
TZNAME:CST
DTSTART:20271107T070000
END:STANDARD
END:VTIMEZONE
BEGIN:VEVENT
DTSTART;TZID=America/Chicago:20260419T113000
DTEND;TZID=America/Chicago:20260419T113000
DTSTAMP:20260423T060734
CREATED:20260415T201506Z
LAST-MODIFIED:20260415T201510Z
UID:10003132-1776598200-1776598200@mobilebaynow.com
SUMMARY:Back Bay Tour
DESCRIPTION:This hour-long outing takes guests into the hidden reaches of the lower Delta\, where scenic small bays\, inlets and passes offer special opportunities for viewing wildlife and appreciating the natural beauty of this area. Departs from the AWF Delta and Bay Conservation Center at Five Rivers.
URL:https://mobilebaynow.com/event/back-bay-tour/
END:VEVENT
BEGIN:VEVENT
DTSTART;TZID=America/Chicago:20260419T140000
DTEND;TZID=America/Chicago:20260419T180000
DTSTAMP:20260423T060734
CREATED:20260413T013924Z
LAST-MODIFIED:20260413T013924Z
UID:10003107-1776607200-1776621600@mobilebaynow.com
SUMMARY:2026 MudBottom Revival Music Festival
DESCRIPTION:The 11th Annual MudBottom Revival Music Festival is an outdoor concert hosted on Dog River to raise money for Dog River Clearwater Revival!\n\n\nDog River Clearwater Revival (DRCR) is proud to host the 11th Annual MudBottom Revival Music Festival – a fun afternoon created to raise awareness and funds for DRCR’s ongoing Dog River improvement projects. \nThis year\, the event is set for Sunday\, April 19th at the end of Riviere Du Chien Rd on BENDER POINT ( 3619 Riviere Du Chien Road) from 2PM to 6PM (with general admission gates opening at 1:30 PM\, VIP Sponsor Check-in opens at 1PM). \n\nOpening the show is Mobile native Camm Lewis\, an up-and-coming local singer-songwriter who loves life on the river and enjoys the outdoors with his family and friends!\nThen we will have The New Cahoots\, an acoustic/electric trio based in Pensacola\, Florida. They blend folk\, bluegrass\, and Americana\, delivering both original music and covers. Get ready for their high-energy\, eclectic sounds!\nFinally\, our headliner is internationally renowned\, Willie Watson. For over two decades\, Willie Watson has made modern folk music rooted in older traditions. He’s a folksinger in the classic sense: a singer\, storyteller\, and traveler\, with a catalog of songs that bridge the gap between the past and present. From his early days as a founding member of the Old Crow Medicine Show to his current work as a solo artist\, he is a celebrated musician with a rich vocal range and a highly skilled multi-instrumentalist.\n\nAttendees of this family-friendly fundraising event are invited to bring coolers\, picnic blankets and chairs to enjoy an afternoon of live music under a shaded oak-covered spot on the banks of beautiful Dog River. There will be food\, MudBottom t-shirts and swag available for purchase! \n\nThis is a BYOB event!\nNo tents or sun umbrellas please.\nNo pets are allowed.\nChildren are welcome and tickets are free for 12 years and under.\n\nPurchase a ticket BEFORE April 19th and come by vehicle\, bike\, kayak\, canoe\, stand up paddle board\, or boat and enjoy the music from the peninsula! We will have boat taxis to transport ticket holders from their anchored parking spots to the dock. Pack your own coolers\, blankets\, and chairs. Bathrooms will be on the premises. \nWe encourage everyone to carpool\, as parking can be tight! If you choose to arrive by vehicle you will be shuttled from the parking area down the street to the festival grounds via golf cart\, so please pack lightly and be prepared to take what you need from your vehicle in 1 trip. And please plan your day accordingly. \nTICKET PRICES WILL INCREASE THE WEEK BEFORE THE FESTIVAL: \n$35 for Tickets through April 12th; it will then increase to $45 from April 13th until the day of the festival (or until tickets sell out – which they usually do!) \n \nSPONSORSHIPS are still available for this spring fundraising event! \nEvery dollar raised supports Dog River Clearwater Revival’s mission to protect the environmental health of Dog River for generations to come. \nSponsorship benefits for ALL levels include: \n\nFestival tickets\nEarly entry & VIP check-in\nAccess to VIP area with food & beverages\nT-shirts\nCustom swag bag\nSponsor name or logo recognition on event signage\, social media\, and in festival announcements.\n\n$1\,000+ level sponsors will also have their name printed on the 2026 MudBottom t-shirts\, featuring custom artwork from Rabbit Fish Studio! \nYou can sponsor online by clicking here: SPONSORSHIP FORM \nOR simply e-mail: info@dogriver.org for more information on sponsor levels\, perks\, and applications! \nAll proceeds generated by your support will help DRCR in our programs aimed at fulfilling our mission to protect the environmental health of Dog River. \nDog River Clearwater Revival is a 501(c)3 nonprofit organization and your donations are tax-deductible! Thank you for supporting such an amazing local cause!
URL:https://mobilebaynow.com/event/2026-mudbottom-revival-music-festival/
LOCATION:3619 Riviere Du Chien Rd\, 3619 Riviere Du Chien Road\, Mobile\, AL\, 36693\, United States
ATTACH;FMTTYPE=image/jpeg:https://mobilebaynow.com/wp-content/uploads/2026/04/8da1a121c9e4a42d5422e873d56bf340.jpg
END:VEVENT
BEGIN:VEVENT
DTSTART;TZID=America/Chicago:20260419T150000
DTEND;TZID=America/Chicago:20260419T150000
DTSTAMP:20260423T060734
CREATED:20260415T202432Z
LAST-MODIFIED:20260415T202436Z
UID:10003134-1776610800-1776610800@mobilebaynow.com
SUMMARY:Jason Vieaux\, guitar with Zuill Bailey\, cello
DESCRIPTION:Gnattali: Sonata for Cello and GuitarSchubert: Sonata in A minor (Arpeggione)\, D. 821– Intermission –Falla: Siete Canziones Populares EspanolasVilla Lobos: Bachianas Brasileiras No. 5 “Aria”Williams: Theme from Schindler’s ListSaint Saens: The SwanPaganini: Variations on One String\, “Moses” by Rossinihttps://jasonvieaux.com/https://colbertartists.com/artists/zuill-bailey/
URL:https://mobilebaynow.com/event/jason-vieaux-guitar-with-zuill-bailey-cello/
END:VEVENT
BEGIN:VEVENT
DTSTART;TZID=America/Chicago:20260419T160000
DTEND;TZID=America/Chicago:20260419T160000
DTSTAMP:20260423T060734
CREATED:20260415T201640Z
LAST-MODIFIED:20260415T201644Z
UID:10003133-1776614400-1776614400@mobilebaynow.com
SUMMARY:Chamber Music Concert- Harp\, Horn & Strings
DESCRIPTION:If you love beautiful instrumental music\, you won’t want to miss this rare opportunity to hear some of the greatest masterpieces from the Classical and Romantic eras performed on the harp\, horn\, organ and string quintet! This program will be presented as part of the concert series at St. James Episcopal Church in Fairhope.Josiah Bullach\, assistant principal horn of the Louisiana Philharmonic Orchestra will be featured in the Mozart Horn Quintet\, along with other principal players of the Louisiana Philharmonic Orchestra. The Mozart quintet is not often heard in chamber concerts on the Gulf Coast\, but it is a popular\, virtuosic showpiece for the horn and epitomizes the best of Classical Era music. It is joyful\, lively\, elegant\, playful\, at times\, serene and always delightful!Another featured piece that few people have ever had the chance to hear live\, will be the Glière Harp Concerto. The Glière Concerto is one of the greatest masterpieces ever written for the harp and is marked by sweeping lyricism and deep expressiveness\, drawing on the traditions of Russian Romanticism reminiscent of Rachmaninoff. Rebekah Atkinson\, harpist\, will be the soloist and will be accompanied by the horn and strings for a powerful and passionate presentation.Additional pieces will include a cello showpiece by Saint-Saëns\, his rousing Allegro Appassionato\, Op. 43 and the ethereal\, intensely introspective “Sospiri” by Elgar for strings\, organ and harp.The event is free but donations are cheerfully accepted. 
URL:https://mobilebaynow.com/event/chamber-music-concert-harp-horn-strings/
END:VEVENT
BEGIN:VEVENT
DTSTART;TZID=America/Chicago:20260420T070000
DTEND;TZID=America/Chicago:20260425T150000
DTSTAMP:20260423T060734
CREATED:20260419T114732Z
LAST-MODIFIED:20260419T114732Z
UID:10003139-1776668400-1777129200@mobilebaynow.com
SUMMARY:COASTAL BIRD BANDING AT FORT MORGAN (FREE)
DESCRIPTION:PUBLIC BANDING STATION AT FORT MORGAN\nAlabama Audubon is pleased to announce the return of our popular Coastal Bird Banding event on April 20–25th at the Fort Morgan State Historic Site on the Alabama Gulf Coast. We are proud to partner with Mississippi State University\, the Alabama Department of Conservation and Natural Resources\, and Fort Morgan on this incredible event.Our banding station is one of the few in the US open to the public. Join us to see migrant birds up close after their journey across the Gulf of Mexico. We’ll also offer bird and nature walks\, tabling by allied organizations\, and more. Bring your cameras and enjoy unparalleled access to the researchers and their…\n—\nEvent details:\nhttps://www.addevent.com/event/l1gjpsx3kyhg\n——\nPowered by addevent.com\nShare your next event with us!
URL:https://mobilebaynow.com/event/coastal-bird-banding-at-fort-morgan-free/
LOCATION:FORT MORGAN HISTORIC SITE 110 Alabama 180 Gulf Shores\, Gulf Shores\, AL\, United States
GEO:30.247703;-87.839713
END:VEVENT
BEGIN:VEVENT
DTSTART;TZID=America/Chicago:20260421T190000
DTEND;TZID=America/Chicago:20260421T220000
DTSTAMP:20260423T060734
CREATED:20260413T013705Z
LAST-MODIFIED:20260413T013705Z
UID:10003070-1776798000-1776808800@mobilebaynow.com
SUMMARY:Comedy Open Mic at Oyster City Brewing Company
DESCRIPTION:Come to Oyster City Brewing Company for a night of laughs at our Open Mic Comedy event!
URL:https://mobilebaynow.com/event/comedy-open-mic-at-oyster-city-brewing-company-2/
LOCATION:Oyster City Brewing Company\, 600 Government Street\, Mobile\, AL\, 36602\, United States
ATTACH;FMTTYPE=image/jpeg:https://mobilebaynow.com/wp-content/uploads/2026/04/4fc342d3934a3b63ecfb1a48d9d50b8d.jpg
END:VEVENT
BEGIN:VEVENT
DTSTART;TZID=America/Chicago:20260421T200000
DTEND;TZID=America/Chicago:20260421T200000
DTSTAMP:20260423T060734
CREATED:20260415T202636Z
LAST-MODIFIED:20260415T202640Z
UID:10003135-1776801600-1776801600@mobilebaynow.com
SUMMARY:Eric Johnson at Soul Kitchen
DESCRIPTION:
URL:https://mobilebaynow.com/event/eric-johnson-at-soul-kitchen/
END:VEVENT
BEGIN:VEVENT
DTSTART;TZID=America/Chicago:20260422T170000
DTEND;TZID=America/Chicago:20260422T210000
DTSTAMP:20260423T060734
CREATED:20260422T225811Z
LAST-MODIFIED:20260422T225811Z
UID:10003148-1776877200-1776891600@mobilebaynow.com
SUMMARY:Game Night at Waffles R Wild
DESCRIPTION:Game night plans? We’ve got your Wednesday covered! Join Game Nights at Waffles R Wild from 5:00 – 9:00 pm for fun for all ages. Bring your favorite game or jump into one of the games provided while you enjoy great food and a relaxed atmosphere. \nWhether it’s family night\, a casual night with friends\, or a fun way to break up the week\, Waffles R Wild is the place to play\, laugh\, and stay awhile!
URL:https://mobilebaynow.com/event/game-night-at-waffles-r-wild/
ATTACH;FMTTYPE=image/jpeg:https://mobilebaynow.com/wp-content/uploads/2026/04/WRW_Game-Night_Thumbnail-9MRJYm.jpg
END:VEVENT
BEGIN:VEVENT
DTSTART;TZID=America/Chicago:20260422T180000
DTEND;TZID=America/Chicago:20260422T210000
DTSTAMP:20260423T060734
CREATED:20260422T225812Z
LAST-MODIFIED:20260422T225812Z
UID:10003149-1776880800-1776891600@mobilebaynow.com
SUMMARY:Poker Night at Waffles R Wild
DESCRIPTION:
URL:https://mobilebaynow.com/event/poker-night-at-waffles-r-wild/
ATTACH;FMTTYPE=image/jpeg:https://mobilebaynow.com/wp-content/uploads/2026/04/Thumbnail-Waffles-R-Wild-Poker-Night-3U4NLd.jpg
END:VEVENT
BEGIN:VEVENT
DTSTART;TZID=America/Chicago:20260423T000000
DTEND;TZID=America/Chicago:20260424T235959
DTSTAMP:20260423T060734
CREATED:20260415T202852Z
LAST-MODIFIED:20260415T202855Z
UID:10003136-1776902400-1777075199@mobilebaynow.com
SUMMARY:Hargrove Foundation Crawfish Classic Golf Tournament
DESCRIPTION:
URL:https://mobilebaynow.com/event/hargrove-foundation-crawfish-classic-golf-tournament/
END:VEVENT
BEGIN:VEVENT
DTSTART;TZID=America/Chicago:20260423T000000
DTEND;TZID=America/Chicago:20260426T235959
DTSTAMP:20260423T060734
CREATED:20260415T203127Z
LAST-MODIFIED:20260415T203131Z
UID:10003138-1776902400-1777247999@mobilebaynow.com
SUMMARY:Alabama Coastal BirdFest
DESCRIPTION:
URL:https://mobilebaynow.com/event/alabama-coastal-birdfest/
END:VEVENT
BEGIN:VEVENT
DTSTART;TZID=America/Chicago:20260423T130000
DTEND;TZID=America/Chicago:20260423T160000
DTSTAMP:20260423T060734
CREATED:20260422T225953Z
LAST-MODIFIED:20260422T225953Z
UID:10003209-1776949200-1776960000@mobilebaynow.com
SUMMARY:Free Bingo With Rhonda Hart
DESCRIPTION:FREE TO PLAY! All ages. Prizes awarded. Monday-Friday 1pm-4pm.
URL:https://mobilebaynow.com/event/free-bingo-with-rhonda-hart/
LOCATION:Flora-Bama Lounge & Package\, 17401 Perdido Key Dr\, Pensacola\, FL\, United States
ATTACH;FMTTYPE=image/jpeg:https://mobilebaynow.com/wp-content/uploads/2026/04/658990578_1372692041556022_1941512919767638974_n-PBioVo.jpg
GEO:30.282254;-87.515744
X-APPLE-STRUCTURED-LOCATION;VALUE=URI;X-ADDRESS=Flora-Bama Lounge & Package 17401 Perdido Key Dr Pensacola FL United States;X-APPLE-RADIUS=500;X-TITLE=17401 Perdido Key Dr:geo:-87.515744,30.282254
END:VEVENT
BEGIN:VEVENT
DTSTART;TZID=America/Chicago:20260423T170000
DTEND;TZID=America/Chicago:20260423T200000
DTSTAMP:20260423T060734
CREATED:20260419T114732Z
LAST-MODIFIED:20260419T114732Z
UID:10003140-1776963600-1776974400@mobilebaynow.com
SUMMARY:Alabama Coastal BirdFest 2026
DESCRIPTION:——\nPowered by addevent.com\nShare your next event with us!
URL:https://mobilebaynow.com/event/alabama-coastal-birdfest-2026/
END:VEVENT
BEGIN:VEVENT
DTSTART;TZID=America/Chicago:20260423T180000
DTEND;TZID=America/Chicago:20260423T220000
DTSTAMP:20260423T060734
CREATED:20260422T225813Z
LAST-MODIFIED:20260422T225813Z
UID:10003150-1776967200-1776981600@mobilebaynow.com
SUMMARY:Groovy Goat Thursday Night Karaoke
DESCRIPTION:Looking for a mid-week pick-me-up? Head to Groovy Goat every Thursday from 6:00 – 10:00 pm for Karaoke Night! Pick your song\, grab the mic\, and have a great time with friends.
URL:https://mobilebaynow.com/event/groovy-goat-thursday-night-karaoke/
ATTACH;FMTTYPE=image/jpeg:https://mobilebaynow.com/wp-content/uploads/2026/04/Thumbnail-Kiley-4-bHifJQ.jpg
END:VEVENT
BEGIN:VEVENT
DTSTART;TZID=America/Chicago:20260423T193000
DTEND;TZID=America/Chicago:20260423T193000
DTSTAMP:20260423T060734
CREATED:20260415T203013Z
LAST-MODIFIED:20260415T203016Z
UID:10003137-1776972600-1776972600@mobilebaynow.com
SUMMARY:Little River Band
DESCRIPTION:
URL:https://mobilebaynow.com/event/little-river-band/
END:VEVENT
BEGIN:VEVENT
DTSTART;TZID=America/Chicago:20260424T000000
DTEND;TZID=America/Chicago:20260424T235959
DTSTAMP:20260423T060734
CREATED:20260419T114732Z
LAST-MODIFIED:20260419T114732Z
UID:10003141-1776988800-1777075199@mobilebaynow.com
SUMMARY:Alabama Coastal BirdFest 2026
DESCRIPTION:——\nPowered by addevent.com\nShare your next event with us!
URL:https://mobilebaynow.com/event/alabama-coastal-birdfest-2026-2/
END:VEVENT
BEGIN:VEVENT
DTSTART;TZID=America/Chicago:20260424T110000
DTEND;TZID=America/Chicago:20260426T120000
DTSTAMP:20260423T060734
CREATED:20260422T225955Z
LAST-MODIFIED:20260422T225955Z
UID:10003210-1777028400-1777204800@mobilebaynow.com
SUMMARY:Mullet Toss 2026
DESCRIPTION:More info at florabama.com
URL:https://mobilebaynow.com/event/mullet-toss-2026/
LOCATION:Flora-Bama Lounge & Package\, 17401 Perdido Key Dr\, Pensacola\, FL\, United States
ATTACH;FMTTYPE=image/jpeg:https://mobilebaynow.com/wp-content/uploads/2026/04/645406464_1349114230580470_6687036630308498848_n-JYbYqs.jpg
GEO:30.282254;-87.515744
X-APPLE-STRUCTURED-LOCATION;VALUE=URI;X-ADDRESS=Flora-Bama Lounge & Package 17401 Perdido Key Dr Pensacola FL United States;X-APPLE-RADIUS=500;X-TITLE=17401 Perdido Key Dr:geo:-87.515744,30.282254
END:VEVENT
BEGIN:VEVENT
DTSTART;TZID=America/Chicago:20260424T180000
DTEND;TZID=America/Chicago:20260424T210000
DTSTAMP:20260423T060734
CREATED:20260422T225813Z
LAST-MODIFIED:20260422T225813Z
UID:10003152-1777053600-1777064400@mobilebaynow.com
SUMMARY:Poker Night at Waffles R Wild
DESCRIPTION:
URL:https://mobilebaynow.com/event/poker-night-at-waffles-r-wild-2/
ATTACH;FMTTYPE=image/jpeg:https://mobilebaynow.com/wp-content/uploads/2026/04/Thumbnail-Waffles-R-Wild-Poker-Night-3U4NLd.jpg
END:VEVENT
BEGIN:VEVENT
DTSTART;TZID=America/Chicago:20260424T180000
DTEND;TZID=America/Chicago:20260424T220000
DTSTAMP:20260423T060734
CREATED:20260422T225813Z
LAST-MODIFIED:20260422T225813Z
UID:10003151-1777053600-1777068000@mobilebaynow.com
SUMMARY:Friday Night Karaoke
DESCRIPTION:
URL:https://mobilebaynow.com/event/friday-night-karaoke/
ATTACH;FMTTYPE=image/jpeg:https://mobilebaynow.com/wp-content/uploads/2026/04/Thumbnail-Cozumel-Friday-Night-Karaoke-bNZU1M.jpg
END:VEVENT
BEGIN:VEVENT
DTSTART;TZID=America/Chicago:20260424T193000
DTEND;TZID=America/Chicago:20260424T210000
DTSTAMP:20260423T060734
CREATED:20260422T225814Z
LAST-MODIFIED:20260422T225814Z
UID:10003153-1777059000-1777064400@mobilebaynow.com
SUMMARY:Be Blessed Tour by Mary Ryan Brown
DESCRIPTION:Get ready for a night of belly laughs with southern comedian Mary Ryan Brown at OWA Theater! Drawing from her southern roots\, Mary Ryan delivers a hilarious\, relatable take on life in the South\, lovingly poking fun at the quirks and culture she grew up in. \nMary Ryan already made waves in the comedy world with a Dry Bar Comedy Special\, appearances on Nateland Showcase\, and headlining sold-out shows. She’s being called “a cross between Matt Rife and Leanne Morgan” watch as Mary finds comedy gold in marriage\, motherhood\, and modern southern life\, connecting with audiences who love to laugh hard without crossing the line. \nDon’t miss your chance to laugh till your face hurts at the Be Blessed Tour\, coming to OWA Theater!
URL:https://mobilebaynow.com/event/be-blessed-tour-by-mary-ryan-brown/
ATTACH;FMTTYPE=image/jpeg:https://mobilebaynow.com/wp-content/uploads/2026/04/Thumbnail-Kiley-2-RrRvEm.jpg
END:VEVENT
BEGIN:VEVENT
DTSTART;TZID=America/Chicago:20260425T000000
DTEND;TZID=America/Chicago:20260425T235959
DTSTAMP:20260423T060734
CREATED:20260419T114733Z
LAST-MODIFIED:20260419T114733Z
UID:10003142-1777075200-1777161599@mobilebaynow.com
SUMMARY:Alabama Coastal BirdFest 2026
DESCRIPTION:——\nPowered by addevent.com\nShare your next event with us!
URL:https://mobilebaynow.com/event/alabama-coastal-birdfest-2026-3/
END:VEVENT
BEGIN:VEVENT
DTSTART;TZID=America/Chicago:20260425T073000
DTEND;TZID=America/Chicago:20260425T140000
DTSTAMP:20260423T060734
CREATED:20260422T225814Z
LAST-MODIFIED:20260422T225814Z
UID:10003154-1777102200-1777125600@mobilebaynow.com
SUMMARY:Big Fish 5k & 1 Mile Fun Run
DESCRIPTION:Join us on April 25th at Downtown OWA for the 3rd annual Big Fish 5K & 1-Mile Fun Run\, bringing the community together to support recovery awareness. Whether you’re a seasoned runner or just looking for a fun morning walk\, this event welcomes all ages and fitness levels. \nFor $35\, you can take on the 5K or enjoy the 1-mile Fun Run. After crossing the finish line\, stick around for the awards ceremony and spend some time exploring the shops\, dining\, and entertainment in Downtown OWA. \nGet moving\, give back\, and be part of something meaningful in our community
URL:https://mobilebaynow.com/event/big-fish-5k-1-mile-fun-run/
ATTACH;FMTTYPE=image/jpeg:https://mobilebaynow.com/wp-content/uploads/2026/04/Thumbnail-Big-Fish-5K-ppChp4.jpg
END:VEVENT
BEGIN:VEVENT
DTSTART;TZID=America/Chicago:20260425T100000
DTEND;TZID=America/Chicago:20260425T120000
DTSTAMP:20260423T060734
CREATED:20260413T015414Z
LAST-MODIFIED:20260413T015414Z
UID:10003108-1777111200-1777118400@mobilebaynow.com
SUMMARY:YOGA ON THE LAWN
DESCRIPTION:Start your weekend off with some sun\, fun\, and movement! Ticket includes an all levels one hour yoga class with complimentary cocktail.\n\n\nGrab your  buddies and your yoga mat and meet us on the spacious lawn at Moe’s Original BBQ’s new location for for a 1 hour yoga class followed by a complimentary “Twisted Warrior”\, our signature yoga inspired drink!  Food will be available for purchase afterwards because hey\, we earned it! Invite your friends\, sisters and brothers\, and come get twisted with us!
URL:https://mobilebaynow.com/event/yoga-on-the-lawn/
LOCATION:Moe’s Original BBQ\, 6423 Bayfront Park Drive\, Daphne\, AL\, 36526\, United States
ATTACH;FMTTYPE=image/jpeg:https://mobilebaynow.com/wp-content/uploads/2026/04/db86a2f98187c8c719e0e87d0b5b5c5e.jpg
END:VEVENT
BEGIN:VEVENT
DTSTART;TZID=America/Chicago:20260425T100000
DTEND;TZID=America/Chicago:20260425T200000
DTSTAMP:20260423T060734
CREATED:20260422T225814Z
LAST-MODIFIED:20260422T225814Z
UID:10003155-1777111200-1777147200@mobilebaynow.com
SUMMARY:Tropic Falls – April Saturdays
DESCRIPTION:
URL:https://mobilebaynow.com/event/tropic-falls-april-saturdays/
CATEGORIES:Hours,Tropic Falls Theme Park Hours
ATTACH;FMTTYPE=image/jpeg:https://mobilebaynow.com/wp-content/uploads/2026/04/calendarimage-rPIH12.jpg
END:VEVENT
BEGIN:VEVENT
DTSTART;TZID=America/Chicago:20260425T160000
DTEND;TZID=America/Chicago:20260425T190000
DTSTAMP:20260423T060734
CREATED:20260413T013340Z
LAST-MODIFIED:20260413T013340Z
UID:10003066-1777132800-1777143600@mobilebaynow.com
SUMMARY:The 16th Annual Bald Eagle Bash
DESCRIPTION:
URL:https://mobilebaynow.com/event/the-16th-annual-bald-eagle-bash/
LOCATION:11525 US-98\, 11525 U.S. 98\, Fairhope\, AL\, 36532\, United States
ATTACH;FMTTYPE=image/jpeg:https://mobilebaynow.com/wp-content/uploads/2026/04/d386b8bec476f10baabf6e8dafa72cf2.jpg
END:VEVENT
BEGIN:VEVENT
DTSTART;TZID=America/Chicago:20260425T190000
DTEND;TZID=America/Chicago:20260425T210000
DTSTAMP:20260423T060734
CREATED:20260422T225815Z
LAST-MODIFIED:20260422T225815Z
UID:10003156-1777143600-1777150800@mobilebaynow.com
SUMMARY:Brandon Styles Variety Show
DESCRIPTION:
URL:https://mobilebaynow.com/event/brandon-styles-variety-show/
ATTACH;FMTTYPE=image/jpeg:https://mobilebaynow.com/wp-content/uploads/2026/04/Variety-Show-Website-Square-V2-kDod7h.jpg
END:VEVENT
BEGIN:VEVENT
DTSTART;TZID=America/Chicago:20260426T060000
DTEND;TZID=America/Chicago:20260426T110000
DTSTAMP:20260423T060734
CREATED:20260419T114733Z
LAST-MODIFIED:20260419T114733Z
UID:10003143-1777183200-1777201200@mobilebaynow.com
SUMMARY:Alabama Coastal BirdFest 2026
DESCRIPTION:——\nPowered by addevent.com\nShare your next event with us!
URL:https://mobilebaynow.com/event/alabama-coastal-birdfest-2026-4/
END:VEVENT
BEGIN:VEVENT
DTSTART;TZID=America/Chicago:20260426T100000
DTEND;TZID=America/Chicago:20260426T140000
DTSTAMP:20260423T060734
CREATED:20260413T015454Z
LAST-MODIFIED:20260413T015454Z
UID:10003109-1777197600-1777212000@mobilebaynow.com
SUMMARY:The Resest: A Yoga Social Experience
DESCRIPTION:Move. Connect. Stay a while.\n\n\nThe Reset is a curated yoga and wellness experience held at the Hallett-Irby House. This is not a typical class format. It’s an open\, come-and-flow environment where you can move between offerings\, stay awhile\, and engage at your own pace. \n \nThroughout the day\, you’ll have access to 3 different experiences: \n🌀Trap Yoga: Core Power Flow \n🌀R&B Yoga: Slow Flow & Deep Stretch \n🌀Restorative Yoga + Sound Bath \n \nThere will also be: \n🌀Light refreshments \n🌀Conversation cards to spark connection \n🌀A relaxed indoor/outdoor atmosphere \n \nCome solo or with friends.  \nStay for a class or stay for the experience.
URL:https://mobilebaynow.com/event/the-resest-a-yoga-social-experience/
LOCATION:The Hallett-Irby House\, 503 Government Street\, Mobile\, AL\, 36602\, United States
ATTACH;FMTTYPE=image/jpeg:https://mobilebaynow.com/wp-content/uploads/2026/04/25e0e9790d5b7e81d1bf56fe988c8e47.jpg
END:VEVENT
BEGIN:VEVENT
DTSTART;TZID=America/Chicago:20260426T100000
DTEND;TZID=America/Chicago:20260426T180000
DTSTAMP:20260423T060734
CREATED:20260422T225816Z
LAST-MODIFIED:20260422T225816Z
UID:10003157-1777197600-1777226400@mobilebaynow.com
SUMMARY:Tropic Falls – April Sundays
DESCRIPTION:
URL:https://mobilebaynow.com/event/tropic-falls-april-sundays/
CATEGORIES:Hours
ATTACH;FMTTYPE=image/jpeg:https://mobilebaynow.com/wp-content/uploads/2026/04/calendarimage-rPIH12.jpg
END:VEVENT
BEGIN:VEVENT
DTSTART;TZID=America/Chicago:20260426T130000
DTEND;TZID=America/Chicago:20260426T170000
DTSTAMP:20260423T060734
CREATED:20260422T225816Z
LAST-MODIFIED:20260422T225816Z
UID:10003158-1777208400-1777222800@mobilebaynow.com
SUMMARY:Brunch & Rally
DESCRIPTION:
URL:https://mobilebaynow.com/event/brunch-rally/
ATTACH;FMTTYPE=image/jpeg:https://mobilebaynow.com/wp-content/uploads/2026/04/Thumbnail-Pickleball-Brunch-Rally-TGetGY.jpg
END:VEVENT
END:VCALENDAR