BEGIN:VCALENDAR
VERSION:2.0
PRODID:-//Mobile Bay Now - ECPv6.15.20//NONSGML v1.0//EN
CALSCALE:GREGORIAN
METHOD:PUBLISH
X-ORIGINAL-URL:https://mobilebaynow.com
X-WR-CALDESC:Events for Mobile Bay Now
REFRESH-INTERVAL;VALUE=DURATION:PT1H
X-Robots-Tag:noindex
X-PUBLISHED-TTL:PT1H
BEGIN:VTIMEZONE
TZID:America/Chicago
BEGIN:DAYLIGHT
TZOFFSETFROM:-0600
TZOFFSETTO:-0500
TZNAME:CDT
DTSTART:20250309T080000
END:DAYLIGHT
BEGIN:STANDARD
TZOFFSETFROM:-0500
TZOFFSETTO:-0600
TZNAME:CST
DTSTART:20251102T070000
END:STANDARD
BEGIN:DAYLIGHT
TZOFFSETFROM:-0600
TZOFFSETTO:-0500
TZNAME:CDT
DTSTART:20260308T080000
END:DAYLIGHT
BEGIN:STANDARD
TZOFFSETFROM:-0500
TZOFFSETTO:-0600
TZNAME:CST
DTSTART:20261101T070000
END:STANDARD
BEGIN:DAYLIGHT
TZOFFSETFROM:-0600
TZOFFSETTO:-0500
TZNAME:CDT
DTSTART:20270314T080000
END:DAYLIGHT
BEGIN:STANDARD
TZOFFSETFROM:-0500
TZOFFSETTO:-0600
TZNAME:CST
DTSTART:20271107T070000
END:STANDARD
END:VTIMEZONE
BEGIN:VEVENT
DTSTART;TZID=America/Chicago:20260503T130000
DTEND;TZID=America/Chicago:20260503T170000
DTSTAMP:20260423T013604
CREATED:20260422T225824Z
LAST-MODIFIED:20260422T225824Z
UID:10003176-1777813200-1777827600@mobilebaynow.com
SUMMARY:Brunch & Rally
DESCRIPTION:
URL:https://mobilebaynow.com/event/brunch-rally-2/
LOCATION:AL
ATTACH;FMTTYPE=image/jpeg:https://mobilebaynow.com/wp-content/uploads/2026/04/Thumbnail-Pickleball-Brunch-Rally-TGetGY.jpg
END:VEVENT
BEGIN:VEVENT
DTSTART;TZID=America/Chicago:20260503T130000
DTEND;TZID=America/Chicago:20260503T220000
DTSTAMP:20260423T013604
CREATED:20260422T225958Z
LAST-MODIFIED:20260422T225958Z
UID:10003215-1777813200-1777845600@mobilebaynow.com
SUMMARY:Perdido Key Music Festival
DESCRIPTION:The Perdido Key Music Festival started as a small backyard songwriter jam on Perdido Key and has grown into one of the Gulf Coast’s most exciting music gatherings. Inspired by the legendary Frank Brown International Songwriters’ Festival\, founder Mark A. McBride built the event around bringing incredible songwriters together by the beach for unforgettable performances. In 2026\, the festival moves to the iconic Flora-Bama\, delivering great music\, beachside vibes\, and a lineup of talented artists. Even better\, every ticket supports the Frank Brown Foundation for Music and Songwriters’ Festival and the Gulf Coast Musicians Medical Fund.
URL:https://mobilebaynow.com/event/perdido-key-music-festival/
LOCATION:Flora-Bama Lounge & Package\, 17401 Perdido Key Dr\, Pensacola\, FL\, United States
ATTACH;FMTTYPE=image/jpeg:https://mobilebaynow.com/wp-content/uploads/2026/04/649641932_1354989463326280_1545105349090882815_n-iI7r3p.jpg
GEO:30.282254;-87.515744
X-APPLE-STRUCTURED-LOCATION;VALUE=URI;X-ADDRESS=Flora-Bama Lounge & Package 17401 Perdido Key Dr Pensacola FL United States;X-APPLE-RADIUS=500;X-TITLE=17401 Perdido Key Dr:geo:-87.515744,30.282254
END:VEVENT
BEGIN:VEVENT
DTSTART;TZID=America/Chicago:20260504T130000
DTEND;TZID=America/Chicago:20260504T160000
DTSTAMP:20260423T013604
CREATED:20260422T230001Z
LAST-MODIFIED:20260422T230001Z
UID:10003216-1777899600-1777910400@mobilebaynow.com
SUMMARY:Free Bingo With Rhonda Hart
DESCRIPTION:FREE TO PLAY! All ages. Prizes awarded. Monday-Friday 1pm-4pm.
URL:https://mobilebaynow.com/event/free-bingo-with-rhonda-hart-6/
LOCATION:Flora-Bama Lounge & Package\, 17401 Perdido Key Dr\, Pensacola\, FL\, United States
ATTACH;FMTTYPE=image/jpeg:https://mobilebaynow.com/wp-content/uploads/2026/04/658990578_1372692041556022_1941512919767638974_n-PBioVo.jpg
GEO:30.282254;-87.515744
X-APPLE-STRUCTURED-LOCATION;VALUE=URI;X-ADDRESS=Flora-Bama Lounge & Package 17401 Perdido Key Dr Pensacola FL United States;X-APPLE-RADIUS=500;X-TITLE=17401 Perdido Key Dr:geo:-87.515744,30.282254
END:VEVENT
BEGIN:VEVENT
DTSTART;TZID=America/Chicago:20260504T130000
DTEND;TZID=America/Chicago:20260504T220000
DTSTAMP:20260423T013604
CREATED:20260422T230001Z
LAST-MODIFIED:20260422T230001Z
UID:10003217-1777899600-1777932000@mobilebaynow.com
SUMMARY:Perdido Key Music Festival
DESCRIPTION:The Perdido Key Music Festival started as a small backyard songwriter jam on Perdido Key and has grown into one of the Gulf Coast’s most exciting music gatherings. Inspired by the legendary Frank Brown International Songwriters’ Festival\, founder Mark A. McBride built the event around bringing incredible songwriters together by the beach for unforgettable performances. In 2026\, the festival moves to the iconic Flora-Bama\, delivering great music\, beachside vibes\, and a lineup of talented artists. Even better\, every ticket supports the Frank Brown Foundation for Music and Songwriters’ Festival and the Gulf Coast Musicians Medical Fund.
URL:https://mobilebaynow.com/event/perdido-key-music-festival-2/
LOCATION:Flora-Bama Lounge & Package\, 17401 Perdido Key Dr\, Pensacola\, FL\, United States
ATTACH;FMTTYPE=image/jpeg:https://mobilebaynow.com/wp-content/uploads/2026/04/649641932_1354989463326280_1545105349090882815_n-iI7r3p.jpg
GEO:30.282254;-87.515744
X-APPLE-STRUCTURED-LOCATION;VALUE=URI;X-ADDRESS=Flora-Bama Lounge & Package 17401 Perdido Key Dr Pensacola FL United States;X-APPLE-RADIUS=500;X-TITLE=17401 Perdido Key Dr:geo:-87.515744,30.282254
END:VEVENT
BEGIN:VEVENT
DTSTART;TZID=America/Chicago:20260505T130000
DTEND;TZID=America/Chicago:20260505T160000
DTSTAMP:20260423T013604
CREATED:20260422T230001Z
LAST-MODIFIED:20260422T230001Z
UID:10003218-1777986000-1777996800@mobilebaynow.com
SUMMARY:Free Bingo With Rhonda Hart
DESCRIPTION:FREE TO PLAY! All ages. Prizes awarded. Monday-Friday 1pm-4pm.
URL:https://mobilebaynow.com/event/free-bingo-with-rhonda-hart-7/
LOCATION:Flora-Bama Lounge & Package\, 17401 Perdido Key Dr\, Pensacola\, FL\, United States
ATTACH;FMTTYPE=image/jpeg:https://mobilebaynow.com/wp-content/uploads/2026/04/658990578_1372692041556022_1941512919767638974_n-PBioVo.jpg
GEO:30.282254;-87.515744
X-APPLE-STRUCTURED-LOCATION;VALUE=URI;X-ADDRESS=Flora-Bama Lounge & Package 17401 Perdido Key Dr Pensacola FL United States;X-APPLE-RADIUS=500;X-TITLE=17401 Perdido Key Dr:geo:-87.515744,30.282254
END:VEVENT
BEGIN:VEVENT
DTSTART;TZID=America/Chicago:20260505T180000
DTEND;TZID=America/Chicago:20260505T200000
DTSTAMP:20260423T013604
CREATED:20260422T225825Z
LAST-MODIFIED:20260422T225825Z
UID:10003177-1778004000-1778011200@mobilebaynow.com
SUMMARY:Tacos\, Tequila\, & Trivia
DESCRIPTION:
URL:https://mobilebaynow.com/event/tacos-tequila-trivia-2/
LOCATION:AL
ATTACH;FMTTYPE=image/jpeg:https://mobilebaynow.com/wp-content/uploads/2026/04/Tacos-Tequila-and-Trivia-Thumbnail-FINAL-pjL7en.jpg
END:VEVENT
BEGIN:VEVENT
DTSTART;TZID=America/Chicago:20260505T190000
DTEND;TZID=America/Chicago:20260505T210000
DTSTAMP:20260423T013604
CREATED:20260422T225825Z
LAST-MODIFIED:20260422T225825Z
UID:10003178-1778007600-1778014800@mobilebaynow.com
SUMMARY:Brandon Styles Variety Show
DESCRIPTION:
URL:https://mobilebaynow.com/event/brandon-styles-variety-show-4/
LOCATION:AL
ATTACH;FMTTYPE=image/jpeg:https://mobilebaynow.com/wp-content/uploads/2026/04/Variety-Show-Website-Square-V2-kDod7h.jpg
END:VEVENT
BEGIN:VEVENT
DTSTART;TZID=America/Chicago:20260505T190000
DTEND;TZID=America/Chicago:20260505T220000
DTSTAMP:20260423T013604
CREATED:20260413T013706Z
LAST-MODIFIED:20260413T013706Z
UID:10003072-1778007600-1778018400@mobilebaynow.com
SUMMARY:Comedy Open Mic at Oyster City Brewing Company
DESCRIPTION:Come to Oyster City Brewing Company for a night of laughs at our Open Mic Comedy event!
URL:https://mobilebaynow.com/event/comedy-open-mic-at-oyster-city-brewing-company-4/
LOCATION:Oyster City Brewing Company\, 600 Government Street\, Mobile\, AL\, 36602\, United States
ATTACH;FMTTYPE=image/jpeg:https://mobilebaynow.com/wp-content/uploads/2026/04/4fc342d3934a3b63ecfb1a48d9d50b8d.jpg
END:VEVENT
BEGIN:VEVENT
DTSTART;TZID=America/Chicago:20260506T130000
DTEND;TZID=America/Chicago:20260506T160000
DTSTAMP:20260423T013604
CREATED:20260422T230001Z
LAST-MODIFIED:20260422T230001Z
UID:10003219-1778072400-1778083200@mobilebaynow.com
SUMMARY:Free Bingo With Rhonda Hart
DESCRIPTION:FREE TO PLAY! All ages. Prizes awarded. Monday-Friday 1pm-4pm.
URL:https://mobilebaynow.com/event/free-bingo-with-rhonda-hart-8/
LOCATION:Flora-Bama Lounge & Package\, 17401 Perdido Key Dr\, Pensacola\, FL\, United States
ATTACH;FMTTYPE=image/jpeg:https://mobilebaynow.com/wp-content/uploads/2026/04/658990578_1372692041556022_1941512919767638974_n-PBioVo.jpg
GEO:30.282254;-87.515744
X-APPLE-STRUCTURED-LOCATION;VALUE=URI;X-ADDRESS=Flora-Bama Lounge & Package 17401 Perdido Key Dr Pensacola FL United States;X-APPLE-RADIUS=500;X-TITLE=17401 Perdido Key Dr:geo:-87.515744,30.282254
END:VEVENT
BEGIN:VEVENT
DTSTART;TZID=America/Chicago:20260506T170000
DTEND;TZID=America/Chicago:20260506T183000
DTSTAMP:20260423T013604
CREATED:20260422T230539Z
LAST-MODIFIED:20260422T230539Z
UID:10003224-1778086800-1778092200@mobilebaynow.com
SUMMARY:Orange Beach Town Hall meeting
DESCRIPTION:https://al-orangebeach.civicplus.com/calendar.aspx?EID=8740
URL:https://mobilebaynow.com/event/orange-beach-town-hall-meeting/
LOCATION:<p>Orange Beach Performing Arts Center </p> – 23908 Canal Road  Orange Beach AL 36561
END:VEVENT
BEGIN:VEVENT
DTSTART;TZID=America/Chicago:20260506T170000
DTEND;TZID=America/Chicago:20260506T210000
DTSTAMP:20260423T013604
CREATED:20260422T225825Z
LAST-MODIFIED:20260422T225825Z
UID:10003179-1778086800-1778101200@mobilebaynow.com
SUMMARY:Game Night at Waffles R Wild
DESCRIPTION:Game night plans? We’ve got your Wednesday covered! Join Game Nights at Waffles R Wild from 5:00 – 9:00 pm for fun for all ages. Bring your favorite game or jump into one of the games provided while you enjoy great food and a relaxed atmosphere. \nWhether it’s family night\, a casual night with friends\, or a fun way to break up the week\, Waffles R Wild is the place to play\, laugh\, and stay awhile!
URL:https://mobilebaynow.com/event/game-night-at-waffles-r-wild-3/
LOCATION:AL
ATTACH;FMTTYPE=image/jpeg:https://mobilebaynow.com/wp-content/uploads/2026/04/WRW_Game-Night_Thumbnail-9MRJYm.jpg
END:VEVENT
BEGIN:VEVENT
DTSTART;TZID=America/Chicago:20260506T180000
DTEND;TZID=America/Chicago:20260506T210000
DTSTAMP:20260423T013604
CREATED:20260422T225826Z
LAST-MODIFIED:20260422T225826Z
UID:10003180-1778090400-1778101200@mobilebaynow.com
SUMMARY:Poker Night at Waffles R Wild
DESCRIPTION:
URL:https://mobilebaynow.com/event/poker-night-at-waffles-r-wild-5/
LOCATION:AL
ATTACH;FMTTYPE=image/jpeg:https://mobilebaynow.com/wp-content/uploads/2026/04/Thumbnail-Waffles-R-Wild-Poker-Night-3U4NLd.jpg
END:VEVENT
BEGIN:VEVENT
DTSTART;TZID=America/Chicago:20260507T130000
DTEND;TZID=America/Chicago:20260507T160000
DTSTAMP:20260423T013604
CREATED:20260422T230002Z
LAST-MODIFIED:20260422T230002Z
UID:10003220-1778158800-1778169600@mobilebaynow.com
SUMMARY:Free Bingo With Rhonda Hart
DESCRIPTION:FREE TO PLAY! All ages. Prizes awarded. Monday-Friday 1pm-4pm.
URL:https://mobilebaynow.com/event/free-bingo-with-rhonda-hart-9/
LOCATION:Flora-Bama Lounge & Package\, 17401 Perdido Key Dr\, Pensacola\, FL\, United States
ATTACH;FMTTYPE=image/jpeg:https://mobilebaynow.com/wp-content/uploads/2026/04/658990578_1372692041556022_1941512919767638974_n-PBioVo.jpg
GEO:30.282254;-87.515744
X-APPLE-STRUCTURED-LOCATION;VALUE=URI;X-ADDRESS=Flora-Bama Lounge & Package 17401 Perdido Key Dr Pensacola FL United States;X-APPLE-RADIUS=500;X-TITLE=17401 Perdido Key Dr:geo:-87.515744,30.282254
END:VEVENT
BEGIN:VEVENT
DTSTART;TZID=America/Chicago:20260507T180000
DTEND;TZID=America/Chicago:20260507T220000
DTSTAMP:20260423T013604
CREATED:20260422T225826Z
LAST-MODIFIED:20260422T225826Z
UID:10003181-1778176800-1778191200@mobilebaynow.com
SUMMARY:Groovy Goat Thursday Night Karaoke
DESCRIPTION:Looking for a mid-week pick-me-up? Head to Groovy Goat every Thursday from 6:00 – 10:00 pm for Karaoke Night! Pick your song\, grab the mic\, and have a great time with friends.
URL:https://mobilebaynow.com/event/groovy-goat-thursday-night-karaoke-3/
LOCATION:AL
ATTACH;FMTTYPE=image/jpeg:https://mobilebaynow.com/wp-content/uploads/2026/04/Thumbnail-Kiley-4-bHifJQ.jpg
END:VEVENT
BEGIN:VEVENT
DTSTART;TZID=America/Chicago:20260508T130000
DTEND;TZID=America/Chicago:20260508T160000
DTSTAMP:20260423T013604
CREATED:20260422T230002Z
LAST-MODIFIED:20260422T230002Z
UID:10003221-1778245200-1778256000@mobilebaynow.com
SUMMARY:Free Bingo With Rhonda Hart
DESCRIPTION:FREE TO PLAY! All ages. Prizes awarded. Monday-Friday 1pm-4pm.
URL:https://mobilebaynow.com/event/free-bingo-with-rhonda-hart-10/
LOCATION:Flora-Bama Lounge & Package\, 17401 Perdido Key Dr\, Pensacola\, FL\, United States
ATTACH;FMTTYPE=image/jpeg:https://mobilebaynow.com/wp-content/uploads/2026/04/658990578_1372692041556022_1941512919767638974_n-PBioVo.jpg
GEO:30.282254;-87.515744
X-APPLE-STRUCTURED-LOCATION;VALUE=URI;X-ADDRESS=Flora-Bama Lounge & Package 17401 Perdido Key Dr Pensacola FL United States;X-APPLE-RADIUS=500;X-TITLE=17401 Perdido Key Dr:geo:-87.515744,30.282254
END:VEVENT
BEGIN:VEVENT
DTSTART;TZID=America/Chicago:20260508T180000
DTEND;TZID=America/Chicago:20260508T210000
DTSTAMP:20260423T013605
CREATED:20260422T225826Z
LAST-MODIFIED:20260422T225826Z
UID:10003183-1778263200-1778274000@mobilebaynow.com
SUMMARY:Poker Night at Waffles R Wild
DESCRIPTION:
URL:https://mobilebaynow.com/event/poker-night-at-waffles-r-wild-6/
LOCATION:AL
ATTACH;FMTTYPE=image/jpeg:https://mobilebaynow.com/wp-content/uploads/2026/04/Thumbnail-Waffles-R-Wild-Poker-Night-3U4NLd.jpg
END:VEVENT
BEGIN:VEVENT
DTSTART;TZID=America/Chicago:20260508T180000
DTEND;TZID=America/Chicago:20260508T220000
DTSTAMP:20260423T013605
CREATED:20260422T225826Z
LAST-MODIFIED:20260422T225826Z
UID:10003182-1778263200-1778277600@mobilebaynow.com
SUMMARY:Friday Night Karaoke
DESCRIPTION:
URL:https://mobilebaynow.com/event/friday-night-karaoke-3/
LOCATION:AL
ATTACH;FMTTYPE=image/jpeg:https://mobilebaynow.com/wp-content/uploads/2026/04/Thumbnail-Cozumel-Friday-Night-Karaoke-bNZU1M.jpg
END:VEVENT
BEGIN:VEVENT
DTSTART;TZID=America/Chicago:20260508T190000
DTEND;TZID=America/Chicago:20260508T203000
DTSTAMP:20260423T013605
CREATED:20260422T225827Z
LAST-MODIFIED:20260422T225827Z
UID:10003184-1778266800-1778272200@mobilebaynow.com
SUMMARY:White Tie Rock Ensemble Presents: Bohemian Stardust
DESCRIPTION:White Tie Rock Ensemble Presents: Bohemian Stardust arrives at OWA Theater on May 8th and 9th\, celebrating the music of Queen and David Bowie through a powerful symphonic rock performance. Known for recreating classic rock with the precision and detail of a symphony\, the White Tie Rock Ensemble brings a fresh dimension to some of the most influential songs in music history. \nBohemian Stardust delivers two unforgettable nights that honor legendary catalogs with bold sound and striking presentation\, only at OWA Theater!
URL:https://mobilebaynow.com/event/white-tie-rock-ensemble-presents-bohemian-stardust/
LOCATION:AL
ATTACH;FMTTYPE=image/jpeg:https://mobilebaynow.com/wp-content/uploads/2026/04/WTRE-Bohemian-Stardust_Web_Thumbnail-1-w2fWCw.jpg
END:VEVENT
BEGIN:VEVENT
DTSTART;TZID=America/Chicago:20260509T100000
DTEND;TZID=America/Chicago:20260509T210000
DTSTAMP:20260423T013605
CREATED:20260422T225828Z
LAST-MODIFIED:20260422T225828Z
UID:10003185-1778320800-1778360400@mobilebaynow.com
SUMMARY:Tropic Falls – May Saturdays
DESCRIPTION:
URL:https://mobilebaynow.com/event/tropic-falls-may-saturdays-2/
LOCATION:AL
CATEGORIES:Hours,Tropic Falls Theme Park Hours
ATTACH;FMTTYPE=image/jpeg:https://mobilebaynow.com/wp-content/uploads/2026/04/calendarimage-rPIH12.jpg
END:VEVENT
BEGIN:VEVENT
DTSTART;TZID=America/Chicago:20260509T190000
DTEND;TZID=America/Chicago:20260509T203000
DTSTAMP:20260423T013605
CREATED:20260422T225829Z
LAST-MODIFIED:20260422T225829Z
UID:10003187-1778353200-1778358600@mobilebaynow.com
SUMMARY:White Tie Rock Ensemble Presents: Bohemian Stardust
DESCRIPTION:White Tie Rock Ensemble Presents: Bohemian Stardust arrives at OWA Theater on May 8th and 9th\, celebrating the music of Queen and David Bowie through a powerful symphonic rock performance. Known for recreating classic rock with the precision and detail of a symphony\, the White Tie Rock Ensemble brings a fresh dimension to some of the most influential songs in music history. \nBohemian Stardust delivers two unforgettable nights that honor legendary catalogs with bold sound and striking presentation\, only at OWA Theater!
URL:https://mobilebaynow.com/event/white-tie-rock-ensemble-presents-bohemian-stardust-2/
LOCATION:AL
ATTACH;FMTTYPE=image/jpeg:https://mobilebaynow.com/wp-content/uploads/2026/04/WTRE-Bohemian-Stardust_Web_Thumbnail-1-w2fWCw.jpg
END:VEVENT
BEGIN:VEVENT
DTSTART;TZID=America/Chicago:20260509T190000
DTEND;TZID=America/Chicago:20260509T210000
DTSTAMP:20260423T013605
CREATED:20260422T225828Z
LAST-MODIFIED:20260422T225828Z
UID:10003186-1778353200-1778360400@mobilebaynow.com
SUMMARY:Brandon Styles Variety Show
DESCRIPTION:
URL:https://mobilebaynow.com/event/brandon-styles-variety-show-5/
LOCATION:AL
ATTACH;FMTTYPE=image/jpeg:https://mobilebaynow.com/wp-content/uploads/2026/04/Variety-Show-Website-Square-V2-kDod7h.jpg
END:VEVENT
BEGIN:VEVENT
DTSTART;TZID=America/Chicago:20260510T100000
DTEND;TZID=America/Chicago:20260510T190000
DTSTAMP:20260423T013605
CREATED:20260422T225829Z
LAST-MODIFIED:20260422T225829Z
UID:10003188-1778407200-1778439600@mobilebaynow.com
SUMMARY:Tropic Falls – May Sundays
DESCRIPTION:
URL:https://mobilebaynow.com/event/tropic-falls-may-sundays-2/
LOCATION:AL
CATEGORIES:Hours,Tropic Falls Theme Park Hours
ATTACH;FMTTYPE=image/jpeg:https://mobilebaynow.com/wp-content/uploads/2026/04/calendarimage-rPIH12.jpg
END:VEVENT
BEGIN:VEVENT
DTSTART;TZID=America/Chicago:20260510T130000
DTEND;TZID=America/Chicago:20260510T170000
DTSTAMP:20260423T013605
CREATED:20260422T225829Z
LAST-MODIFIED:20260422T225829Z
UID:10003189-1778418000-1778432400@mobilebaynow.com
SUMMARY:Brunch & Rally
DESCRIPTION:
URL:https://mobilebaynow.com/event/brunch-rally-3/
LOCATION:AL
ATTACH;FMTTYPE=image/jpeg:https://mobilebaynow.com/wp-content/uploads/2026/04/Thumbnail-Pickleball-Brunch-Rally-TGetGY.jpg
END:VEVENT
BEGIN:VEVENT
DTSTART;TZID=America/Chicago:20260512T180000
DTEND;TZID=America/Chicago:20260512T200000
DTSTAMP:20260423T013605
CREATED:20260422T225829Z
LAST-MODIFIED:20260422T225829Z
UID:10003190-1778608800-1778616000@mobilebaynow.com
SUMMARY:Tacos\, Tequila\, & Trivia
DESCRIPTION:
URL:https://mobilebaynow.com/event/tacos-tequila-trivia-3/
LOCATION:AL
ATTACH;FMTTYPE=image/jpeg:https://mobilebaynow.com/wp-content/uploads/2026/04/Tacos-Tequila-and-Trivia-Thumbnail-FINAL-pjL7en.jpg
END:VEVENT
BEGIN:VEVENT
DTSTART;TZID=America/Chicago:20260512T190000
DTEND;TZID=America/Chicago:20260512T210000
DTSTAMP:20260423T013605
CREATED:20260422T225830Z
LAST-MODIFIED:20260422T225830Z
UID:10003191-1778612400-1778619600@mobilebaynow.com
SUMMARY:Brandon Styles Variety Show
DESCRIPTION:
URL:https://mobilebaynow.com/event/brandon-styles-variety-show-6/
LOCATION:AL
ATTACH;FMTTYPE=image/jpeg:https://mobilebaynow.com/wp-content/uploads/2026/04/Variety-Show-Website-Square-V2-kDod7h.jpg
END:VEVENT
BEGIN:VEVENT
DTSTART;TZID=America/Chicago:20260512T190000
DTEND;TZID=America/Chicago:20260512T220000
DTSTAMP:20260423T013605
CREATED:20260413T013706Z
LAST-MODIFIED:20260413T013706Z
UID:10003073-1778612400-1778623200@mobilebaynow.com
SUMMARY:Comedy Open Mic at Oyster City Brewing Company
DESCRIPTION:Come to Oyster City Brewing Company for a night of laughs at our Open Mic Comedy event!
URL:https://mobilebaynow.com/event/comedy-open-mic-at-oyster-city-brewing-company-5/
LOCATION:Oyster City Brewing Company\, 600 Government Street\, Mobile\, AL\, 36602\, United States
ATTACH;FMTTYPE=image/jpeg:https://mobilebaynow.com/wp-content/uploads/2026/04/4fc342d3934a3b63ecfb1a48d9d50b8d.jpg
END:VEVENT
BEGIN:VEVENT
DTSTART;TZID=America/Chicago:20260513T170000
DTEND;TZID=America/Chicago:20260513T210000
DTSTAMP:20260423T013605
CREATED:20260422T225830Z
LAST-MODIFIED:20260422T225830Z
UID:10003192-1778691600-1778706000@mobilebaynow.com
SUMMARY:Game Night at Waffles R Wild
DESCRIPTION:Game night plans? We’ve got your Wednesday covered! Join Game Nights at Waffles R Wild from 5:00 – 9:00 pm for fun for all ages. Bring your favorite game or jump into one of the games provided while you enjoy great food and a relaxed atmosphere. \nWhether it’s family night\, a casual night with friends\, or a fun way to break up the week\, Waffles R Wild is the place to play\, laugh\, and stay awhile!
URL:https://mobilebaynow.com/event/game-night-at-waffles-r-wild-4/
LOCATION:AL
ATTACH;FMTTYPE=image/jpeg:https://mobilebaynow.com/wp-content/uploads/2026/04/WRW_Game-Night_Thumbnail-9MRJYm.jpg
END:VEVENT
BEGIN:VEVENT
DTSTART;TZID=America/Chicago:20260513T180000
DTEND;TZID=America/Chicago:20260513T210000
DTSTAMP:20260423T013605
CREATED:20260422T225830Z
LAST-MODIFIED:20260422T225830Z
UID:10003193-1778695200-1778706000@mobilebaynow.com
SUMMARY:Poker Night at Waffles R Wild
DESCRIPTION:
URL:https://mobilebaynow.com/event/poker-night-at-waffles-r-wild-7/
LOCATION:AL
ATTACH;FMTTYPE=image/jpeg:https://mobilebaynow.com/wp-content/uploads/2026/04/Thumbnail-Waffles-R-Wild-Poker-Night-3U4NLd.jpg
END:VEVENT
BEGIN:VEVENT
DTSTART;TZID=America/Chicago:20260514T180000
DTEND;TZID=America/Chicago:20260514T220000
DTSTAMP:20260423T013605
CREATED:20260422T225832Z
LAST-MODIFIED:20260422T225832Z
UID:10003194-1778781600-1778796000@mobilebaynow.com
SUMMARY:Groovy Goat Thursday Night Karaoke
DESCRIPTION:Looking for a mid-week pick-me-up? Head to Groovy Goat every Thursday from 6:00 – 10:00 pm for Karaoke Night! Pick your song\, grab the mic\, and have a great time with friends.
URL:https://mobilebaynow.com/event/groovy-goat-thursday-night-karaoke-4/
LOCATION:AL
ATTACH;FMTTYPE=image/jpeg:https://mobilebaynow.com/wp-content/uploads/2026/04/Thumbnail-Kiley-4-bHifJQ.jpg
END:VEVENT
BEGIN:VEVENT
DTSTART;TZID=America/Chicago:20260515T180000
DTEND;TZID=America/Chicago:20260515T210000
DTSTAMP:20260423T013605
CREATED:20260422T225833Z
LAST-MODIFIED:20260422T225833Z
UID:10003196-1778868000-1778878800@mobilebaynow.com
SUMMARY:Poker Night at Waffles R Wild
DESCRIPTION:
URL:https://mobilebaynow.com/event/poker-night-at-waffles-r-wild-8/
LOCATION:AL
ATTACH;FMTTYPE=image/jpeg:https://mobilebaynow.com/wp-content/uploads/2026/04/Thumbnail-Waffles-R-Wild-Poker-Night-3U4NLd.jpg
END:VEVENT
END:VCALENDAR