BEGIN:VCALENDAR
VERSION:2.0
PRODID:-//Mobile Bay Now - ECPv6.15.20//NONSGML v1.0//EN
CALSCALE:GREGORIAN
METHOD:PUBLISH
X-ORIGINAL-URL:https://mobilebaynow.com
X-WR-CALDESC:Events for Mobile Bay Now
REFRESH-INTERVAL;VALUE=DURATION:PT1H
X-Robots-Tag:noindex
X-PUBLISHED-TTL:PT1H
BEGIN:VTIMEZONE
TZID:America/Chicago
BEGIN:DAYLIGHT
TZOFFSETFROM:-0600
TZOFFSETTO:-0500
TZNAME:CDT
DTSTART:20240310T080000
END:DAYLIGHT
BEGIN:STANDARD
TZOFFSETFROM:-0500
TZOFFSETTO:-0600
TZNAME:CST
DTSTART:20241103T070000
END:STANDARD
BEGIN:DAYLIGHT
TZOFFSETFROM:-0600
TZOFFSETTO:-0500
TZNAME:CDT
DTSTART:20250309T080000
END:DAYLIGHT
BEGIN:STANDARD
TZOFFSETFROM:-0500
TZOFFSETTO:-0600
TZNAME:CST
DTSTART:20251102T070000
END:STANDARD
BEGIN:DAYLIGHT
TZOFFSETFROM:-0600
TZOFFSETTO:-0500
TZNAME:CDT
DTSTART:20260308T080000
END:DAYLIGHT
BEGIN:STANDARD
TZOFFSETFROM:-0500
TZOFFSETTO:-0600
TZNAME:CST
DTSTART:20261101T070000
END:STANDARD
END:VTIMEZONE
BEGIN:VEVENT
DTSTART;TZID=America/Chicago:20250405T093000
DTEND;TZID=America/Chicago:20250405T140000
DTSTAMP:20260420T034258
CREATED:20250331T160459Z
LAST-MODIFIED:20250331T160500Z
UID:10002019-1743845400-1743861600@mobilebaynow.com
SUMMARY:Easter in Wonderland
DESCRIPTION:Families are invited to experience a whimsical celebration featuring illusions and STEM activities inspired by Disney’s Alice in Wonderland. The event will kick off with a hunt for 10\,000 prize-filled eggs\, followed by a series of STEAM adventures exploring the science behind illusions\, the brain and senses\, chemistry\, and more. \n\n\n\nAttendees will journey through “Wonderland” with interactive activities\, including magic card tricks\, STEM challenges with the Red Queen\, a color-changing “chemistry clock” experiment with the White Rabbit\, and a liquid nitrogen demonstration that shatters painted roses. \n\n\n\nAdditionally\, Animal Tales will return with a collection of fascinating creatures\, offering an up-close and personal presentation to educate and entertain guests.
URL:https://mobilebaynow.com/event/easter-in-wonderland/
LOCATION:Exploreum Science Center\, 65 Government St.\, Mobile\, AL\, 36602
CATEGORIES:Most Popular
ATTACH;FMTTYPE=image/png:https://mobilebaynow.com/wp-content/uploads/2025/03/IMG_3766.png
END:VEVENT
BEGIN:VEVENT
DTSTART;TZID=America/Chicago:20250405T133000
DTEND;TZID=America/Chicago:20250405T153000
DTSTAMP:20260420T034258
CREATED:20250331T164242Z
LAST-MODIFIED:20250331T164243Z
UID:10002026-1743859800-1743867000@mobilebaynow.com
SUMMARY:CLOTILDA BOAT TOURS-APRIL
DESCRIPTION:A guided journey to the resting place of the Clotilda\, the last known ship to bring enslaved Africans to America\, will take place on Saturday\, April 5\, 2025\, from 1:30 to 3:30 p.m.\, departing from the Mobile Convention Center. \n\n\n\nLocated in the waters of the Mobile River\, north of the city\, the Clotilda was rediscovered in May 2019. Africatown Experience Givers will lead the tour\, sharing the powerful story of the ship’s fateful voyage and the people who were brought aboard.
URL:https://mobilebaynow.com/event/clotilda-boat-tours-april/
LOCATION:Mobile Convention Center\, 1 S Water St\, Mobile\, AL\, 36602
CATEGORIES:Most Popular
END:VEVENT
BEGIN:VEVENT
DTSTART;TZID=America/Chicago:20250405T193000
DTEND;TZID=America/Chicago:20250405T210000
DTSTAMP:20260420T034258
CREATED:20250331T161449Z
LAST-MODIFIED:20250331T161451Z
UID:10002020-1743881400-1743886800@mobilebaynow.com
SUMMARY:Dad Company Improv: The Dads are Back in Town\, Comedy Show
DESCRIPTION:After seven months on the road\, Dad Company is returning to the stage in Mobile\, Alabama for a highly anticipated homecoming performance. The improv group will take the stage at the Arlene Mitchell Theatre on the campus of Spring Hill College on Saturday\, April 5 at 7:30 p.m. \n\n\n\nJoining them for the evening is a special opening act\, The Untitled Game Show\, an interactive comedy variety show. Audiences can expect a night of unscripted hilarity as the four fathers of improv—Barney\, Chip\, Lesley\, and Steven—create spontaneous\, full one-act comedic plays based entirely on audience suggestions. \n\n\n\nTickets are $10 and available only at the door. DadCo performances are recommended for comedy fans of all ages.
URL:https://mobilebaynow.com/event/dad-company-improv-the-dads-are-back-in-town-comedy-show/
LOCATION:Arlene Mitchell Theatre\, 1495 Rimes Rd.\, Mobile\, Alabama\, 36608\, United States
CATEGORIES:Most Popular
ATTACH;FMTTYPE=image/png:https://mobilebaynow.com/wp-content/uploads/2025/03/IMG_3865.png
END:VEVENT
BEGIN:VEVENT
DTSTART;TZID=America/Chicago:20250406T173000
DTEND;TZID=America/Chicago:20250406T193000
DTSTAMP:20260420T034258
CREATED:20250331T162638Z
LAST-MODIFIED:20250331T162640Z
UID:10002022-1743960600-1743967800@mobilebaynow.com
SUMMARY:Book Signing with Max Monroe
DESCRIPTION:An evening of romance awaits as New York Times bestselling author Max Monroe takes the stage for an engaging conversation about their upcoming release\, What I Should’ve Said. Attendees will have the opportunity to hear exclusive insights\, participate in a Q&A session\, and connect with the authors as they discuss their creative process. \n\n\n\nFollowing the discussion\, Max Monroe will meet fans and sign books\, making this event a must for both longtime readers and those discovering their work for the first time.
URL:https://mobilebaynow.com/event/book-signing-with-max-monroe/
LOCATION:The Haunted Book Shop\, 9 S Joachim Street\, Mobile\, AL\, 36602\, United States
CATEGORIES:Most Popular
ATTACH;FMTTYPE=image/png:https://mobilebaynow.com/wp-content/uploads/2025/03/IMG_3767.png
END:VEVENT
BEGIN:VEVENT
DTSTART;TZID=America/Chicago:20250407T120000
DTEND;TZID=America/Chicago:20250407T130000
DTSTAMP:20260420T034258
CREATED:20250331T162946Z
LAST-MODIFIED:20250331T162948Z
UID:10002023-1744027200-1744030800@mobilebaynow.com
SUMMARY:Lafayette In Mobile Reenactment
DESCRIPTION:The History Museum of Mobile will host a special free event in the Fort Condé courtyard on Monday\, April 7\, 2025\, at 12 p.m. as part of Lafayette 200—a nationwide tour presented by The American Friends of Lafayette. This initiative brings educational programming to the United States and France to commemorate the Bicentennial of Lafayette’s return to America as the “Guest of the Nation.” \n\n\n\nColonial Fort Condé is honored to be included in this historic tour\, which retraces Gilbert du Motier\, Marquis de Lafayette’s original journey across America from 1824 to 1825\, following his exact itinerary and dates. \n\n\n\nTo mark Lafayette’s visit to Mobile\, the History Museum of Mobile will present a historical reenactment\, offering guests the opportunity to interact with Lafayette himself and other living history interpreters. The program will provide insights into life in Mobile during the early American period following Alabama’s statehood in 1819\, making this event a unique opportunity to experience history firsthand.
URL:https://mobilebaynow.com/event/lafayette-in-mobile-reenactment/
LOCATION:History Museum of Mobile\, 111 South Royal Street\, Mobile\, AL\, 36602\, United States
CATEGORIES:Most Popular
ATTACH;FMTTYPE=image/png:https://mobilebaynow.com/wp-content/uploads/2025/03/IMG_3794.png
END:VEVENT
BEGIN:VEVENT
DTSTART;TZID=America/Chicago:20250409T180000
DTEND;TZID=America/Chicago:20250409T210000
DTSTAMP:20260420T034258
CREATED:20250324T062330Z
LAST-MODIFIED:20250324T062331Z
UID:10002005-1744221600-1744232400@mobilebaynow.com
SUMMARY: Artys 2025
DESCRIPTION:The Artys\, presented by Mobile Arts Council\, will take place on Wednesday\, April 9\, from 6 p.m. to 9 p.m. at the Renaissance Riverview Plaza Hotel. \n\n\n\nTickets are $65 in advance and $75 at the door\, with reserved tables also available. The 20th annual awards show will feature a catered dinner\, cash bar\, and live music by the Jimmy Roebuck Trio\, along with performances by Bent Broadway\, Mobile’s Poet Laureate Charlotte Pence\, and others throughout the evening. \n\n\n\nThis year\, Mobile Arts Council will honor Mary Frances Clark\, Tanya Parent\, Bruce Larsen\, Spoken Word of Mobile\, Drew Hall\, Susan Rouillier\, LaDarrel Bell\, The Mobile Jewish Film Festival\, Hannah Legg\, Cherelle “CeCe” Smith\, David Rasp\, and Steve Mussell. \n\n\n\nAs always\, the Arty awards will be unique\, original works of art\, with this year’s pieces created by local welder and sculptor Laura Ledbetter. \n\n\n\nRecognized as Mobile’s only arts award program\, the Artys celebrates impact and excellence across all artistic disciplines. Now in its 20th year\, the program has honored individuals\, businesses\, and organizations that contribute to the growth of the arts and cultural landscape in Mobile. \n\n\n\nSpecial thanks to the 2025 Artys sponsors\, including the Mobile County Commission (Commissioners Ludgood and Hudson)\, Bay Business News\, New Horizons Credit Union\, Downtown Mobile Alliance\, and Alabama Public Radio. \n\n\n\nFor sponsorship opportunities\, contact Angela Montgomery.
URL:https://mobilebaynow.com/event/artys-2025/
LOCATION:Renaissance Mobile Riverview Plaza Hotel\, 64 South Water Street\, Mobile\, AL\, 36602\, United States
CATEGORIES:Most Popular,Music
ATTACH;FMTTYPE=image/png:https://mobilebaynow.com/wp-content/uploads/2025/03/20th-Annual-Award-Recipients-3-768x1000-1.png
END:VEVENT
BEGIN:VEVENT
DTSTART;TZID=America/Chicago:20250412T180000
DTEND;TZID=America/Chicago:20250412T210000
DTSTAMP:20260420T034258
CREATED:20250407T055218Z
LAST-MODIFIED:20250407T055219Z
UID:10002034-1744480800-1744491600@mobilebaynow.com
SUMMARY:PREVIEW PARTY FOR THE GULF COAST CHINESE LANTERN FESTIVAL
DESCRIPTION:The Preview Gala at Bellingrath Gardens will be held on Saturday\, April 12\, 2025\, from 6 to 9 p.m. Guests will have the exclusive opportunity to be among the first to stroll through a glowing wonderland of towering\, handcrafted lanterns before the festival opens to the public. \n\n\n\nThe evening will include a signature cocktail\, an array of elegant heavy hors d’oeuvres\, and a guided tour of the magnificent Bellingrath Home. This enchanting event offers a unique preview of the upcoming festival in a sophisticated setting. \n\n\n\nTickets are priced at $125 per person and $100 for Bellingrath members.
URL:https://mobilebaynow.com/event/preview-party-for-the-gulf-coast-chinese-lantern-festival/
LOCATION:Bellingrath Gardens\, 12401 Bellingrath Gardens Road\, Theodore\, AL\, 36582
CATEGORIES:Most Popular
ATTACH;FMTTYPE=image/png:https://mobilebaynow.com/wp-content/uploads/2025/04/imgscale-40.png
END:VEVENT
BEGIN:VEVENT
DTSTART;TZID=America/Chicago:20250412T180000
DTEND;TZID=America/Chicago:20250412T220000
DTSTAMP:20260420T034258
CREATED:20250407T052540Z
LAST-MODIFIED:20250407T052541Z
UID:10002030-1744480800-1744495200@mobilebaynow.com
SUMMARY:Exploreum After Hours\, The Matrix
DESCRIPTION:The Exploreum Science Center invites guests to a thrilling 21+ After Hours event on April 12 from 6 to 9:30 p.m. Attendees will be transported into the world of The Matrix with a mind-bending screening of the blockbuster film in the PCI Digital Dome Theater. \n\n\n\nThe evening kicks off with immersive activities in coding and robotics\, featuring interactive tech challenges designed to test participants’ skills. Guests are encouraged to dress as their favorite Matrix characters for a chance to earn an extra raffle ticket and fully embrace the simulated experience. \n\n\n\nThe event also includes VIP access to the in-house exhibition\, Illusions: The Science of Perception\, along with captivating photo ops and exciting raffle prizes. \n\n\n\nPlease note: This event is for ages 21 and up\, and valid proof of age is required at the door.
URL:https://mobilebaynow.com/event/exploreum-after-hours-the-matrix/
LOCATION:Exploreum Science Center\, 65 Government St.\, Mobile\, AL\, 36602
CATEGORIES:Most Popular
END:VEVENT
BEGIN:VEVENT
DTSTART;TZID=America/Chicago:20250417T170000
DTEND;TZID=America/Chicago:20250615T220000
DTSTAMP:20260420T034258
CREATED:20250415T083048Z
LAST-MODIFIED:20250415T083049Z
UID:10002037-1744909200-1750024800@mobilebaynow.com
SUMMARY:GULF COAST CHINESE LANTERN FESTIVAL
DESCRIPTION:Bellingrath Gardens & Home will host the Inaugural Gulf Coast Chinese Lantern Festival from Thursday\, April 17 through Sunday\, June 15\, 2025\, with festivities taking place nightly from 5 to 10 p.m. During this limited-time event\, the Gardens will be transformed into a dazzling showcase of light\, color\, and culture. \n\n\n\nAs evening falls\, the estate will become a radiant dreamscape featuring 41 towering\, handcrafted light sculptures\, each glowing with vivid hues and artistic detail. These luminous installations will guide guests through an enchanting journey of illuminated plants\, animals\, and mythical creatures—each telling a unique story that merges centuries-old Chinese tradition with modern creativity. \n\n\n\nMany of the displays are interactive\, inviting visitors to dance with animated figures\, play games\, and immerse themselves in the whimsical atmosphere. This family-friendly event offers a rare blend of cultural wonder and hands-on fun for guests of all ages. \n\n\n\nTicket prices range from $21 to $36 for adults\, $17 to $32 for children ages 5 to 12\, and $2 for children 4 and under.
URL:https://mobilebaynow.com/event/gulf-coast-chinese-lantern-festival/
LOCATION:Bellingrath Gardens\, 12401 Bellingrath Gardens Road\, Theodore\, AL\, 36582
CATEGORIES:Most Popular
ATTACH;FMTTYPE=image/png:https://mobilebaynow.com/wp-content/uploads/2025/04/imgscale-41.png
END:VEVENT
BEGIN:VEVENT
DTSTART;TZID=America/Chicago:20250418T180000
DTEND;TZID=America/Chicago:20250418T210000
DTSTAMP:20260420T034258
CREATED:20250415T084813Z
LAST-MODIFIED:20250415T084814Z
UID:10002040-1744999200-1745010000@mobilebaynow.com
SUMMARY:MOVIES IN THE PARK: DISNEY’S THE LION KING
DESCRIPTION:The City of Mobile Parks & Recreation Department is set to host the next Movies in the Park event on Friday\, April 18\, 2025\, from 6 to 9 p.m. at Heroes Park. The featured film for the evening will be Disney’s The Lion King. \n\n\n\nPrior to the movie screening at dusk\, guests can enjoy African dance performances by youth dance teams Mobile Royal Heat and R.O.Y.A.L. IMPRINT\, with Mr. Wayne Curtis of the Mobile Alabama Africatown Drummers providing vibrant rhythms to set the tone. This free\, family-friendly event will also include lawn games\, face painting\, popcorn\, and more for all to enjoy.
URL:https://mobilebaynow.com/event/movies-in-the-park-disneys-the-lion-king/
LOCATION:Heroes Park\, 7171 Old Military Rd.\, Theodore\, Alabama\, 36582\, United States
CATEGORIES:Most Popular
ATTACH;FMTTYPE=image/png:https://mobilebaynow.com/wp-content/uploads/2025/04/imgscale-43.png
END:VEVENT
BEGIN:VEVENT
DTSTART;TZID=America/Chicago:20250419T000000
DTEND;TZID=America/Chicago:20250419T235959
DTSTAMP:20260420T034258
CREATED:20250415T085332Z
LAST-MODIFIED:20250415T085334Z
UID:10002041-1745020800-1745107199@mobilebaynow.com
SUMMARY:SUNSHINE KIDS’ CARNIVAL
DESCRIPTION:The Gulf Coast Sunshine Kids’ Carnival is set to bring a vibrant day of fun and festivities to Cathedral Square on Saturday\, April 19\, 2025\, beginning at 11 a.m. Children will light up the streets in dazzling costumes as they parade with energetic troupes in a celebration bursting with color and excitement. \n\n\n\nFamilies can look forward to bounce castles\, games with prizes\, face painting\, delicious treats\, and a full day of adventure. Perfect for all ages\, this event promises non-stop entertainment for the entire family. Registration ranges from $15 to $85.
URL:https://mobilebaynow.com/event/sunshine-kids-carnival/
LOCATION:Cathedral Square\, 300 Conti St.\, Mobile\, AL\, 36602
CATEGORIES:Most Popular
ATTACH;FMTTYPE=image/png:https://mobilebaynow.com/wp-content/uploads/2025/04/imgscale-44.png
END:VEVENT
BEGIN:VEVENT
DTSTART;TZID=America/Chicago:20250419T120000
DTEND;TZID=America/Chicago:20250419T150000
DTSTAMP:20260420T034258
CREATED:20250415T172514Z
LAST-MODIFIED:20250415T172515Z
UID:10002042-1745064000-1745074800@mobilebaynow.com
SUMMARY:EASTER EGGSTRAVAGANZA
DESCRIPTION:Mobile County Parks will host its inaugural Easter Eggstravaganza on Saturday\, April 19\, 2025\, from noon to 3 p.m. at three park locations across the county. Families are invited to enjoy a festive afternoon filled with lawn games\, face painting\, activities\, pictures with the Easter Bunny\, and full access to playgrounds and other park amenities. \n\n\n\nThe celebration will take place at: \n\n\n\n\nChickasabogue Park • 760 Aldock Road\, Eight Mile\, AL 36613 (less than 15 minutes from downtown Mobile)\n\n\n\nBayfront Park • 15961 Dauphin Island Parkway\, Coden\, AL 36523\n\n\n\nEscatawpa Hollow Park & Campground • 15551 Moffett Road\, Wilmer\, AL 36587\n\n\n\n\nEaster egg hunts will begin promptly at 2 p.m. at each location\, with separate categories for children 6 and under and those 7 and older. \n\n\n\nFood vendors and food trucks will be available on-site for purchases.
URL:https://mobilebaynow.com/event/easter-eggstravaganza/
LOCATION:Mobile\, AL
CATEGORIES:Most Popular
ATTACH;FMTTYPE=image/png:https://mobilebaynow.com/wp-content/uploads/2025/04/imgscale-45.png
END:VEVENT
BEGIN:VEVENT
DTSTART;TZID=America/Chicago:20250426T080000
DTEND;TZID=America/Chicago:20250426T120000
DTSTAMP:20260420T034258
CREATED:20250415T173604Z
LAST-MODIFIED:20250415T173606Z
UID:10002045-1745654400-1745668800@mobilebaynow.com
SUMMARY:STROLLING FOR ALZHEIMER’S CAREGIVERS ANNUAL WALKATHON
DESCRIPTION:The Strolling for Alzheimer’s Caregivers Annual Walkathon will take place on Saturday\, April 26\, 2025\, from 8 a.m. to 12 p.m. at Highpoint Park. This two-mile walk is dedicated to supporting caregivers of individuals living with Alzheimer’s disease. \n\n\n\nParticipation is free\, and donations are welcomed to help further the cause.
URL:https://mobilebaynow.com/event/strolling-for-alzheimers-caregivers-annual-walkathon/
LOCATION:Highpoint Park\, 4328 Highpoint Blvd\, Prichard\, AL\, 36610\, United States
CATEGORIES:Most Popular
ATTACH;FMTTYPE=image/png:https://mobilebaynow.com/wp-content/uploads/2025/04/imgscale-46.png
END:VEVENT
BEGIN:VEVENT
DTSTART;TZID=America/Chicago:20250426T100000
DTEND;TZID=America/Chicago:20250426T140000
DTSTAMP:20260420T034258
CREATED:20250415T173909Z
LAST-MODIFIED:20250415T173910Z
UID:10002046-1745661600-1745676000@mobilebaynow.com
SUMMARY:LOVE YOUR COMMUNITY EARTH DAY CELEBRATION
DESCRIPTION:Mobile County’s Earth Day Celebration will take place on Saturday\, April 26\, 2025\, from 10 a.m. to 2 p.m. at the newly reopened Chickasabogue Park. \n\n\n\nThe event promises a lively and engaging day with live music from Ryan Balthrop and The New Cahoots\, a native plant giveaway\, vendors\, lawn games\, a rock climbing wall\, nature walks\, children’s activities\, storytime\, caricature drawings\, food trucks\, and much more. \n\n\n\nSponsored by the Mobile County Commission\, Keep Mobile Beautiful\, Earth Day Mobile Bay\, and the Sierra Club\, the celebration will also include the Love Your Community teams’ check presentation at noon. \n\n\n\nLove Your Community is a program of the Mobile County Commission in partnership with Keep Mobile Beautiful. Through this initiative\, volunteer teams earn beautification grant dollars based on volunteer hours dedicated to litter-reduction\, recycling\, and similar community improvement efforts. More information is available at www.loveyourcommunity.com.
URL:https://mobilebaynow.com/event/love-your-community-earth-day-celebration/
LOCATION:Mobile County’s Chickasabogue Park\, 760 Aldock Road\, Eight Mile\, Alabama\, 36613\, United States
CATEGORIES:Active,Most Popular
ATTACH;FMTTYPE=image/png:https://mobilebaynow.com/wp-content/uploads/2025/04/imgscale-47.png
END:VEVENT
BEGIN:VEVENT
DTSTART;TZID=America/Chicago:20250426T110000
DTEND;TZID=America/Chicago:20250426T200000
DTSTAMP:20260420T034258
CREATED:20250417T173219Z
LAST-MODIFIED:20250417T173220Z
UID:10002052-1745665200-1745697600@mobilebaynow.com
SUMMARY:Independent Book Store Day!
DESCRIPTION:The Haunted Book Shop invites the community to celebrate Independent Bookstore Day with a day full of literary fun and festivities. Though the shop itself may not be haunted\, its staff proudly admits to being spirited away by beloved books and authors. \n\n\n\nGuests are encouraged to show their support for local\, independent bookstores by visiting throughout the day. The celebration will feature author appearances\, book signings\, in-store activities\, exclusive merchandise (available in limited quantities)\, and a special appearance by Mr. Bingley—the shop’s famously cool bookstore cat. \n\n\n\nWhether it’s for the authors\, the merch\, or the feline charm\, this event promises a spirited celebration of stories and community.
URL:https://mobilebaynow.com/event/independent-book-store-day/
LOCATION:The Haunted Book Shop\, 9 S Joachim Street\, Mobile\, AL\, 36602\, United States
CATEGORIES:Most Popular
ATTACH;FMTTYPE=image/png:https://mobilebaynow.com/wp-content/uploads/2025/04/IMG_3838.png
END:VEVENT
BEGIN:VEVENT
DTSTART;TZID=America/Chicago:20250430T120000
DTEND;TZID=America/Chicago:20250430T170000
DTSTAMP:20260420T034258
CREATED:20240313T172030Z
LAST-MODIFIED:20250417T191106Z
UID:10001247-1746014400-1746032400@mobilebaynow.com
SUMMARY:MCPSS Career Fair
DESCRIPTION:Mobile County Public Schools will host its annual MCPSS Career Fair on April 30\, from noon to 5 p.m.\, at the Arthur R. Outlaw Mobile Convention Center. The event will feature booths representing all 90 schools\, as well as various department representatives. Attendees will have the opportunity to meet with school principals and Human Resources staff\, with free on-site screenings available. Signing bonuses will be offered to new employees and individuals hired for specific positions at select schools.
URL:https://mobilebaynow.com/event/mcpss-career-fair/
LOCATION:Mobile Convention Center\, 1 S Water St\, Mobile\, AL\, 36602
CATEGORIES:Most Popular
END:VEVENT
BEGIN:VEVENT
DTSTART;TZID=America/Chicago:20250504T130000
DTEND;TZID=America/Chicago:20250504T170000
DTSTAMP:20260420T034258
CREATED:20241124T120400Z
LAST-MODIFIED:20250428T161204Z
UID:10001310-1746363600-1746378000@mobilebaynow.com
SUMMARY:Free First Sunday at History Museum of Mobile
DESCRIPTION:Visit any time from 1 – 5 p.m. and enjoy free admission into the History Museum of Mobile and Colonial Fort Conde.
URL:https://mobilebaynow.com/event/free-first-sunday-at-history-museum-of-mobile/
LOCATION:History Museum of Mobile\, 111 South Royal Street\, Mobile\, AL\, 36602\, United States
CATEGORIES:Most Popular
ATTACH;FMTTYPE=image/jpeg:https://mobilebaynow.com/wp-content/uploads/2024/11/IMG_3495.jpeg
END:VEVENT
END:VCALENDAR