BEGIN:VCALENDAR
VERSION:2.0
PRODID:-//Mobile Bay Now - ECPv6.15.20//NONSGML v1.0//EN
CALSCALE:GREGORIAN
METHOD:PUBLISH
X-ORIGINAL-URL:https://mobilebaynow.com
X-WR-CALDESC:Events for Mobile Bay Now
REFRESH-INTERVAL;VALUE=DURATION:PT1H
X-Robots-Tag:noindex
X-PUBLISHED-TTL:PT1H
BEGIN:VTIMEZONE
TZID:America/Chicago
BEGIN:DAYLIGHT
TZOFFSETFROM:-0600
TZOFFSETTO:-0500
TZNAME:CDT
DTSTART:20230312T080000
END:DAYLIGHT
BEGIN:STANDARD
TZOFFSETFROM:-0500
TZOFFSETTO:-0600
TZNAME:CST
DTSTART:20231105T070000
END:STANDARD
BEGIN:DAYLIGHT
TZOFFSETFROM:-0600
TZOFFSETTO:-0500
TZNAME:CDT
DTSTART:20240310T080000
END:DAYLIGHT
BEGIN:STANDARD
TZOFFSETFROM:-0500
TZOFFSETTO:-0600
TZNAME:CST
DTSTART:20241103T070000
END:STANDARD
BEGIN:DAYLIGHT
TZOFFSETFROM:-0600
TZOFFSETTO:-0500
TZNAME:CDT
DTSTART:20250309T080000
END:DAYLIGHT
BEGIN:STANDARD
TZOFFSETFROM:-0500
TZOFFSETTO:-0600
TZNAME:CST
DTSTART:20251102T070000
END:STANDARD
END:VTIMEZONE
BEGIN:VEVENT
DTSTART;TZID=America/Chicago:20241207T150000
DTEND;TZID=America/Chicago:20241207T180000
DTSTAMP:20260420T051758
CREATED:20241202T173512Z
LAST-MODIFIED:20241202T173514Z
UID:10001864-1733583600-1733594400@mobilebaynow.com
SUMMARY:Kids Day - Cookies & Canvas: Holiday Paint Party
DESCRIPTION:Families are invited to a free\, festive event where children can explore their creativity by decorating cookies and painting personalized canvas masterpieces. Adding to the holiday excitement\, Santa Claus will make a special appearance\, spreading cheer and posing for photos with young attendees. This delightful day promises a perfect start to the season with festive treats\, artistic fun\, and a memorable visit from Santa.
URL:https://mobilebaynow.com/event/kids-day-cookies-canvas-holiday-paint-party/
LOCATION:Mardi Gras Park\, 140-148 S Royal St\, Mobile\, Alabama\, 36602\, United States
CATEGORIES:Food,Kids
END:VEVENT
END:VCALENDAR