BEGIN:VCALENDAR
VERSION:2.0
PRODID:-//Mobile Bay Now - ECPv6.15.20//NONSGML v1.0//EN
CALSCALE:GREGORIAN
METHOD:PUBLISH
X-WR-CALNAME:Mobile Bay Now
X-ORIGINAL-URL:https://mobilebaynow.com
X-WR-CALDESC:Events for Mobile Bay Now
REFRESH-INTERVAL;VALUE=DURATION:PT1H
X-Robots-Tag:noindex
X-PUBLISHED-TTL:PT1H
BEGIN:VTIMEZONE
TZID:America/Chicago
BEGIN:DAYLIGHT
TZOFFSETFROM:-0600
TZOFFSETTO:-0500
TZNAME:CDT
DTSTART:20250309T080000
END:DAYLIGHT
BEGIN:STANDARD
TZOFFSETFROM:-0500
TZOFFSETTO:-0600
TZNAME:CST
DTSTART:20251102T070000
END:STANDARD
BEGIN:DAYLIGHT
TZOFFSETFROM:-0600
TZOFFSETTO:-0500
TZNAME:CDT
DTSTART:20260308T080000
END:DAYLIGHT
BEGIN:STANDARD
TZOFFSETFROM:-0500
TZOFFSETTO:-0600
TZNAME:CST
DTSTART:20261101T070000
END:STANDARD
BEGIN:DAYLIGHT
TZOFFSETFROM:-0600
TZOFFSETTO:-0500
TZNAME:CDT
DTSTART:20270314T080000
END:DAYLIGHT
BEGIN:STANDARD
TZOFFSETFROM:-0500
TZOFFSETTO:-0600
TZNAME:CST
DTSTART:20271107T070000
END:STANDARD
END:VTIMEZONE
BEGIN:VEVENT
DTSTART;TZID=America/Chicago:20260425T100000
DTEND;TZID=America/Chicago:20260425T200000
DTSTAMP:20260423T030429
CREATED:20260422T225814Z
LAST-MODIFIED:20260422T225814Z
UID:10003155-1777111200-1777147200@mobilebaynow.com
SUMMARY:Tropic Falls – April Saturdays
DESCRIPTION:
URL:https://mobilebaynow.com/event/tropic-falls-april-saturdays/
CATEGORIES:Hours,Tropic Falls Theme Park Hours
ATTACH;FMTTYPE=image/jpeg:https://mobilebaynow.com/wp-content/uploads/2026/04/calendarimage-rPIH12.jpg
END:VEVENT
BEGIN:VEVENT
DTSTART;TZID=America/Chicago:20260426T100000
DTEND;TZID=America/Chicago:20260426T180000
DTSTAMP:20260423T030429
CREATED:20260422T225816Z
LAST-MODIFIED:20260422T225816Z
UID:10003157-1777197600-1777226400@mobilebaynow.com
SUMMARY:Tropic Falls – April Sundays
DESCRIPTION:
URL:https://mobilebaynow.com/event/tropic-falls-april-sundays/
CATEGORIES:Hours
ATTACH;FMTTYPE=image/jpeg:https://mobilebaynow.com/wp-content/uploads/2026/04/calendarimage-rPIH12.jpg
END:VEVENT
END:VCALENDAR