BEGIN:VCALENDAR
VERSION:2.0
PRODID:-//Mobile Bay Now - ECPv6.15.20//NONSGML v1.0//EN
CALSCALE:GREGORIAN
METHOD:PUBLISH
X-WR-CALNAME:Mobile Bay Now
X-ORIGINAL-URL:https://mobilebaynow.com
X-WR-CALDESC:Events for Mobile Bay Now
REFRESH-INTERVAL;VALUE=DURATION:PT1H
X-Robots-Tag:noindex
X-PUBLISHED-TTL:PT1H
BEGIN:VTIMEZONE
TZID:America/Chicago
BEGIN:DAYLIGHT
TZOFFSETFROM:-0600
TZOFFSETTO:-0500
TZNAME:CDT
DTSTART:20240310T080000
END:DAYLIGHT
BEGIN:STANDARD
TZOFFSETFROM:-0500
TZOFFSETTO:-0600
TZNAME:CST
DTSTART:20241103T070000
END:STANDARD
BEGIN:DAYLIGHT
TZOFFSETFROM:-0600
TZOFFSETTO:-0500
TZNAME:CDT
DTSTART:20250309T080000
END:DAYLIGHT
BEGIN:STANDARD
TZOFFSETFROM:-0500
TZOFFSETTO:-0600
TZNAME:CST
DTSTART:20251102T070000
END:STANDARD
BEGIN:DAYLIGHT
TZOFFSETFROM:-0600
TZOFFSETTO:-0500
TZNAME:CDT
DTSTART:20260308T080000
END:DAYLIGHT
BEGIN:STANDARD
TZOFFSETFROM:-0500
TZOFFSETTO:-0600
TZNAME:CST
DTSTART:20261101T070000
END:STANDARD
END:VTIMEZONE
BEGIN:VEVENT
DTSTART;TZID=America/Chicago:20250302T080000
DTEND;TZID=America/Chicago:20250302T120000
DTSTAMP:20260420T040108
CREATED:20250224T141149Z
LAST-MODIFIED:20250224T141150Z
UID:10001973-1740902400-1740916800@mobilebaynow.com
SUMMARY:34th Annual Joe Cain Classic 5K\, 1 Mile and Moonpie Dash
DESCRIPTION:The upcoming 5K race offers a flat\, fast\, and challenging course\, certified by USATF (AL03036JD). \n\n\n\nRegistration Details:\n\n\n\n\nNew Year Special (postmarked by 1/2/2025): $25\n\n\n\nEarly Registration (postmarked by 2/21/2025): $30\n\n\n\nLate Registration (received by 2/28/2025): $35\n\n\n\nRace Day Registration: $40\n\n\n\nChildren 10 & Under: $10\n\n\n\nWalk-in Registration: Available at McCoy Outdoor Co.\, Fleet Feet\, or Run-N-Tri in Mobile until noon on Thursday\, February 27\, 2025.\n\n\n\nEarly Packet Pickup & Late Registration: Friday\, February 28\, 2025\, from noon to 5:30 PM at the Port City Pacers’ office (358 Morgan Ave).\n\n\n\nRace Day Packet Pickup & Registration: $40 (additional $3 fee for electronic payments) at the race site from 6:30 AM – 7:30 AM.\n\n\n\n\nT-Shirts:\n\n\n\nPre-registered participants whose applications are received or postmarked by 2/14/2025 are guaranteed a T-shirt on race day. Registrations received after this date will receive T-shirts while supplies last. Moon Pie Dash participants must register only if they wish to receive a T-shirt. \n\n\n\nAwards:\n\n\n\n\nOverall Awards: Top 3 Male & Female finishers.\n\n\n\nMasters Divisions: 1st place Male & Female Master\, Grandmaster\, and Senior Grandmaster.\n\n\n\nSpecialty Awards: Top 3 Clydesdales & Athena\, Top 5 Male & Female Race Walkers\, and top Male & Female wheelchair participants.\n\n\n\nAge Group Awards: Top three Male & Female finishers in the following divisions:\n\n9 & Under\, 10-14\, 15-19\, 20-24\, 25-29\, 30-34\, 35-39\, 40-44\, 45-49\, 50-54\, 55-59\, 60-64\, 65-69\, 70-74\, 75-79\, 80-84\, 85-89\, and 90+.\n\n\n\n\n\n\nResults & Post-Race Celebration:\n\n\n\n\nRace results will be posted at the block party and on productionsbylittleredhen.com.\n\n\n\nAll registered participants are eligible for door prizes\, food\, and refreshments at the post-race block party\, held outside Joe Cain’s House on Augusta Street\, near the finish line. Participants must be present to win.\n\n\n\n\nPlease note: Entry fees are non-refundable. In the event of severe weather\, Bay Area Runners reserve the right to cancel or delay the race.
URL:https://mobilebaynow.com/event/34th-annual-joe-cain-classic-5k-1-mile-and-moonpie-dash/
LOCATION:Broad Street and Canal Street\, Broad Street and Canal Street\, Mobile\, AL\, United States
CATEGORIES:Active
END:VEVENT
BEGIN:VEVENT
DTSTART;TZID=America/Chicago:20250303T080000
DTEND;TZID=America/Chicago:20250303T170000
DTSTAMP:20260420T040108
CREATED:20250303T132528Z
LAST-MODIFIED:20250303T132530Z
UID:10001990-1740988800-1741021200@mobilebaynow.com
SUMMARY:KITE FEST ON DAUPHIN ISLAND
DESCRIPTION:Kite Fest is set to take place at East End Beach on Saturday\, March 8\, 2025\, from 11 a.m. to 1 p.m. The Emerald Coast Kite Flyers Club and Mississippi/Gulf Coast Quad Line Flyers will showcase a variety of unique and acrobatic kites\, beginning at 11 a.m. \n\n\n\nKite competitions will start at noon\, with awards presented for: \n\n\n\n\nHighest-Flying Kite\n\n\n\nBiggest Kite\n\n\n\nMost Unique Kite\n\n\n\nBest Homemade Kite\n\n\n\nMayor’s Choice Award\n\n\n\n\nThe Miss Dauphin Island Young Ladies will be assisting with tie-dye T-shirts for a minimum donation of $20\, while Matt Erdman will perform live. Shaved Ice Paradise and La Taqueria Tacos will be on-site offering a selection of food and desserts. \n\n\n\nNote: Attendees are asked to avoid newly constructed dunes and plantings in the area.
URL:https://mobilebaynow.com/event/kite-fest-on-dauphin-island/
LOCATION:East End Beach\, Bienville Blvd.\, Dauphin Island\, Alabama\, 36528\, United States
CATEGORIES:Active,Most Popular
ATTACH;FMTTYPE=image/png:https://mobilebaynow.com/wp-content/uploads/2025/03/imgscale-35.png
END:VEVENT
BEGIN:VEVENT
DTSTART;TZID=America/Chicago:20250308T070000
DTEND;TZID=America/Chicago:20250308T110000
DTSTAMP:20260420T040108
CREATED:20240122T055525Z
LAST-MODIFIED:20250303T125538Z
UID:10001180-1741417200-1741431600@mobilebaynow.com
SUMMARY:Eastern Shore Baptist Church Miles for Missions 5K and Fun Run
DESCRIPTION:The Youth Choir of Eastern Shore Baptist Church is hosting the “Miles for Missions” 5K and Fun Run on Saturday\, March 8\, 2025\, in Daphne\, Alabama. The race begins at 8:00 a.m. at Daphne City Hall\, with proceeds supporting the 2025 Youth Choir Mission Tour to Nashville\, Tennessee. \n\n\n\nAwards for the 5K will be presented to the top three male and female overall finishers\, as well as the top three males and females in the following age groups: 9 & under\, 10-14\, 15-19\, 20-24\, 25-29\, 30-34\, 35-39\, 40-44\, 45-49\, 50-54\, 55-59\, 60-64\, 65-69\, 70-74\, 75-79\, and 80+. Fun Run awards will be given to the top three overall boys and girls. \n\n\n\nOnline registration is available until 10:00 p.m. CST on Thursday\, March 6\, 2025. Participants may also register in person at Eastern Shore Baptist Church or by mail\, with entries received by noon on Friday\, March 7\, 2025. Checks should be made payable to Eastern Shore Baptist Church with “Miles for Missions” noted in the memo. Race-day registration will be available at 7:00 a.m. at Daphne City Hall (cash\, check\, Venmo\, or PayPal). Packet pick-up will take place at the church on Friday\, March 7\, from 9:00 a.m. to 5:00 p.m.\, and at City Hall on race day beginning at 7:00 a.m. \n\n\n\nShirts\n\n\n\nShirts are guaranteed only for participants registered by February 17\, 2025\, including those selecting the “shirt only” option. Late registrants will receive shirts while supplies last. \n\n\n\nEntry Fees\n\n\n\nPre-registered by January 31: \n\n\n\n\n5K: $25\n\n\n\nFun Run: $20\n\n\n\n\nRegistered between February 1 – March 7: \n\n\n\n\n5K: $30\n\n\n\nFun Run: $20\n\n\n\n\nDay of Race (March 8): \n\n\n\n\n5K: $35\n\n\n\nFun Run: $20\n\n\n\n\nShirt only (not running): $20 \n\n\n\nPost-Race\n\n\n\nParticipants can enjoy awards\, snacks\, and beverages after the race.
URL:https://mobilebaynow.com/event/eastern-shore-baptist-church-miles-for-missions-5k-and-fun-run/
LOCATION:Daphne City Hall\, 1705 Main Street\, Daphne\, AL\, 36526\, United States
CATEGORIES:Active
END:VEVENT
BEGIN:VEVENT
DTSTART;TZID=America/Chicago:20250308T070000
DTEND;TZID=America/Chicago:20250308T120000
DTSTAMP:20260420T040108
CREATED:20250303T130241Z
LAST-MODIFIED:20250303T130243Z
UID:10001986-1741417200-1741435200@mobilebaynow.com
SUMMARY:Gator Run 5K and Fun Run
DESCRIPTION:Race Details \n\n\n\nThe event features a certified 5K course through the neighborhoods of Satsuma\, along with a 1-mile Fun Run. \n\n\n\nRegistration\n\n\n\nParticipants may register by mail (postmarked by February 21)\, drop off registrations at McCoy Outdoor\, Run-N-Tri\, or Fleet Feet in Mobile until noon on March 6\, or register online until 6:00 a.m. on March 7. Race-day registration and packet pick-up will take place at Steele Creek from 7:00 – 7:50 a.m. \n\n\n\nEntry Fees\n\n\n\n\nRegistered by February 14\, 2025:\n\n5K: $30\n\n\n\nFun Run only: $15\n\n\n\n\n\nRegistered by March 7\, 2025:\n\n5K: $35\n\n\n\nFun Run only: $15\n\n\n\n\n\nDay of Race (March 8\, 2025):\n\n5K: $40\n\n\n\nFun Run only: $20\n\n\n\n\n\n\nEntry fees include a race shirt. To guarantee a shirt on race day\, registration must be completed by February 14. Participants opting out of a race shirt may subtract $3 from the entry fee. \n\n\n\n5K participants may also run the Fun Run at no additional cost. \n\n\n\nAwards\n\n\n\nAwards will be presented to the top overall male and female finishers\, as well as the top three male and female finishers in the following age groups: 9 & under\, 10-14\, 15-19\, 20-24\, 25-29\, 30-34\, 35-39\, 40-44\, 45-49\, 50-54\, 55-59\, 60-64\, 65-69\, 70-74\, and 75-99. \n\n\n\nPost-Race\n\n\n\nSnacks and beverages will be available for participants following the race.
URL:https://mobilebaynow.com/event/gator-run-5k-and-fun-run/
LOCATION:Steele Creek\, 368 Juniper Avenue\, Satsuma\, Alabama\, 36572\, United States
CATEGORIES:Active
END:VEVENT
BEGIN:VEVENT
DTSTART;TZID=America/Chicago:20250314T000000
DTEND;TZID=America/Chicago:20250316T235959
DTSTAMP:20260420T040108
CREATED:20250228T063243Z
LAST-MODIFIED:20250205T063522Z
UID:10001955-1741910400-1742169599@mobilebaynow.com
SUMMARY:Mobile Boat Show
DESCRIPTION:March 14-15: 10am – 7pmMarch 16th: 10am – 5pm \n\n\n\nThe 2025 Mobile Boat Show will take place from March 14-16 at the Mobile Convention Center\, featuring an extensive collection of boats\, motors\, personal watercraft\, and marine accessories. Recognized as the premier event for viewing the latest models in one convenient location\, the show offers an ideal opportunity for effortless comparison shopping. Attendees can also take advantage of exclusive “special show pricing” available only during the event. In addition to the impressive selection of boats\, a variety of special events will be held\, providing entertainment for the entire family.
URL:https://mobilebaynow.com/event/mobile-boat-show/
LOCATION:Mobile Convention Center\, 1 S Water St\, Mobile\, AL\, 36602
CATEGORIES:Active,Most Popular
ATTACH;FMTTYPE=image/jpeg:https://mobilebaynow.com/wp-content/uploads/2025/02/Screenshot-2025-02-05-012536.jpg
END:VEVENT
BEGIN:VEVENT
DTSTART;TZID=America/Chicago:20250317T000000
DTEND;TZID=America/Chicago:20250317T235959
DTSTAMP:20260420T040108
CREATED:20250315T184254Z
LAST-MODIFIED:20250315T184317Z
UID:10001992-1742169600-1742255999@mobilebaynow.com
SUMMARY:Friendly Sons of St. Patrick Parade
DESCRIPTION:The Friendly Sons of St. Patrick will kick off the St. Patrick’s Day festivities in downtown Mobile on Monday\, March 17. Participants are encouraged to wear their best green attire and join the Friendly Sons’ parade as it moves from the Basilica of the Immaculate Conception to the Battle House Renaissance Hotel and Spa.
URL:https://mobilebaynow.com/event/friendly-sons-of-st-patrick-parade/
LOCATION:Downtown Mobile\, Mobile\, AL\, 36602
CATEGORIES:Active
END:VEVENT
BEGIN:VEVENT
DTSTART;TZID=America/Chicago:20250322T080000
DTEND;TZID=America/Chicago:20250322T120000
DTSTAMP:20260420T040108
CREATED:20250317T073612Z
LAST-MODIFIED:20250317T073613Z
UID:10001999-1742630400-1742644800@mobilebaynow.com
SUMMARY:Azalea Trail Run presented by PNC BankRRCA State 10K Championship
DESCRIPTION:The Azalea Trail Run returns for its 47th year\, offering USATF-certified 10K and 5K race courses\, along with a 2K Fun Run/Walk. All races begin and end in downtown Mobile\, featuring flat and fast routes with water and comfort stations available along the way. \n\n\n\nRace Details:\n\n\n\n\nThe 10K course will close two hours after the race begins. Participants who have not finished by 10 AM will be asked to move to the sidewalk.\n\n\n\nCourse Restrictions – For safety reasons\, strollers\, baby joggers\, rollerblades\, balls\, bicycles\, headphones\, earbuds\, and pets are not permitted on the 5K and 10K courses.\n\n\n\n\nTeam Competition – 10K and 5K\n\n\n\nThe Azalea Trail Run encourages friendly team competition in categories including open\, corporate\, church\, school\, and military. \n\n\n\n\nEach team member registers individually.\n\n\n\nTeam captains must submit a team roster by March 7\, 2025.\n\n\n\nWinning teams will receive custom-designed awards.\n\n\n\n\nTeam Roster Links: \n\n\n\n\n10K: Download Roster\n\n\n\n5K: Download Roster\n\n\n\n\nWheelchair Division – 10K Only\n\n\n\nThe wheelchair race will follow regulations established by Wheelchairsports U.S.A. \n\n\n\nATR Expo – Race Day Celebration\n\n\n\nThe ATR Expo will feature medical and merchandise vendors\, free health screenings\, music\, and post-race festivities. \n\n\n\n5K/10K Charity Chip – $5\,000 in Donations\n\n\n\nThanks to PNC Bank’s support\, the Azalea Trail Run will donate $1\,000 to each of five charities\, chosen by randomly selected 5K or 10K finishers. \n\n\n\n\nParticipants will wear numbered timing chips on their shoes\, which must be returned after the race.\n\n\n\nFive chips will be drawn\, and the selected runners will choose a legitimate charity to receive the donation.\n\n\n\n\nFun Run School Drawing – $500 Award\n\n\n\nFun Run participants will wear race bibs with detachable pull tags collected at the finish line. One tag will be drawn\, and the participant associated with that number will select an elementary\, middle\, or high school to receive a $500 donation from the ATR’s Richard Overbey Scholarship Fund. \n\n\n\nParticipant Perks:\n\n\n\n\nOfficial short-sleeved race shirts for all registered participants.\n\n\n\nDiscounted tickets for the Child Advocacy Center’s Downtown Cajun Cookoff on March 22\, 2025\, from 10 AM – 2 PM in Cathedral Square.\n\n\n\nEligibility for the 5K/10K Charity Chip Drawing – five charities will receive $1\,000 each.\n\n\n\nEligibility for the Fun Run School Drawing – one school will receive $500.\n\n\n\n\nThe Azalea Trail Run continues to be a celebrated tradition\, combining competitive racing\, community spirit\, and charitable giving in the heart of Mobile.
URL:https://mobilebaynow.com/event/azalea-trail-run-presented-by-pnc-bankrrca-state-10k-championship/
LOCATION:Mardi Gras Park\, Mardi Gras Park\, Mobile\, AL\, 36602\, United States
CATEGORIES:Active
END:VEVENT
BEGIN:VEVENT
DTSTART;TZID=America/Chicago:20250322T090000
DTEND;TZID=America/Chicago:20250322T100000
DTSTAMP:20260420T040108
CREATED:20250317T074445Z
LAST-MODIFIED:20250317T074446Z
UID:10002001-1742634000-1742637600@mobilebaynow.com
SUMMARY:CARIBBEAN CARNIVAL FITNESS
DESCRIPTION:The Caribbean Carnival Fitness Class will take place on Saturday\, March 22\, 2025\, from 9 to 10 a.m. at the James M. Seals\, Jr. Community Center. This high-energy workout blends carnival vibes with an invigorating fitness session\, incorporating dance-based movements inspired by Soca\, Reggae\, Afrobeat\, and other Caribbean rhythms. Designed to enhance cardiovascular endurance\, strength\, and flexibility\, the class keeps participants engaged with a live DJ providing nonstop motivation. This full-body workout offers a fun and effective way to stay active.
URL:https://mobilebaynow.com/event/caribbean-carnival-fitness/
LOCATION:James M. Seals\, Jr. Community Center\, 540 Texas St\, Mobile\, Alabama\, 36603\, United States
CATEGORIES:Active
ATTACH;FMTTYPE=image/png:https://mobilebaynow.com/wp-content/uploads/2025/03/imgscale-37.png
END:VEVENT
END:VCALENDAR