BEGIN:VCALENDAR
VERSION:2.0
PRODID:-//Mobile Bay Now - ECPv6.15.20//NONSGML v1.0//EN
CALSCALE:GREGORIAN
METHOD:PUBLISH
X-WR-CALNAME:Mobile Bay Now
X-ORIGINAL-URL:https://mobilebaynow.com
X-WR-CALDESC:Events for Mobile Bay Now
REFRESH-INTERVAL;VALUE=DURATION:PT1H
X-Robots-Tag:noindex
X-PUBLISHED-TTL:PT1H
BEGIN:VTIMEZONE
TZID:America/Chicago
BEGIN:DAYLIGHT
TZOFFSETFROM:-0600
TZOFFSETTO:-0500
TZNAME:CDT
DTSTART:20240310T080000
END:DAYLIGHT
BEGIN:STANDARD
TZOFFSETFROM:-0500
TZOFFSETTO:-0600
TZNAME:CST
DTSTART:20241103T070000
END:STANDARD
BEGIN:DAYLIGHT
TZOFFSETFROM:-0600
TZOFFSETTO:-0500
TZNAME:CDT
DTSTART:20250309T080000
END:DAYLIGHT
BEGIN:STANDARD
TZOFFSETFROM:-0500
TZOFFSETTO:-0600
TZNAME:CST
DTSTART:20251102T070000
END:STANDARD
BEGIN:DAYLIGHT
TZOFFSETFROM:-0600
TZOFFSETTO:-0500
TZNAME:CDT
DTSTART:20260308T080000
END:DAYLIGHT
BEGIN:STANDARD
TZOFFSETFROM:-0500
TZOFFSETTO:-0600
TZNAME:CST
DTSTART:20261101T070000
END:STANDARD
END:VTIMEZONE
BEGIN:VEVENT
DTSTART;TZID=America/Chicago:20250104T090000
DTEND;TZID=America/Chicago:20250104T120000
DTSTAMP:20260422T065837
CREATED:20241230T140943Z
LAST-MODIFIED:20241230T140944Z
UID:10001890-1735981200-1735992000@mobilebaynow.com
SUMMARY:Hope Community 5K - Our Roots Run Deep!
DESCRIPTION:Hope Community\, in collaboration with the Mobile Bay Maker’s Market\, is proud to announce the first annual Our Roots Run Deep 5K fundraiser\, taking place on January 4\, 2025\, at the historic Anna T. Jeanes school property. Participants are invited to lace up their running shoes for this exciting event\, which supports community development while promoting healthy lifestyles and outdoor recreation. \n\n\n\nAfter completing the run or walk\, attendees can enjoy a day filled with delicious food\, live music\, and the opportunity to explore booths showcasing the talents of local makers and growers beneath the property’s beautiful oak trees. \n\n\n\nProceeds from race registrations will directly support the creation of a healthy teaching farm\, kitchen\, community center\, and gardens in the Fairhope South neighborhood. With just 200 square feet of garden bed capable of producing a season’s worth of fresh produce for one person\, your contribution helps foster unity\, education\, and well-being within the community. \n\n\n\nRace Highlights and Awards:\n\n\n\n\nAwards for the top overall male and female runners.\n\n\n\nRecognition for the top three male and female finishers in the following age groups:\n\n9 & under\n\n\n\n10-14\n\n\n\n15-19\n\n\n\n20-29\n\n\n\n30-39\n\n\n\n40-49\n\n\n\n50-59\n\n\n\n60-69\n\n\n\n70 & over\n\n\n\n\n\n\nWaiver and Guidelines:\n\n\n\nParticipants should ensure they are medically able and properly trained before entering the race. By registering\, participants accept full responsibility for their safety and agree to abide by race officials’ decisions. Certain items\, including bicycles\, skateboards\, baby joggers\, roller skates or blades\, animals\, and radio headsets\, are prohibited on the 5K course. \n\n\n\nThe race offers a chance to connect with the community\, support a meaningful cause\, and enjoy an inspiring event dedicated to unity and sustainability. Race results will be posted in a public forum. For more information and registration details\, visit the event’s official page.
URL:https://mobilebaynow.com/event/hope-community-5k-our-roots-run-deep/
LOCATION:Anna T. Jeanes School\, 6825 Twin Beech Rd\, Fairhope\, Alabama\, 36532\, United States
CATEGORIES:Active
ATTACH;FMTTYPE=image/webp:https://mobilebaynow.com/wp-content/uploads/2024/12/1bde9e0f-eb51-4c32-b293-849567129a9a.webp
END:VEVENT
BEGIN:VEVENT
DTSTART;TZID=America/Chicago:20250112T000000
DTEND;TZID=America/Chicago:20250112T235959
DTSTAMP:20260422T065837
CREATED:20250107T172001Z
LAST-MODIFIED:20250107T172003Z
UID:10001901-1736640000-1736726399@mobilebaynow.com
SUMMARY:Mobile Marathon\, Half Marathon\, and Fun RunPresented by Infirmary Health
DESCRIPTION:Start Times: \n\n\n\n\n7:25 AM: Wheelchair participants\n\n\n\n7:30 AM: Full Marathon\, Half Marathon\, and Relay runners\n\n\n\n12:30 PM: Fun Run\n\n\n\n\nStart Location: Church St next to Mardi Gras Park \n\n\n\nLocation:200 Government St.\, Corner of Government and Conception Streets. \n\n\n\nCourse Time Limit:The course will remain open for 7 hours. Participants must maintain an average pace of 16 minutes per mile or better. \n\n\n\nChip Timing:The race will be chip-timed. However\, per USATF rules\, official results will be determined by Gun Time. \n\n\n\nClothes Drop (Sunday\, Pre-Race): \n\n\n\n\nA clothes drop van will be available near the start line.\n\n\n\nRunners can place clothing items in provided plastic bags.\n\n\n\nItems can be retrieved near the end of the finish line chute at Lost and Found.\n\n\n\nRunners are responsible for personal belongings or clothing left on the course.\n\n\n\n\nBoston Marathon Qualifier:The Mobile Marathon is a Boston Marathon qualifier. Official results for the marathon will be automatically forwarded to the Boston Athletic Association after final tallying.
URL:https://mobilebaynow.com/event/mobile-marathon-half-marathon-and-fun-runpresented-by-infirmary-health/
LOCATION:Mardi Gras Park\, Mardi Gras Park\, Mobile\, AL\, 36602\, United States
CATEGORIES:Active
END:VEVENT
BEGIN:VEVENT
DTSTART;TZID=America/Chicago:20250112T113000
DTEND;TZID=America/Chicago:20250112T133000
DTSTAMP:20260422T065837
CREATED:20250107T172551Z
LAST-MODIFIED:20250107T172552Z
UID:10001902-1736681400-1736688600@mobilebaynow.com
SUMMARY:Goat yoga at Wingman Brewing
DESCRIPTION:Participants are invited to enjoy a morning of yoga accompanied by playful baby goats. This beginner-friendly class is suitable for all ages and experience levels\, offering a lighthearted and engaging experience. The cost is $33 (plus tax and fees) and includes approximately one hour of goat yoga and one beverage. Attendees are encouraged to arrive 15 minutes early and bring an old towel or mat for the session.
URL:https://mobilebaynow.com/event/goat-yoga-at-wingman-brewing/
LOCATION:Wingman Brewing\, 656 Saint Louis St\, Mobile\, Alabama\, United States
CATEGORIES:Active
ATTACH;FMTTYPE=image/jpeg:https://mobilebaynow.com/wp-content/uploads/2025/01/468956753_494061373685948_4456946388619011021_n.jpg
END:VEVENT
BEGIN:VEVENT
DTSTART;TZID=America/Chicago:20250118T070000
DTEND;TZID=America/Chicago:20250118T110000
DTSTAMP:20260422T065837
CREATED:20240108T175650Z
LAST-MODIFIED:20250114T190037Z
UID:10001171-1737183600-1737198000@mobilebaynow.com
SUMMARY:Casino Bridge Run 5K & 10K
DESCRIPTION:The 9th Annual Casino Bridge Run features a 10K\, 5K Run\, and 5K Competitive Walk\, offering participants an exciting and scenic race experience on the Mississippi Gulf Coast. \n\n\n\nRace Details: \n\n\n\n\nStart Time: All races begin at 8:00 AM.\n\n\n\nThe first 300 registrants will receive a custom fully sublimated long-sleeved tech shirt. Registrations beyond the first 300 will include a standard long-sleeved tech shirt\, though sizes are not guaranteed after the initial 300 shirts are distributed.\n\n\n\n\nParticipant Perks: \n\n\n\n\nAll runners and walkers will receive a custom finisher’s medal.\n\n\n\nAwards will be presented to the top three male and female finishers in five-year age groups for runners and ten-year age groups for walkers in all events.\n\n\n\n\nPost-Race Festivities:Participants are invited to a celebratory post-race party featuring free beer and refreshments. \n\n\n\nThis event promises a fun-filled atmosphere for athletes and enthusiasts alike.
URL:https://mobilebaynow.com/event/casino-bridge-run-5k-10k/
LOCATION:Ocean Springs/Biloxi Bridge\, 151 Beach Blvd\, Biloxi\, Mississippi\, 39530\, United States
CATEGORIES:Active
END:VEVENT
BEGIN:VEVENT
DTSTART;TZID=America/Chicago:20250118T083000
DTEND;TZID=America/Chicago:20250118T110000
DTSTAMP:20260422T065837
CREATED:20250110T051604Z
LAST-MODIFIED:20250110T051605Z
UID:10001906-1737189000-1737198000@mobilebaynow.com
SUMMARY:Walk with a doc
DESCRIPTION:The community is invited to participate in this free walking program\, open to individuals of all ages and abilities. Each event is guided by a local healthcare provider\, offering participants an opportunity to enjoy a safe walk\, gain insights into current health topics\, and connect with others in the community. Everyone is welcome to join the next walk.
URL:https://mobilebaynow.com/event/walk-with-a-doc/
LOCATION:University of South Alabama Campus\, 51 Jaguar Blvd\, Mobile\, Alabama\, 36688\, United States
CATEGORIES:Active
END:VEVENT
BEGIN:VEVENT
DTSTART;TZID=America/Chicago:20250120T000000
DTEND;TZID=America/Chicago:20250120T235959
DTSTAMP:20260422T065837
CREATED:20250117T063019Z
LAST-MODIFIED:20250117T063020Z
UID:10001913-1737331200-1737417599@mobilebaynow.com
SUMMARY:2025 BRIDGE BUILDER CLASSIC
DESCRIPTION:The excitement of HBCU basketball returns to the Port City with the Bridge Builder Classic\, scheduled for Saturday\, January 20\, 2025\, at the USA Mitchell Center. Now in its fourth year\, this event features two Historically Black Colleges and Universities competing for the coveted Bridge Builder Classic trophy. This year’s matchup highlights the Thorobreds of Kentucky State University hosting the Tigers of Benedict College. \n\n\n\nAhead of the main event\, four local high schools will take the court\, offering a showcase of exceptional local talent.
URL:https://mobilebaynow.com/event/2025-bridge-builder-classic/
LOCATION:The Mitchell Center\, 307 N. University Blvd.\, Mobile\, Alabama\, 36608\, United States
CATEGORIES:Active
END:VEVENT
BEGIN:VEVENT
DTSTART;TZID=America/Chicago:20250131T180000
DTEND;TZID=America/Chicago:20250131T190000
DTSTAMP:20260422T065837
CREATED:20250107T173608Z
LAST-MODIFIED:20250107T173610Z
UID:10001903-1738346400-1738350000@mobilebaynow.com
SUMMARY:SENIOR BOWL STREET PARTYMARDI GRAS PLAYER PARADE
DESCRIPTION:Spectators are invited to line the parade route\, starting at the Renaissance Hotel® on Royal Street and heading west on Dauphin Street toward Cathedral Square\, for the annual Mardi Gras-style player parade. Downtown bars and restaurants will offer dinner specials and craft cocktails inspired by Senior Bowl week. The event features local high school marching bands leading the procession\, which includes players in their college jerseys\, college mascots\, local dignitaries\, and NFL® cheerleaders. This celebration highlights the spirit of Mardi Gras in Mobile for all to enjoy!
URL:https://mobilebaynow.com/event/senior-bowl-street-partymardi-gras-player-parade/
LOCATION:Downtown Mobile Entertainment District\, Dauphin Street\, Mobile\, Alabama\, United States
CATEGORIES:Active
ATTACH;FMTTYPE=image/jpeg:https://mobilebaynow.com/wp-content/uploads/2025/01/Parade-photo-2024.jpg
END:VEVENT
END:VCALENDAR