BEGIN:VCALENDAR
VERSION:2.0
PRODID:-//Mobile Bay Now - ECPv6.15.20//NONSGML v1.0//EN
CALSCALE:GREGORIAN
METHOD:PUBLISH
X-WR-CALNAME:Mobile Bay Now
X-ORIGINAL-URL:https://mobilebaynow.com
X-WR-CALDESC:Events for Mobile Bay Now
REFRESH-INTERVAL;VALUE=DURATION:PT1H
X-Robots-Tag:noindex
X-PUBLISHED-TTL:PT1H
BEGIN:VTIMEZONE
TZID:America/Chicago
BEGIN:DAYLIGHT
TZOFFSETFROM:-0600
TZOFFSETTO:-0500
TZNAME:CDT
DTSTART:20230312T080000
END:DAYLIGHT
BEGIN:STANDARD
TZOFFSETFROM:-0500
TZOFFSETTO:-0600
TZNAME:CST
DTSTART:20231105T070000
END:STANDARD
BEGIN:DAYLIGHT
TZOFFSETFROM:-0600
TZOFFSETTO:-0500
TZNAME:CDT
DTSTART:20240310T080000
END:DAYLIGHT
BEGIN:STANDARD
TZOFFSETFROM:-0500
TZOFFSETTO:-0600
TZNAME:CST
DTSTART:20241103T070000
END:STANDARD
BEGIN:DAYLIGHT
TZOFFSETFROM:-0600
TZOFFSETTO:-0500
TZNAME:CDT
DTSTART:20250309T080000
END:DAYLIGHT
BEGIN:STANDARD
TZOFFSETFROM:-0500
TZOFFSETTO:-0600
TZNAME:CST
DTSTART:20251102T070000
END:STANDARD
END:VTIMEZONE
BEGIN:VEVENT
DTSTART;TZID=America/Chicago:20241101T000000
DTEND;TZID=America/Chicago:20241101T235959
DTSTAMP:20260422T101347
CREATED:20241028T172038Z
LAST-MODIFIED:20241028T172438Z
UID:10001824-1730419200-1730505599@mobilebaynow.com
SUMMARY:Port City Classic Business Expo
DESCRIPTION:The Port City Classic is a highly anticipated HBCU football showdown between Alcorn State University and Alabama State University\, set to bring fans a thrilling game in Mobile’s vibrant atmosphere. Taking place on Saturday\, November 1\, at Ladd-Peebles Stadium\, the game celebrates HBCU pride\, tradition\, and community spirit as the BraveHawks and the Hornets face off in an intense matchup. Beyond the gridiron action\, the event showcases a festive atmosphere with lively halftime performances and rich cultural experiences\, uniting fans in shared pride and tradition. For event details and ticket information\, visit www.mobileportcityclassic.com.
URL:https://mobilebaynow.com/event/port-city-classic-business-expo/
LOCATION:Mobile Convention Center\, 1 S Water St\, Mobile\, AL\, 36602
CATEGORIES:Active,Most Popular
ATTACH;FMTTYPE=image/png:https://mobilebaynow.com/wp-content/uploads/2024/10/PCC-0503b3c694.png
END:VEVENT
BEGIN:VEVENT
DTSTART;TZID=America/Chicago:20241102T090000
DTEND;TZID=America/Chicago:20241102T110000
DTSTAMP:20260422T101347
CREATED:20241022T061450Z
LAST-MODIFIED:20241022T061452Z
UID:10001814-1730538000-1730545200@mobilebaynow.com
SUMMARY:Funnel cake 5k & FUN RUN at the 2024 Greater Gulf State Fair
DESCRIPTION:Run in the TASTIEST run on the Gulf Coast! Purchase your ticket to race down our Midway and get a funnel cake at the end! Your ticket includes Fair admission! Hosted by Matt McCoy.
URL:https://mobilebaynow.com/event/funnel-cake-5k-fun-run-at-the-2024-greater-gulf-state-fair/
LOCATION:Greater Gulf State Fair\, 7188 Zeigler Blvd\, Mobile\, Alabama\, 36608\, United States
CATEGORIES:Active,Most Popular
ATTACH;FMTTYPE=image/png:https://mobilebaynow.com/wp-content/uploads/2024/10/JcGBiGwg.png
END:VEVENT
BEGIN:VEVENT
DTSTART;TZID=America/Chicago:20241102T100000
DTEND;TZID=America/Chicago:20241102T120000
DTSTAMP:20260422T101347
CREATED:20241022T061736Z
LAST-MODIFIED:20241022T062106Z
UID:10001815-1730541600-1730548800@mobilebaynow.com
SUMMARY:Goat Yoga at the 2024 Greater Gulf State Fair
DESCRIPTION:Get mindful with Goat Yoga on Saturday\, November 2! Bring your mats\, towels\, and water for an exciting morning! A Goat Yoga ticket includes Fair Admission! Hosted by Lisa A. Blount!
URL:https://mobilebaynow.com/event/goat-yoga-at-the-2024-greater-gulf-state-fair/
LOCATION:Greater Gulf State Fair\, 7188 Zeigler Blvd\, Mobile\, Alabama\, 36608\, United States
CATEGORIES:Active,Most Popular
ATTACH;FMTTYPE=image/png:https://mobilebaynow.com/wp-content/uploads/2024/10/zMAqHYlw.png
END:VEVENT
BEGIN:VEVENT
DTSTART;TZID=America/Chicago:20241107T153000
DTEND;TZID=America/Chicago:20241107T170000
DTSTAMP:20260422T101347
CREATED:20241105T061305Z
LAST-MODIFIED:20241105T061307Z
UID:10001836-1730993400-1730998800@mobilebaynow.com
SUMMARY:Stitch in Time
DESCRIPTION:Creative hands are at work! The Library invites guests to join the staff in the Emma Cortez-Harris Room to work on cross-stitch projects and enjoy conversation with fellow crafters. Beginners are welcome\, with staff available to teach cross-stitch basics. Participants can create unique designs inspired by favorite TV shows\, holidays\, anime\, K-pop\, and more\, and pick up a free “Make and Take” kit. This class is designed for adults and teens\, though children with adult supervision are also welcome. \n\n\n\nRegistration is recommended but not required. For details or to register\, contact the Main Reference Desk at mainref@mplonline.org or 251-340-1458.
URL:https://mobilebaynow.com/event/stitch-in-time/
LOCATION:Ben May Main Library\, 701 Government Street\, Mobile\, AL\, 36602
CATEGORIES:Active
ATTACH;FMTTYPE=image/png:https://mobilebaynow.com/wp-content/uploads/2024/11/IMG_2389.png
END:VEVENT
BEGIN:VEVENT
DTSTART;TZID=America/Chicago:20241108T180000
DTEND;TZID=America/Chicago:20241108T193000
DTSTAMP:20260422T101347
CREATED:20241031T062842Z
LAST-MODIFIED:20241022T063149Z
UID:10001817-1731088800-1731094200@mobilebaynow.com
SUMMARY:Organ Dedication Concert\, entitled Our Rock\, Our Fortress\, Our Might: A Festival of Hymns and Voluntaries for the Season of Reformation and All Saints
DESCRIPTION:HCLC Mobile is bringing acclaimed organist Dr. Jonathan Rudy to Mobile to dedicate the church’s new organ. The 75-minute concert will feature seasonal hymns and organ music\, and will include selections from Bach\, Reger\, Peeters and Mulet. For more information\, call 251.342.8477 or visit HolyCrossLCMS.org.
URL:https://mobilebaynow.com/event/organ-dedication-concert-entitled-our-rock-our-fortress-our-might-a-festival-of-hymns-and-voluntaries-for-the-season-of-reformation-and-all-saints/
LOCATION:Holy Cross Lutheran Church\, 3900 Airport Blvd\, Mobile\, Alabama\, 36608\, United States
CATEGORIES:Active
ATTACH;FMTTYPE=image/png:https://mobilebaynow.com/wp-content/uploads/2024/10/FINALtoPRINT10072024OrganConcertInvite.png
END:VEVENT
BEGIN:VEVENT
DTSTART;TZID=America/Chicago:20241108T180000
DTEND;TZID=America/Chicago:20241108T200000
DTSTAMP:20260422T101347
CREATED:20241101T172726Z
LAST-MODIFIED:20241028T172935Z
UID:10001827-1731088800-1731096000@mobilebaynow.com
SUMMARY:ArtWalk with Joy Rancatore & Vanessa Reyner
DESCRIPTION:The Haunted Book Shop invites guests to the November Artwalk on November 8th\, from 6-8 p.m.\, featuring authors Joy E. Rancatore and Vanessa Reyner and their two soul-soothing books. These captivating works delve into themes of loss\, identity\, faith\, and the transformative power of hope. The November Artwalk promises an inspiring evening celebrating Rancatore and Reyner’s insights into resilience and self-discovery through storytelling.
URL:https://mobilebaynow.com/event/artwalk-with-joy-rancatore-vanessa-reyner/
LOCATION:The Haunted Book Shop\, 9 S Joachim Street\, Mobile\, AL\, 36602\, United States
CATEGORIES:Active,Most Popular
ATTACH;FMTTYPE=image/png:https://mobilebaynow.com/wp-content/uploads/2024/10/IMG_2268.png
END:VEVENT
BEGIN:VEVENT
DTSTART;TZID=America/Chicago:20241108T180000
DTEND;TZID=America/Chicago:20241108T210000
DTSTAMP:20260422T101347
CREATED:20241101T173746Z
LAST-MODIFIED:20241028T174033Z
UID:10001829-1731088800-1731099600@mobilebaynow.com
SUMMARY:NOVEMBER LODA ARTWALK CELEBRATES MARTIAL ARTS
DESCRIPTION:The LODA ArtWalk invites the community to an inspiring evening on Friday\, November 8\, 2024\, from 6 to 9 p.m. in Cathedral Square\, celebrating martial arts with activities and entertainment for all ages. Enjoy food\, vendors\, and a variety of engaging experiences. This event is free and open to the public.
URL:https://mobilebaynow.com/event/november-loda-artwalk-celebrates-martial-arts/
LOCATION:Cathedral Square\, 300 Conti St.\, Mobile\, AL\, 36602
CATEGORIES:Active
ATTACH;FMTTYPE=image/png:https://mobilebaynow.com/wp-content/uploads/2024/10/imgscale-25.png
END:VEVENT
BEGIN:VEVENT
DTSTART;TZID=America/Chicago:20241109T070000
DTEND;TZID=America/Chicago:20241109T110000
DTSTAMP:20260422T101347
CREATED:20241102T173022Z
LAST-MODIFIED:20241028T173255Z
UID:10001828-1731135600-1731150000@mobilebaynow.com
SUMMARY:Lion Trot 5K and Fun Run
DESCRIPTION:Location:Amelia Park\, 716 Mae St\, Saraland\, AL 36571 \n\n\n\nStart Times: \n\n\n\n\n5K begins at 8:00 a.m.\n\n\n\nFun Run starts at 9:00 a.m.\n\n\n\n\nCourse Details:Certified 5K course (AL22034JE) winds through Saraland neighborhoods\, starting and ending near Amelia Park. The fun run follows a straightforward out-and-back route. Courses are mostly flat with mild inclines and water stations along the way. \n\n\n\nRegistration Options: \n\n\n\n\nMail-in by November 2 or in-person by 12 p.m. on November 7 at McCoy Outdoor\, Run-N-Tri\, or Fleet Feet in Mobile.\n\n\n\nRace-day registration available at the Amelia Park pavilion from 6:30 to 7:45 a.m.\n\n\n\nOnline registration until 7 a.m. on November 9; race-day registration incurs a $5 increase.\n\n\n\n\nAwards and Recognition: \n\n\n\n\n5K: Top three male and female overall\, as well as top finishers in various age categories.\n\n\n\nFun Run: Ribbons for all one-mile finishers.\n\n\n\n\nShirts:Participants pre-registered by November 2 will receive a guaranteed t-shirt. Late registrants will receive shirts while supplies last. \n\n\n\nPost-Race:Food\, beverages\, awards\, and additional activities will be provided for all race participants.
URL:https://mobilebaynow.com/event/lion-trot-5k-and-fun-run/
LOCATION:Amelia Park\, 716 Mae Street\, Saraland\, AL\, 36571\, United States
CATEGORIES:Active
END:VEVENT
BEGIN:VEVENT
DTSTART;TZID=America/Chicago:20241109T080000
DTEND;TZID=America/Chicago:20241109T120000
DTSTAMP:20260422T101347
CREATED:20241101T172800Z
LAST-MODIFIED:20240910T173211Z
UID:10001605-1731139200-1731153600@mobilebaynow.com
SUMMARY:Mobile Walk to Defeat ALS
DESCRIPTION:The USA Health Kelly Butler ALS Center is inviting the community to join in the 2024 Mobile Walk to Defeat ALS on Saturday\, Nov. 9\, 2024\, at the University of South Alabama Intramural Field. The event will feature water\, snacks\, face painting and guest speakers. \n\n\n\nThe Walk to Defeat ALS is the No. 1 way to unite and fundraise for those living with ALS. Each year\, fundraising supports bold innovation into finding a cure for the disease. \n\n\n\nThe walk on the USA campus will begin at 10:15 a.m. with check-in starting at 9:30 a.m. To register\, visit https://secure2.convio.net/alsa/site/TR/Walks/Alabama?pg=entry&fr_id=16286
URL:https://mobilebaynow.com/event/mobile-walk-to-defeat-als/
LOCATION:University of South Alabama: Intramural Field\, 6450 John Counts Dr\, Mobile\, Alabama\, 36608\, United States
CATEGORIES:Active
END:VEVENT
BEGIN:VEVENT
DTSTART;TZID=America/Chicago:20241113T173000
DTEND;TZID=America/Chicago:20241113T183000
DTSTAMP:20260422T101347
CREATED:20241107T044247Z
LAST-MODIFIED:20241105T045053Z
UID:10001832-1731519000-1731522600@mobilebaynow.com
SUMMARY:Fiction Reading by Yuri Herrera 
DESCRIPTION:Yuri Herrera (Actopan\, México\, 1970). Has written three novels\, all of them translated into several languages: Kingdom Cons\, Signs Preceding the End of the World\, and Transmigration of Bodies; which have been published in English by And Other Stories. In 2016 he shared with translator Lisa Dillman the Best translated Book Award for the translation of Signs Preceding the End of the World. That same year he received the Anna Seghers Prize at the Academy of Arts of Berlin\, for the body of his work. His latest books are A Silent Fury: The El Bordo Mine Fire\, Ten Planets\, and La estación del pantano (Season of the Swamp). He is a professor of creative writing and literature at Tulane University\, in New Orleans.
URL:https://mobilebaynow.com/event/fiction-reading-by-yuri-herrera/
LOCATION:Student Center Terrace Room\, Student Center Terrace Room\, Mobile\, AL\, United States
CATEGORIES:Active
END:VEVENT
BEGIN:VEVENT
DTSTART;TZID=America/Chicago:20241123T000000
DTEND;TZID=America/Chicago:20241123T235959
DTSTAMP:20260422T101347
CREATED:20241118T135356Z
LAST-MODIFIED:20241118T135358Z
UID:10001849-1732320000-1732406399@mobilebaynow.com
SUMMARY:TURKEY 10-MILER\, 10K AND 5K STATE CHAMPIONSHIP RACE
DESCRIPTION:The Port City Pacers are set to host the Turkey 10 Miler on Saturday\, Nov. 23\, 2024\, at 8 a.m. at Mobile County’s River Delta Marina & Campground. This event will benefit Creola Police & Rescue\, the River Delta Marina\, and local food banks. Participants can choose to run or walk\, and donations—monetary or canned food—will be collected to support local food banks and pantries. For details on registration levels and additional information\, visit: Turkey Ten Miler\, 10K\, and 5K – RRCA State 10-Mile Championship Race in Creola\, AL\, Nov 23\, 2024 – Events.com.
URL:https://mobilebaynow.com/event/turkey-10-miler-10k-and-5k-state-championship-race/
LOCATION:Mobile County River Delta Marina\, 2350 Dead Lake Marina Rd.\, Creola\, Alabama\, 36525\, United States
CATEGORIES:Active
ATTACH;FMTTYPE=image/png:https://mobilebaynow.com/wp-content/uploads/2024/11/imgscale-26.png
END:VEVENT
BEGIN:VEVENT
DTSTART;TZID=America/Chicago:20241128T080000
DTEND;TZID=America/Chicago:20241128T100000
DTSTAMP:20260422T101347
CREATED:20241121T165347Z
LAST-MODIFIED:20241121T165349Z
UID:10001852-1732780800-1732788000@mobilebaynow.com
SUMMARY:Turkey Trot For Hope
DESCRIPTION:The Turkey Trot for Hope returns as a beloved Thanksgiving tradition. Participants can join the certified 5K run or the 1-mile “Gobble Wobble” fun run on Thanksgiving Day in Mobile\, Alabama. Proceeds benefit Rapahope\, a non-profit organization providing free year-round camp programs for families facing childhood cancer. These programs aim to create life-changing experiences filled with joy and unforgettable moments for children battling cancer. The event is made possible through the support of sponsors\, volunteers\, and fundraisers like the Turkey Trot for Hope.
URL:https://mobilebaynow.com/event/turkey-trot-for-hope/
LOCATION:Mardi Gras Park\, 140-148 S Royal St\, Mobile\, Alabama\, 36602\, United States
CATEGORIES:Active,Most Popular
ATTACH;FMTTYPE=image/jpeg:https://mobilebaynow.com/wp-content/uploads/2024/11/406455942_730439112442533_4853279027147227555_n.jpg
END:VEVENT
BEGIN:VEVENT
DTSTART;TZID=America/Chicago:20241130T000000
DTEND;TZID=America/Chicago:20241130T235959
DTSTAMP:20260422T101347
CREATED:20241123T164446Z
LAST-MODIFIED:20241121T164826Z
UID:10001851-1732924800-1733011199@mobilebaynow.com
SUMMARY:2024 IRON BOWL WATCH PARTY
DESCRIPTION:Mardi Gras Park will host the ultimate Iron Bowl Watch Party on Saturday\, Nov. 30\, 2024\, beginning two hours before kick-off. Guests can show their team spirit\, whether cheering “Roll Tide” or “War Eagle\,” while enjoying live music\, engaging activities\, and all the excitement of the Iron Bowl. Admission is free.
URL:https://mobilebaynow.com/event/2024-iron-bowl-watch-party/
LOCATION:Mardi Gras Park\, 140-148 S Royal St\, Mobile\, Alabama\, 36602\, United States
CATEGORIES:Active,Most Popular
ATTACH;FMTTYPE=image/png:https://mobilebaynow.com/wp-content/uploads/2024/11/imgscale-27.png
END:VEVENT
END:VCALENDAR