BEGIN:VCALENDAR
VERSION:2.0
PRODID:-//Mobile Bay Now - ECPv6.15.20//NONSGML v1.0//EN
CALSCALE:GREGORIAN
METHOD:PUBLISH
X-ORIGINAL-URL:https://mobilebaynow.com
X-WR-CALDESC:Events for Mobile Bay Now
REFRESH-INTERVAL;VALUE=DURATION:PT1H
X-Robots-Tag:noindex
X-PUBLISHED-TTL:PT1H
BEGIN:VTIMEZONE
TZID:America/Chicago
BEGIN:DAYLIGHT
TZOFFSETFROM:-0600
TZOFFSETTO:-0500
TZNAME:CDT
DTSTART:20230312T080000
END:DAYLIGHT
BEGIN:STANDARD
TZOFFSETFROM:-0500
TZOFFSETTO:-0600
TZNAME:CST
DTSTART:20231105T070000
END:STANDARD
BEGIN:DAYLIGHT
TZOFFSETFROM:-0600
TZOFFSETTO:-0500
TZNAME:CDT
DTSTART:20240310T080000
END:DAYLIGHT
BEGIN:STANDARD
TZOFFSETFROM:-0500
TZOFFSETTO:-0600
TZNAME:CST
DTSTART:20241103T070000
END:STANDARD
BEGIN:DAYLIGHT
TZOFFSETFROM:-0600
TZOFFSETTO:-0500
TZNAME:CDT
DTSTART:20250309T080000
END:DAYLIGHT
BEGIN:STANDARD
TZOFFSETFROM:-0500
TZOFFSETTO:-0600
TZNAME:CST
DTSTART:20251102T070000
END:STANDARD
END:VTIMEZONE
BEGIN:VEVENT
DTSTART;TZID=America/Chicago:20240907T000000
DTEND;TZID=America/Chicago:20240908T235959
DTSTAMP:20260422T132502
CREATED:20240820T174712Z
LAST-MODIFIED:20240820T174714Z
UID:10001573-1725667200-1725839999@mobilebaynow.com
SUMMARY:Mobile Brick Convention
DESCRIPTION:The MOBILE BRICK CONVENTION is making a return to Mobile\, AL in 2024\, and this time it’s twice as big! Known as the Greatest LEGO® Fan Event on Earth\, BRICK CONVENTION brings together all the creative\, hands-on\, and minds-on fun of LEGO® building into one activity- and entertainment-packed family event\, perfect for children of all ages and builders of all skills and interests. \n\n\n\nA portion of the proceeds from each Brick Convention is donated to Creations for Charity\, a nonprofit organization run entirely by volunteers. Creations for Charity purchases new LEGO sets for underprivileged children around the world during the holiday season. \n\n\n\nDates and Sessions: \n\n\n\nSaturday\, September 7 \n\n\n\nSession I: 10:00 am – 1:00 pmSession II: 2:00 pm – 5:00 pmSunday\, September 8 \n\n\n\nSession I: 10:00 am – 1:00 pmSession II: 2:00 pm – 5:00 pmPlease note that each session offers the same exhibits and activities. The event is closed between 1:00 pm and 2:00 pm. Tickets will not be sold at the door for sessions that are sold out.
URL:https://mobilebaynow.com/event/mobile-brick-convention/
LOCATION:Mobile Convention Center\, 1 S Water St\, Mobile\, AL\, 36602
CATEGORIES:Active
END:VEVENT
BEGIN:VEVENT
DTSTART;TZID=America/Chicago:20240907T080000
DTEND;TZID=America/Chicago:20240907T100000
DTSTAMP:20260422T132502
CREATED:20230828T190031Z
LAST-MODIFIED:20240820T175316Z
UID:10000979-1725696000-1725703200@mobilebaynow.com
SUMMARY:Hurricane Run 5K and Fun Run
DESCRIPTION:Course: \n\n\n\nThis beautifully flat\, certified 5K course (AL13028JD) begins and ends at the Dauphin Island Estuarium on the east end of Dauphin Island\, winding through the island’s residential neighborhoods. The Fun Run covers approximately ½ mile. \n\n\n\nPacket Pick-up and Late Registration: \n\n\n\nParticipants can pick up packets and register late on Friday\, September 8\, from 12:00 PM to 5:30 PM at the PCP office located at 358 Morgan Ave. Packet pick-up and race day registration will also be available at the Sea Lab on race day from 6:45 AM to 7:50 AM. \n\n\n\nAwards: \n\n\n\n5K: Awards will be given to the top 3 overall male and female finishers\, as well as the top male and female in the Masters\, Grandmasters\, Senior Grandmasters\, Race Walkers\, and Wheelchair categories. Additional awards will be given to the top 3 male and female finishers in the following age groups: 9 and under\, 10-14\, 15-19\, 20-24\, 25-29\, 30-34\, 35-39\, 40-44\, 45-49\, 50-54\, 55-59\, 60-64\, 65-69\, 70-74\, 75-79\, and 80-99. \n\n\n\nFun Run: Awards will be presented to the top 3 overall boys and girls\, as well as the top 3 boys and girls in the following age groups: 6 & under\, 7-9\, and 10-12. \n\n\n\nTechnical Tee Shirts: \n\n\n\nRace participants will receive short-sleeved moisture-management tee shirts\, available in men’s and women’s sizes. Shirts will be available on race day while supplies last. No reorders will be made after the race. \n\n\n\nPost-race: \n\n\n\nRefreshments and awards will be provided following the race.
URL:https://mobilebaynow.com/event/hurricane-run-5k-and-fun-run-2/
LOCATION:Dauphin Island\, Alabama\, United States
CATEGORIES:Active
END:VEVENT
BEGIN:VEVENT
DTSTART;TZID=America/Chicago:20240910T080000
DTEND;TZID=America/Chicago:20240910T170000
DTSTAMP:20260422T132502
CREATED:20240910T172431Z
LAST-MODIFIED:20240910T172433Z
UID:10001604-1725955200-1725987600@mobilebaynow.com
SUMMARY:Full Moon Yoga & Sound Healing Meditation
DESCRIPTION:USA Bell Tower – near Mitchell CenterEvent of rain: moves to USA Library 181 \n\n\n\nActivities: Gentle Stretching and Sound Healing with Cadie Simmons\, Meditation with Dr. Nena\, Mindful Walking with Drs. Cay & Kent\, Light Dinner \n\n\n\nKindly bring your own yoga mat\, cushions/pillow\, etc
URL:https://mobilebaynow.com/event/full-moon-yoga-sound-healing-meditation/
LOCATION:USA Bell Tower\, Mobile\, Alabama\, 36608\, United States
CATEGORIES:Active
END:VEVENT
BEGIN:VEVENT
DTSTART;TZID=America/Chicago:20240912T100000
DTEND;TZID=America/Chicago:20240912T113000
DTSTAMP:20260422T132502
CREATED:20230302T120045Z
LAST-MODIFIED:20240910T055423Z
UID:10000791-1726135200-1726140600@mobilebaynow.com
SUMMARY:Toddler Time
DESCRIPTION:$5 members per child per session | $10 non-members per child per session \nJoin us for single sessions of sensory-based art projects designed especially for toddlers and preschool children. Toddler time is open to children ages 1 through 5. \nSeptember 12\, 2024 – Mixed! Color Mixing and MakingJoin us for a story and process art all about COLOR! Together\, we will read Mixed! A Colorful Story by Arree Chung and explore color mixing through a variety of sensory and process painting exercises.
URL:https://mobilebaynow.com/event/toddler-time/
LOCATION:Mobile Museum Of Art\, 4850 Museum Drive\, Mobile\, AL\, 36608
CATEGORIES:Active,Art,Kids
END:VEVENT
BEGIN:VEVENT
DTSTART;TZID=America/Chicago:20240913T000000
DTEND;TZID=America/Chicago:20240913T235959
DTSTAMP:20260422T132502
CREATED:20240827T183553Z
LAST-MODIFIED:20240827T183554Z
UID:10001588-1726185600-1726271999@mobilebaynow.com
SUMMARY:FRIENDS OF MOBILE ANIMAL SHELTER 2ND ANNUAL GALA
DESCRIPTION:Attend the Second Annual Black Tie and Tails Gala on Friday\, September 13\, 2024\, at 6 p.m. at Crown Hall. This event supports the Friends of the Mobile Animal Shelter\, an organization dedicated to ensuring the welfare of countless animals in need. Guests can enjoy casual attire\, food\, entertainment\, and the company of fellow animal lovers. Participation helps local organizations continue their mission to provide shelter\, medical care\, and loving homes for Mobile’s animals. Ticket prices range from $100 to $2\,000.
URL:https://mobilebaynow.com/event/friends-of-mobile-animal-shelter-2nd-annual-gala/
LOCATION:Crown Hall\, 853 Dauphin St Suite A\, Mobile\, Alabama\, 36602\, United States
CATEGORIES:Active
END:VEVENT
BEGIN:VEVENT
DTSTART;TZID=America/Chicago:20240921T080000
DTEND;TZID=America/Chicago:20240921T103000
DTSTAMP:20260422T132502
CREATED:20240913T131614Z
LAST-MODIFIED:20240910T131834Z
UID:10001596-1726905600-1726914600@mobilebaynow.com
SUMMARY:17th Annual GO Run
DESCRIPTION:This 5K and 1-mile fun run for gynecologic oncology\, presented by the Catranis Family Charitable Foundation\, benefits GYN cancer research at the USA Health Mitchell Cancer Institute.
URL:https://mobilebaynow.com/event/17th-annual-go-run/
LOCATION:University Of South Alabama Stadium\, 500 Stadium Drive\, Mobile\, Alabama\, 36608\, United States
CATEGORIES:Active
END:VEVENT
BEGIN:VEVENT
DTSTART;TZID=America/Chicago:20240925T080000
DTEND;TZID=America/Chicago:20240925T103000
DTSTAMP:20260422T132502
CREATED:20240910T044636Z
LAST-MODIFIED:20240910T133412Z
UID:10001590-1727251200-1727260200@mobilebaynow.com
SUMMARY:2024 Women’s Forum: From Passion into Purpose
DESCRIPTION:The 2024 Women’s Forum: From Passion into Purpose offers a valuable opportunity for the community to network and learn from a panel of local women covering various topics. This year’s keynote speaker is Liz Huntley\, a seasoned civil litigator and child advocacy expert. The event takes place Wednesday\, September 25\, 2024\, at the Saenger Theater from 8:00 a.m. to 10:30 a.m.
URL:https://mobilebaynow.com/event/2024-womens-forum-from-passion-into-purpose/
LOCATION:Saenger Theatre\, 6 S Joachim St\, Mobile\, AL\, United States
CATEGORIES:Active
ATTACH;FMTTYPE=image/png:https://mobilebaynow.com/wp-content/uploads/2024/09/2024WomensForumInvite.png
END:VEVENT
BEGIN:VEVENT
DTSTART;TZID=America/Chicago:20240928T080000
DTEND;TZID=America/Chicago:20240928T140000
DTSTAMP:20260422T132502
CREATED:20240920T175500Z
LAST-MODIFIED:20240916T181332Z
UID:10001008-1727510400-1727532000@mobilebaynow.com
SUMMARY:This is Life 5K and Fun Run
DESCRIPTION:This is LIFE 5K & Fun Run \n\n\n\nAll proceeds benefit The Women’s Resource Center. Strollers are welcome! Lunch\, dry fit t-shirt\, and raffle tickets for door prizes are all provided for runners.
URL:https://mobilebaynow.com/event/this-is-life-5k-and-fun-run-2/
LOCATION:SEMMES HONOR PARK\, 4100 Wulff Rd\, Semmes\, AL\, 36575\, United States
CATEGORIES:Active
END:VEVENT
BEGIN:VEVENT
DTSTART;TZID=America/Chicago:20240928T083000
DTEND;TZID=America/Chicago:20240928T163000
DTSTAMP:20260422T132502
CREATED:20240920T182018Z
LAST-MODIFIED:20240916T182533Z
UID:10001613-1727512200-1727541000@mobilebaynow.com
SUMMARY:MENTAL HEALTH FIRST AID COURSE
DESCRIPTION:Educate yourself at the Mental Health First Aid Course\, on Saturday\, Sept. 28\, 2024\, from 8:30 a.m. to 4:30 p.m. at the Innovation Portal. Helping 2 Overcome is excited to offer this course free to all participants. Space is limited so register soon.
URL:https://mobilebaynow.com/event/mental-health-first-aid-course/
LOCATION:Innovation Portal\, 358 St. Louis St.\, Mobile\, AL\, 36602
CATEGORIES:Active
END:VEVENT
END:VCALENDAR