BEGIN:VCALENDAR
VERSION:2.0
PRODID:-//Mobile Bay Now - ECPv6.15.20//NONSGML v1.0//EN
CALSCALE:GREGORIAN
METHOD:PUBLISH
X-WR-CALNAME:Mobile Bay Now
X-ORIGINAL-URL:https://mobilebaynow.com
X-WR-CALDESC:Events for Mobile Bay Now
REFRESH-INTERVAL;VALUE=DURATION:PT1H
X-Robots-Tag:noindex
X-PUBLISHED-TTL:PT1H
BEGIN:VTIMEZONE
TZID:America/Chicago
BEGIN:DAYLIGHT
TZOFFSETFROM:-0600
TZOFFSETTO:-0500
TZNAME:CDT
DTSTART:20230312T080000
END:DAYLIGHT
BEGIN:STANDARD
TZOFFSETFROM:-0500
TZOFFSETTO:-0600
TZNAME:CST
DTSTART:20231105T070000
END:STANDARD
BEGIN:DAYLIGHT
TZOFFSETFROM:-0600
TZOFFSETTO:-0500
TZNAME:CDT
DTSTART:20240310T080000
END:DAYLIGHT
BEGIN:STANDARD
TZOFFSETFROM:-0500
TZOFFSETTO:-0600
TZNAME:CST
DTSTART:20241103T070000
END:STANDARD
BEGIN:DAYLIGHT
TZOFFSETFROM:-0600
TZOFFSETTO:-0500
TZNAME:CDT
DTSTART:20250309T080000
END:DAYLIGHT
BEGIN:STANDARD
TZOFFSETFROM:-0500
TZOFFSETTO:-0600
TZNAME:CST
DTSTART:20251102T070000
END:STANDARD
END:VTIMEZONE
BEGIN:VEVENT
DTSTART;TZID=America/Chicago:20240601T073000
DTEND;TZID=America/Chicago:20240601T100000
DTSTAMP:20260422T181106
CREATED:20240522T175418Z
LAST-MODIFIED:20240522T175420Z
UID:10001341-1717227000-1717236000@mobilebaynow.com
SUMMARY:Do It in The Bush 5K
DESCRIPTION:Location: \n\n\n\nMedal of Honor Park\, 1711 Hillcrest Road\, Mobile\, AL \n\n\n\nRegistration: \n\n\n\nRegister by mail (entries should be postmarked by May 25)\, in person at McCoy Outdoor\, Run-N-Tri\, or Fleet Feet in Mobile until noon on the May 30\, or online until 6 AM May 31. Early packet pick-up and late registration will be available from noon to 5:30 PM on Friday\, May 31\, at the PCP office located at 358 Morgan Avenue.  Race day registration and packet pick-up at the Medal of Honor Park from 6:30-7:30 A.M. \n\n\n\nCourse: \n\n\n\n5K Cross-Country course on the trails of Medal of Honor Park. This course has some of roots\, rocks\, and mud puddles (depending on the weather). \n\n\n\nAwards: \n\n\n\nTop male and female Overall\, Masters\, Grandmasters\, Senior Grandmasters\, and Walker (walkers do not run at all during the race). Top three male and female in age groups: 9 and under\, 10-14\, 15-19\, 20-24\, 25-29\, 30-34\, 35-39\, 40-44\, 45-49\, 50-54\, 55-59\, 60-64\, 65-69\, 70-74\, 75-79\, and 80+. \n\n\n\nShirts: \n\n\n\nTo guarantee a shirt on race day\, you must submit your application and fees by May 25. \n\n\n\nPost-Race Party: \n\n\n\nAwards\, food & beverages provided after the race.  Presentation of the scholarship winner(s).
URL:https://mobilebaynow.com/event/do-it-in-the-bush-5k/
LOCATION:Medal of Honor Park\, 1711 Hillcrest Road\, Mobile\, AL\, 36609
CATEGORIES:Active
END:VEVENT
BEGIN:VEVENT
DTSTART;TZID=America/Chicago:20240603T080000
DTEND;TZID=America/Chicago:20240603T170000
DTSTAMP:20260422T181106
CREATED:20240527T121940Z
LAST-MODIFIED:20240608T213152Z
UID:10001348-1717401600-1717434000@mobilebaynow.com
SUMMARY:Outdoor Adventures Exhibit
DESCRIPTION:Let’s learn about the great outdoors! \n\n\n\n[Event happening June 3rd to July 31st]  \n\n\n\nCome to Ben May Main Library’s Outdoor Adventures Exhibit to learn about National Parks that can be found both near and far from Mobile. Get inspired to begin an outdoor adventure with the beautiful images\, linked resources\, and library materials. Adventure begins at your library! \n\n\n\nFor more information\, please call (251) 340-1458 or email Stephanie Jackson at sjackson2@mplonline.org.
URL:https://mobilebaynow.com/event/outdoor-adventures-exhibit/
LOCATION:Ben May Main Library\, 701 Government Street\, Mobile\, AL\, 36602
CATEGORIES:Active,Kids
ATTACH;FMTTYPE=image/png:https://mobilebaynow.com/wp-content/uploads/2024/05/IMG_1569-1536x864-1.png
END:VEVENT
BEGIN:VEVENT
DTSTART;TZID=America/Chicago:20240607T000000
DTEND;TZID=America/Chicago:20240608T235959
DTSTAMP:20260422T181106
CREATED:20240527T120929Z
LAST-MODIFIED:20240527T120931Z
UID:10001347-1717718400-1717891199@mobilebaynow.com
SUMMARY:World Championship Turkey Calling Contest
DESCRIPTION:Many of the country’s top turkey callers are eagerly awaiting the chance to show off their talents at the Mobile Convention Center June 7-8. The World Championship Turkey Calling Contest has long-time ties to the city of Mobile. The inaugural event was held in Mobile in 1940 at the Battle House Hotel when Mr. Fred T. Stimpson\, the current mayor’s grandfather\, took home top honors.Former world champions will judge the competition.  Male and female competitors will be given a turkey-calling situation to replicate using air and friction calls. The contest will feature various age groups (from 10 and under to Senior and Open) competing for the world title in their respective divisions.  \n\n\n\nSchedule of Events (Rolling Schedule): \n\n\n\nFriday\, June 7 – Begins at 9 am \n\n\n\nFriction Prelims \n\n\n\nPoults:  10 & under \n\n\n\nJuniors:  11-15 years old \n\n\n\nIntermediate:  16-20 years old \n\n\n\nWorld Championship Open Division \n\n\n\nSaturday\, June 8 – Begins at 9 am \n\n\n\nWorld Friction Finals \n\n\n\nOwling \n\n\n\nGobbling \n\n\n\n2-Man Team \n\n\n\nWorld Finals \n\n\n\nAdmission to the World Championship Turkey Calling Championship is free.
URL:https://mobilebaynow.com/event/world-championship-turkey-calling-contest/
LOCATION:Mobile Convention Center\, 1 S Water St\, Mobile\, AL\, 36602
CATEGORIES:Active
END:VEVENT
BEGIN:VEVENT
DTSTART;TZID=America/Chicago:20240608T073000
DTEND;TZID=America/Chicago:20240608T103000
DTSTAMP:20260422T181106
CREATED:20240527T120144Z
LAST-MODIFIED:20240527T120145Z
UID:10001345-1717831800-1717842600@mobilebaynow.com
SUMMARY:Africatown Bridge Challenge 5K and 1 Mile
DESCRIPTION:About this event\n\n\n\nOrganized by: \n\n\n\nAfricatown Community Development Corporation (https://www.africatowncdc.com/) \n\n\n\nBenefits: \n\n\n\nACDC community programs \n\n\n\nLocation: \n\n\n\nPacket pick-up and race day registration will take place at the former Farmers Market located 645 Shelby Street\, Mobile\, AL 36610 (close to intersection of Shelby Street and Tin Top Lane). \n\n\n\nDistance: \n\n\n\nThe out and back 5K course will take participants from Tin Top Lane\, over the Africatown Bridge and back. The 1 Mile course will take participants from Tin Top Lane and to the foot of the Africatown Bridge and back to Tin Top Lane. \n\n\n\nRegistration: \n\n\n\nRegister by mail (entries should be postmarked by June 1\, 2024)\, in person at McCoy Outdoor\, Run-N-Tri\, or Fleet Feet in Mobile until noon on June 6\, or online until 4 AM\, June 7 . Race day registration and packet pick-up will be available from 6:00 – 7:25 AM at the former Farmers Market on Shelby St. \n\n\n\nEntry fees: \n\n\n\nRace fees include a race shirt and post-race celebration. \n\n\n\nAwards: \n\n\n\n5K: Top male and female\, and top three male and female in age groups: 9 and under\, 10-14\, 15-19\, 20-24\, 25-29\, 30-34\, 35-39\, 40-44\, 45-49\, 50-54\, 55-59\, 60-64\, 65-69\, 70-74\, 75+ \n\n\n\nFun Run: Finishers’ ribbons \n\n\n\nShirts: \n\n\n\nTo guarantee a shirt on race day\, your application must be received by June 1. \n\n\n\nPost-Race Party: \n\n\n\nAwards\, music\, and food at the celebration at the Farmers Market. \n\n\n\nWeather Disclaimer: \n\n\n\nThe Africatown Bridge Challenge will take place rain or shine. In the event of severe or dangerous weather conditions\, the Africatown Community Development Corporation reserves the right to postpone the start of or to cancel the Africatown Bridge Challenge 5K and 1 Mile. \n\n\n\nNo refunds will be granted.
URL:https://mobilebaynow.com/event/africatown-bridge-challenge-5k-and-1-mile/
LOCATION:645 Shelby St\, 645 Shelby St\, Mobile\, AL\, 36610\, United States
CATEGORIES:Active
END:VEVENT
BEGIN:VEVENT
DTSTART;TZID=America/Chicago:20240612T090000
DTEND;TZID=America/Chicago:20240612T120000
DTSTAMP:20260422T181106
CREATED:20240603T174025Z
LAST-MODIFIED:20240603T174027Z
UID:10001356-1718182800-1718193600@mobilebaynow.com
SUMMARY:NATURE NAUTS
DESCRIPTION:Enjoy a day of summertime fun at Nature Nauts\, on Wednesday\, June 12\, 2024\, from 9 a.m. to 12 p.m. at Bellingrath Gardens and Homes. Learn about the Gulf Coast’s wildlife and ecology from various environmental organizations throughout the region. Admission is $16 for adults\, $10 for children ages 5 through 12\, and free for children ages 4 and under. For more information\, visit here: bellingrath.org/experiences/events/naturenauts/
URL:https://mobilebaynow.com/event/nature-nauts/
LOCATION:BELLINGRATH GARDENS AND HOMES\, 12401 Bellingrath Gardens Road\, Theodore\, Alabama\, 36582\, United States
CATEGORIES:Active
END:VEVENT
BEGIN:VEVENT
DTSTART;TZID=America/Chicago:20240614T180000
DTEND;TZID=America/Chicago:20240614T210000
DTSTAMP:20260422T181106
CREATED:20240430T181729Z
LAST-MODIFIED:20240603T174224Z
UID:10001315-1718388000-1718398800@mobilebaynow.com
SUMMARY:Roll Mobile 2024
DESCRIPTION:Join us every second Friday from May to October\, and back again in December from 6-9 pm for skate night! The skate rink entrance is located at the corner of Conception & Dauphin Street. DJ Geaux will be live for all seven events! \n\n\n\nMay\, July\, October & December will have free skate rentals for the first 50 people. Includes roller skates\, socks\, and safety gear. \n\n\n\n*Roller skates or roller blades only. No Skateboards\, bicycles\, scooters\, or hoverboards. \n\n\n\nMonthly Themes:June 14th: MemeJuly 12th: TouristAugust 9th: 90’sSeptember 13th: MoviesOctober 11th: HalloweenDecember 13th: Christmas \n\n\n\nFor more information\, please contact us by calling 251-208-1550 or emailing MPRDEvents@cityofmobile.org.
URL:https://mobilebaynow.com/event/roll-mobile-2024/
LOCATION:Bienville Square\, 150 Dauphin St\, Mobile\, AL\, 36602\, United States
CATEGORIES:Active,Music
ATTACH;FMTTYPE=image/png:https://mobilebaynow.com/wp-content/uploads/2024/04/imgscale-58.png
END:VEVENT
BEGIN:VEVENT
DTSTART;TZID=America/Chicago:20240615T073000
DTEND;TZID=America/Chicago:20240615T110000
DTSTAMP:20260422T181106
CREATED:20240610T142328Z
LAST-MODIFIED:20240610T142329Z
UID:10001488-1718436600-1718449200@mobilebaynow.com
SUMMARY:Hot Trot 5K and Fun Run
DESCRIPTION:Fun Fundraiser to raise funds for the ARC – Baldwin County.  Run or walk – 5K or 1 Mile – and join the party afterwards at LuLu’s. \n\n\n\nEvent details and schedule\n\n\n\nDoc’s HOT TROT for ARC 5K Race and \n\n\n\n1 Mile/Walk Run \n\n\n\nPresented by:   \n\n\n\nRobertsdale Rotary Club (Robertsdale Rotary Foundation) \n\n\n\nBenefits: \n\n\n\nARC – Baldwin County \n\n\n\nLocation: \n\n\n\nLuLu’s at Homeport Marina\, Gulf Shores\, AL \n\n\n\nWhen: \n\n\n\nSaturday\, June 15\, 2024 \n\n\n\n7:30 AM – 5K Run and 5K Walk Start \n\n\n\n8:30 AM – Fun Run Start \n\n\n\nPacket Pick-up \n\n\n\nEarly Packet Pick-up:  \n\n\n\nFriday\, June 14: 3-6 PM at LuLu’s \n\n\n\nRace Day Packet Pick-up and Registration: \n\n\n\nSaturday\, June 15: 6 AM until race time \n\n\n\nAwards: \n\n\n\nRunners \n\n\n\nOverall: Top 3 Males and Top 3 Females \n\n\n\nMaster (40+): Top Male and Top Female \n\n\n\nGrand Master (50+): Top Male and Top Female \n\n\n\nSenior Grand Master (60+): Top Male and Top Female \n\n\n\nAge Groups:  Top 5 Males and Top 5 Females in age divisions 0-9\, 10-14\,15-19\, 20-24\, 25-29\, 30-34\, 35-39\, 40-44\, 45-49\, 50-54\, 55-59\, 60-64\, 65-69\, 70-74\, 75+ \n\n\n\nSpecial Awards: \n\n\n\nFastest Father-Child Team  \n\n\n\n5K Race Walk – no running during race \n\n\n\nOverall: Top 3 Males and Top 3 Females \n\n\n\nAge Groups:  Top 3 Males and Top 3 Females in age divisions 0-29\, 30-39\, 40-49\, 50-59\, 60+ \n\n\n\n1 Mile Run/Walk \n\n\n\nTop 3 Males and Top 3 Females  \n\n\n\nParticipants must be registered in the event to be eligible for an award.  Participants are eligible for only one award per race. 
URL:https://mobilebaynow.com/event/hot-trot-5k-and-fun-run/
LOCATION:Lulu’s at Homeport Marina\, 200 E 25th Avenue\, Gulf Shores\, AL\, 36542\, United States
CATEGORIES:Active
END:VEVENT
BEGIN:VEVENT
DTSTART;TZID=America/Chicago:20240618T080000
DTEND;TZID=America/Chicago:20240618T170000
DTSTAMP:20260422T181106
CREATED:20240618T173748Z
LAST-MODIFIED:20240618T173749Z
UID:10001502-1718697600-1718730000@mobilebaynow.com
SUMMARY:FREE: PWG Athletic Youth Camp - USA Football & NFL Foundation
DESCRIPTION:Former NFL players and cheerleaders will teach athletic skills applicable to all sports at the Youth Sports Camp. Whether aspiring athletes or those who simply love being active\, participants will find something for everyone to enjoy.
URL:https://mobilebaynow.com/event/free-pwg-athletic-youth-camp-usa-football-nfl-foundation/
LOCATION:Highpoint Park\, 4328 Highpoint Blvd\, Prichard\, AL\, 36610\, United States
CATEGORIES:Active
END:VEVENT
BEGIN:VEVENT
DTSTART;TZID=America/Chicago:20240627T000000
DTEND;TZID=America/Chicago:20240629T235959
DTSTAMP:20260422T181106
CREATED:20240618T180400Z
LAST-MODIFIED:20240618T180402Z
UID:10001506-1719446400-1719705599@mobilebaynow.com
SUMMARY:Distinguished Young Women National Finals
DESCRIPTION:Distinguished Young Women is a scholarship program dedicated to positively impacting young women by providing a free\, transformative experience that encourages them to reach their full potential. The program awarded over $1 billion in college-granted scholarships to the Class of 2023 at the local\, state\, and national levels. Since 1958\, it has granted over $120 million in cash scholarships. The National Finals for Distinguished Young Women are hosted annually in Mobile\, with state representatives from all fifty states competing. \n\n\n\nThe 67th National Finals program includes four public shows at the Mobile Civic Center Theater: Community Night on June 26\, the First Preliminary on June 27 at 7 p.m.\, the Second Preliminary on June 28 at 7 p.m.\, and Finals Night on June 29 at 7 p.m.
URL:https://mobilebaynow.com/event/distinguished-young-women-national-finals/
LOCATION:Mobile Civic Center Theater\, 401 Civic Center Dr\, Mobile\, AL\, 36602
CATEGORIES:Active
END:VEVENT
BEGIN:VEVENT
DTSTART;TZID=America/Chicago:20240629T090000
DTEND;TZID=America/Chicago:20240629T100000
DTSTAMP:20260422T181106
CREATED:20240618T175553Z
LAST-MODIFIED:20240618T175555Z
UID:10001505-1719651600-1719655200@mobilebaynow.com
SUMMARY:Yoga on the Terrace
DESCRIPTION:Kindred Yoga hosts sessions on the terrace at ACAC on the last Saturday of each month from 9 to 10 a.m. Each drop-in session features a 45-minute yoga flow followed by 15 minutes of mingling\, with fresh\, cold-pressed juices available for purchase from Ginger & Spice. Sessions take place on the 3rd-floor terrace of ACAC (weather permitting). Entry is by donation\, and members of ACAC and Kindred Yoga can attend for free.
URL:https://mobilebaynow.com/event/yoga-on-the-terrace/
LOCATION:Alabama Contemporary Art Center\, 301 Conti Street\, Mobile\, AL\, 36602
CATEGORIES:Active
ATTACH;FMTTYPE=image/jpeg:https://mobilebaynow.com/wp-content/uploads/2024/06/yoga-at-acac-1536x864-1.jpg
END:VEVENT
BEGIN:VEVENT
DTSTART;TZID=America/Chicago:20240629T150000
DTEND;TZID=America/Chicago:20240629T180000
DTSTAMP:20260422T181106
CREATED:20240618T173455Z
LAST-MODIFIED:20240618T173457Z
UID:10001501-1719673200-1719684000@mobilebaynow.com
SUMMARY:2024 Let The Good Times Run - Mardi Gras Masquerade 5K
DESCRIPTION:On Saturday\, June 29\, 2024\, the 1938 Legacy Corporation will present its MAMGA 1938 Legacy Mardi Gras Masquerade 5K Fun Run/Walk. This is a family-friendly event for everyone from first-time runners/walkers to expert athletes. This will be a timed 5K (3.1 mile) course that allows participants to experience Mobile’s historic and beautiful downtown landmarks\, while celebrating Mobile’s Mardi Gras season.
URL:https://mobilebaynow.com/event/2024-let-the-good-times-run-mardi-gras-masquerade-5k/
LOCATION:MAMGA DEN\, 305 MAMGA Drive\, Mobile\, Alabama\, 36602\, United States
CATEGORIES:Active
END:VEVENT
END:VCALENDAR