BEGIN:VCALENDAR
VERSION:2.0
PRODID:-//Mobile Bay Now - ECPv6.15.20//NONSGML v1.0//EN
CALSCALE:GREGORIAN
METHOD:PUBLISH
X-WR-CALNAME:Mobile Bay Now
X-ORIGINAL-URL:https://mobilebaynow.com
X-WR-CALDESC:Events for Mobile Bay Now
REFRESH-INTERVAL;VALUE=DURATION:PT1H
X-Robots-Tag:noindex
X-PUBLISHED-TTL:PT1H
BEGIN:VTIMEZONE
TZID:America/Chicago
BEGIN:DAYLIGHT
TZOFFSETFROM:-0600
TZOFFSETTO:-0500
TZNAME:CDT
DTSTART:20240310T080000
END:DAYLIGHT
BEGIN:STANDARD
TZOFFSETFROM:-0500
TZOFFSETTO:-0600
TZNAME:CST
DTSTART:20241103T070000
END:STANDARD
BEGIN:DAYLIGHT
TZOFFSETFROM:-0600
TZOFFSETTO:-0500
TZNAME:CDT
DTSTART:20250309T080000
END:DAYLIGHT
BEGIN:STANDARD
TZOFFSETFROM:-0500
TZOFFSETTO:-0600
TZNAME:CST
DTSTART:20251102T070000
END:STANDARD
BEGIN:DAYLIGHT
TZOFFSETFROM:-0600
TZOFFSETTO:-0500
TZNAME:CDT
DTSTART:20260308T080000
END:DAYLIGHT
BEGIN:STANDARD
TZOFFSETFROM:-0500
TZOFFSETTO:-0600
TZNAME:CST
DTSTART:20261101T070000
END:STANDARD
END:VTIMEZONE
BEGIN:VEVENT
DTSTART;TZID=America/Chicago:20250201T193000
DTEND;TZID=America/Chicago:20250201T213000
DTSTAMP:20260421T233458
CREATED:20250127T141403Z
LAST-MODIFIED:20250127T141405Z
UID:10001926-1738438200-1738445400@mobilebaynow.com
SUMMARY:Mobile Opera: Gallantry
DESCRIPTION:Mobile Opera pays homage to the television comedy hours of the 1950s with a vibrant showcase of emerging talent\, featuring a special presentation of Douglas Moore’s opera that combines hospital drama with a nod to the classic “soaps.” Audiences will follow the suspenseful and comedic journey: Will Nurse Markham fall for the dashing Dr. Gregg? Will Donald face an appendix surgery or a broken heart? The drama unfolds with the sponsorship of Lochinvar Soap and Billy Boy Wax\, delivering each twist in this entertaining tribute.
URL:https://mobilebaynow.com/event/mobile-opera-gallantry/
LOCATION:Murphy High School Auditorium\, 100 S Carlen St\, Mobile\, AL\, 36606\, United States
CATEGORIES:Art
ATTACH;FMTTYPE=image/png:https://mobilebaynow.com/wp-content/uploads/2025/01/IMG_2417.png
END:VEVENT
BEGIN:VEVENT
DTSTART;TZID=America/Chicago:20250207T100000
DTEND;TZID=America/Chicago:20250207T130000
DTSTAMP:20260421T233458
CREATED:20250203T143851Z
LAST-MODIFIED:20250203T143938Z
UID:10001932-1738922400-1738933200@mobilebaynow.com
SUMMARY:Botanical Art #4\, Pen and Ink Drawing
DESCRIPTION:Pen and Ink Botanical Drawing Class at Mobile Botanical Gardens \n\n\n\nMobile Botanical Gardens is offering a six-week class focused on traditional drawing techniques. Participants will create detailed drawings inspired by scenes from the Gardens. \n\n\n\nAbout the Class\n\n\n\nInstructor Derek Norman will lead this studio-based course\, designed for both beginner and intermediate students\, as well as those looking to refine their skills. The class will focus on classic pen and ink techniques used in botanical drawing and composition. \n\n\n\nStudents will learn to draw with both black & white and color inks\, developing skills in plant perspective\, value\, depth\, dimension\, and design. The course will emphasize the use of crow quill (dip pens) and technical drawing pens on various hot and cold press papers. \n\n\n\nIn addition to hands-on exercises\, students will explore historical and contemporary botanical pen and ink drawings to enhance their understanding of the craft.
URL:https://mobilebaynow.com/event/botanical-art-4-pen-and-ink-drawing/
LOCATION:Mobile Botanical Gardens\, 5151 Museum Drive\, Mobile\, AL\, 36608\, United States
CATEGORIES:Art
END:VEVENT
BEGIN:VEVENT
DTSTART;TZID=America/Chicago:20250213T160000
DTEND;TZID=America/Chicago:20250213T173000
DTSTAMP:20260421T233458
CREATED:20250102T115900Z
LAST-MODIFIED:20250210T054724Z
UID:10001893-1739462400-1739467800@mobilebaynow.com
SUMMARY:ZENtangles for Kids
DESCRIPTION:The Zentangle Method offers a creative and enjoyable approach to crafting beautiful images using structured patterns\, with the reassurance of a “No Mistakes” philosophy. \n\n\n\nCertified Zentangle Teacher (CZT) and artist Yuko Jordan will provide step-by-step guidance throughout the process. By the end of the class\, participants can expect to experience enhanced focus\, creativity\, self-confidence\, and an improved sense of well-being.
URL:https://mobilebaynow.com/event/zentangles-for-kids/
LOCATION:Mobile Museum Of Art\, 4850 Museum Drive\, Mobile\, AL\, 36608
CATEGORIES:Art
END:VEVENT
BEGIN:VEVENT
DTSTART;TZID=America/Chicago:20250214T170000
DTEND;TZID=America/Chicago:20250214T210000
DTSTAMP:20260421T233458
CREATED:20250114T184328Z
LAST-MODIFIED:20250203T145743Z
UID:10001910-1739552400-1739566800@mobilebaynow.com
SUMMARY:Arts & Crafts Bazaar
DESCRIPTION:The Frenchmen is hosting an exciting evening of creativity and exploration at the Arts & Crafts Bazaar. This in-person event will take place on North Jackson Street at The Frenchmen in Mobile\, Alabama. \n\n\n\nAttendees can immerse themselves in a vibrant world of art\, crafts\, and creativity. Whether passionate about art or simply seeking a unique experience\, this event offers the perfect opportunity to discover emerging talents\, connect with local artists\, and support the creative community. Visitors are encouraged to mark their calendars for an inspiring and artistic adventure.
URL:https://mobilebaynow.com/event/arts-crafts-bazaar/
LOCATION:The Frenchmen\, 12C North Jackson St.\, Mobile\, Alabama\, 36602\, United States
CATEGORIES:Art
ATTACH;FMTTYPE=image/jpeg:https://mobilebaynow.com/wp-content/uploads/2025/01/IMG_2668.jpeg
END:VEVENT
BEGIN:VEVENT
DTSTART;TZID=America/Chicago:20250220T000000
DTEND;TZID=America/Chicago:20250220T235959
DTSTAMP:20260421T233458
CREATED:20250217T072343Z
LAST-MODIFIED:20250217T072345Z
UID:10001964-1740009600-1740095999@mobilebaynow.com
SUMMARY:HAMLET
DESCRIPTION:A reimagined production of Shakespeare’s classic tragedy Hamlet will take the stage on Thursday\, February 20\, 2025\, at 7 p.m. at the University of Mobile Alabama School of the Arts. This fresh approach offers a new perspective on the timeless themes of power\, revenge\, and madness\, delivering a thought-provoking and engaging performance. Tickets are priced at $22 for general admission and $11 for students.
URL:https://mobilebaynow.com/event/hamlet/
LOCATION:University of Mobile\, 5735 College Pkwy\, Mobile\, AL\, 36613\, United States
CATEGORIES:Art
ATTACH;FMTTYPE=image/png:https://mobilebaynow.com/wp-content/uploads/2025/02/imgscale-31.png
END:VEVENT
BEGIN:VEVENT
DTSTART;TZID=America/Chicago:20250223T140000
DTEND;TZID=America/Chicago:20250223T160000
DTSTAMP:20260421T233458
CREATED:20250217T073856Z
LAST-MODIFIED:20250217T073857Z
UID:10001965-1740319200-1740326400@mobilebaynow.com
SUMMARY:COMMUNITY CELEBRATION TO REOPEN CHICKASABOGUE PARK
DESCRIPTION:The Mobile County Commission is set to reopen Chickasabogue Park on Sunday\, February 23\, with a community celebration from 2 to 4 p.m. \n\n\n\nThe event will feature a ribbon-cutting ceremony\, live music\, face painting\, food trucks\, lawn games\, and more at Chickasabogue Park\, located at 760 Aldock Road\, Eight Mile\, AL 36613. \n\n\n\nVisitors will have the opportunity to explore several new and upgraded amenities\, including: \n\n\n\n\nA redesigned day-use area with ample parking\n\n\n\nA new playground\n\n\n\nA new splashpad\n\n\n\nImproved multiuse courts for basketball\, pickleball\, and tennis\n\n\n\nA new restroom facility\n\n\n\nA new pavilion\n\n\n\nAn upgraded disc golf course\n\n\n\nEnhanced hiking and biking trails\n\n\n\n\nAttendees are encouraged to bring lawn chairs for comfort. Those interested in exploring Chickasabogue Creek should bring their own kayak or canoe. Food and beverages will be available for purchase from food trucks. The park gates will open at noon. To maintain a family-friendly atmosphere\, alcohol is not permitted in Mobile County parks.
URL:https://mobilebaynow.com/event/community-celebration-to-reopen-chickasabogue-park/
LOCATION:Mobile County’s Chickasabogue Park\, 760 Aldock Road\, Eight Mile\, Alabama\, 36613\, United States
CATEGORIES:Art,Music
ATTACH;FMTTYPE=image/png:https://mobilebaynow.com/wp-content/uploads/2025/02/imgscale-32.png
END:VEVENT
BEGIN:VEVENT
DTSTART;TZID=America/Chicago:20250223T160000
DTEND;TZID=America/Chicago:20250223T173000
DTSTAMP:20260421T233458
CREATED:20250217T071106Z
LAST-MODIFIED:20250217T071108Z
UID:10001962-1740326400-1740331800@mobilebaynow.com
SUMMARY:Pixie Paint & Pour\, Mardi Gras Edition
DESCRIPTION:Participants are invited to create abstract art at the vibrant Frenchmen Gallery in downtown Mobile. This event offers a stress-free\, four-step class designed to make the painting process enjoyable and accessible. Once completed\, the gallery will store the artwork to allow it to fully transform\, with pieces available for pickup within two to three days. An artist will be present to provide guidance throughout the experience.
URL:https://mobilebaynow.com/event/pixie-paint-pour-mardi-gras-edition/
LOCATION:The Frenchmen\, 12C North Jackson St.\, Mobile\, Alabama\, 36602\, United States
CATEGORIES:Art
END:VEVENT
END:VCALENDAR