BEGIN:VCALENDAR
VERSION:2.0
PRODID:-//Mobile Bay Now - ECPv6.15.20//NONSGML v1.0//EN
CALSCALE:GREGORIAN
METHOD:PUBLISH
X-WR-CALNAME:Mobile Bay Now
X-ORIGINAL-URL:https://mobilebaynow.com
X-WR-CALDESC:Events for Mobile Bay Now
REFRESH-INTERVAL;VALUE=DURATION:PT1H
X-Robots-Tag:noindex
X-PUBLISHED-TTL:PT1H
BEGIN:VTIMEZONE
TZID:America/Chicago
BEGIN:DAYLIGHT
TZOFFSETFROM:-0600
TZOFFSETTO:-0500
TZNAME:CDT
DTSTART:20240310T080000
END:DAYLIGHT
BEGIN:STANDARD
TZOFFSETFROM:-0500
TZOFFSETTO:-0600
TZNAME:CST
DTSTART:20241103T070000
END:STANDARD
BEGIN:DAYLIGHT
TZOFFSETFROM:-0600
TZOFFSETTO:-0500
TZNAME:CDT
DTSTART:20250309T080000
END:DAYLIGHT
BEGIN:STANDARD
TZOFFSETFROM:-0500
TZOFFSETTO:-0600
TZNAME:CST
DTSTART:20251102T070000
END:STANDARD
BEGIN:DAYLIGHT
TZOFFSETFROM:-0600
TZOFFSETTO:-0500
TZNAME:CDT
DTSTART:20260308T080000
END:DAYLIGHT
BEGIN:STANDARD
TZOFFSETFROM:-0500
TZOFFSETTO:-0600
TZNAME:CST
DTSTART:20261101T070000
END:STANDARD
END:VTIMEZONE
BEGIN:VEVENT
DTSTART;TZID=America/Chicago:20250106T130000
DTEND;TZID=America/Chicago:20250106T160000
DTSTAMP:20260422T010414
CREATED:20241230T141235Z
LAST-MODIFIED:20241230T141252Z
UID:10001891-1736168400-1736179200@mobilebaynow.com
SUMMARY:Muddy Mondays with Professional Potter Elizabeth Van Antwerp
DESCRIPTION:Dauphin Island Heritage and Arts Council invites participants to join their Muddy Mondays 4-class pottery series\, scheduled for January 6\, 13\, 20\, and February 3 from 1:00 PM to 4:00 PM. This engaging program\, led by skilled instructor Elizabeth Van Antwerp\, offers an opportunity to explore the artistry of pottery in a welcoming and interactive environment. \n\n\n\nOver the course of the series\, participants will enjoy three hours each week dedicated to hands-on experiences\, including hand building\, wheel throwing\, and decorating unique clay creations. The class structure includes three consecutive Mondays\, followed by a weeklong break to allow for firing\, and a final session for decoration and finishing touches. \n\n\n\nThe intimate group setting ensures personalized instruction\, making it an ideal experience for both beginners and those looking to refine their skills. The full series is priced at $265.00 per person. \n\n\n\nFor additional details or to reserve a spot\, visit the registration link or text (251) 219-0179.
URL:https://mobilebaynow.com/event/muddy-mondays-with-professional-potter-elizabeth-van-antwerp/
LOCATION:Dauphin Island Heritage and Arts Council\, 918 Bienville Blvd.\, Dauphin Island\, AL\, 36528\, United States
CATEGORIES:Art
END:VEVENT
BEGIN:VEVENT
DTSTART;TZID=America/Chicago:20250109T183000
DTEND;TZID=America/Chicago:20250109T223000
DTSTAMP:20260422T010414
CREATED:20250101T120000Z
LAST-MODIFIED:20241231T190557Z
UID:10001899-1736447400-1736461800@mobilebaynow.com
SUMMARY:Art After Dark: Gallery Grooves
DESCRIPTION:Art After Dark: Gallery Grooves offers an evening where art and music come together in a vibrant celebration. Visitors can enjoy live vinyl-spinning by Mobile Records throughout the gallery while exploring the groundbreaking exhibition 1960s Hard Edge & Op Art: Tribute to The Responsive Eye. This acclaimed showcase features masterworks from the optical art (op art) and hard-edge movements\, highlighting artists such as Josef Albers\, Richard Anuszkiewicz\, Gene Davis\, Julian Stanczak\, and Frank Stella. \n\n\n\nAttendees can unleash their creativity at the DIY Vinyl Record Decorating Station and take home a custom-made record. Additional highlights include a photo station for capturing memories and indulgent fondue treats paired with specialty cocktails crafted for the event. This immersive evening promises a unique blend of art\, music\, and creativity for an unforgettable experience.
URL:https://mobilebaynow.com/event/art-after-dark-gallery-grooves/
LOCATION:Mobile Museum Of Art\, 4850 Museum Drive\, Mobile\, AL\, 36608
CATEGORIES:Art
ATTACH;FMTTYPE=image/jpeg:https://mobilebaynow.com/wp-content/uploads/2024/12/468406843_1112144854247812_5494345060749876054_n.jpg
END:VEVENT
END:VCALENDAR