BEGIN:VCALENDAR
VERSION:2.0
PRODID:-//Mobile Bay Now - ECPv6.15.20//NONSGML v1.0//EN
CALSCALE:GREGORIAN
METHOD:PUBLISH
X-WR-CALNAME:Mobile Bay Now
X-ORIGINAL-URL:https://mobilebaynow.com
X-WR-CALDESC:Events for Mobile Bay Now
REFRESH-INTERVAL;VALUE=DURATION:PT1H
X-Robots-Tag:noindex
X-PUBLISHED-TTL:PT1H
BEGIN:VTIMEZONE
TZID:America/Chicago
BEGIN:DAYLIGHT
TZOFFSETFROM:-0600
TZOFFSETTO:-0500
TZNAME:CDT
DTSTART:20230312T080000
END:DAYLIGHT
BEGIN:STANDARD
TZOFFSETFROM:-0500
TZOFFSETTO:-0600
TZNAME:CST
DTSTART:20231105T070000
END:STANDARD
BEGIN:DAYLIGHT
TZOFFSETFROM:-0600
TZOFFSETTO:-0500
TZNAME:CDT
DTSTART:20240310T080000
END:DAYLIGHT
BEGIN:STANDARD
TZOFFSETFROM:-0500
TZOFFSETTO:-0600
TZNAME:CST
DTSTART:20241103T070000
END:STANDARD
BEGIN:DAYLIGHT
TZOFFSETFROM:-0600
TZOFFSETTO:-0500
TZNAME:CDT
DTSTART:20250309T080000
END:DAYLIGHT
BEGIN:STANDARD
TZOFFSETFROM:-0500
TZOFFSETTO:-0600
TZNAME:CST
DTSTART:20251102T070000
END:STANDARD
END:VTIMEZONE
BEGIN:VEVENT
DTSTART;TZID=America/Chicago:20241205T173000
DTEND;TZID=America/Chicago:20241205T193000
DTSTAMP:20260422T023817
CREATED:20241202T171842Z
LAST-MODIFIED:20241202T171844Z
UID:10001862-1733419800-1733427000@mobilebaynow.com
SUMMARY:Government Plaza Gallery Artist Reception
DESCRIPTION:MMofA\, in partnership with Mobile County Commission organized an exhibition for Government Plaza. This opportunity was open to any artist in the Mobile area. We will be honoring those chosen for the exhibition this evening.
URL:https://mobilebaynow.com/event/government-plaza-gallery-artist-reception/
LOCATION:Mobile Government Plaza Atrium\, 205 Government St\, Mobile\, Alabama\, 36602\, United States
CATEGORIES:Art
END:VEVENT
BEGIN:VEVENT
DTSTART;TZID=America/Chicago:20241213T180000
DTEND;TZID=America/Chicago:20241213T210000
DTSTAMP:20260422T023817
CREATED:20241209T182740Z
LAST-MODIFIED:20241209T182742Z
UID:10001871-1734112800-1734123600@mobilebaynow.com
SUMMARY:LODA ArtWalk: Celebrating Christmas
DESCRIPTION:The December LODA ArtWalk invites everyone to a festive evening of activities and entertainment for all ages on Friday\, December 13\, from 6 to 9 p.m.\, celebrating the Christmas season. \n\n\n\nAttendees can explore local vendors showcasing unique arts\, crafts\, and goods along Dauphin Street in downtown Mobile. At 6:30 p.m.\, The Polar Express will be shown in Cathedral Square; visitors are encouraged to bring chairs\, blankets\, and hot chocolate for a cozy viewing experience. \n\n\n\nChildren can enjoy holiday-themed arts and crafts\, photo opportunities\, and other exciting activities in the Kids’ Zone\, located on North Claiborne Street between St. Francis Street and Dauphin Street. Santa Claus\, Mrs. Claus\, and Holiday Tinkerbell will also make appearances in the Kids’ Zone from 6 to 9 p.m. \n\n\n\nFor more details\, visit cityofmobile.org/events.
URL:https://mobilebaynow.com/event/loda-artwalk-celebrating-christmas/
LOCATION:Cathedral Square\, 300 Conti St.\, Mobile\, AL\, 36602
CATEGORIES:Art,Most Popular
ATTACH;FMTTYPE=image/jpeg:https://mobilebaynow.com/wp-content/uploads/2024/12/IMG_2592.jpeg
END:VEVENT
BEGIN:VEVENT
DTSTART;TZID=America/Chicago:20241214T100000
DTEND;TZID=America/Chicago:20241214T120000
DTSTAMP:20260422T023817
CREATED:20241209T183813Z
LAST-MODIFIED:20241209T183818Z
UID:10001873-1734170400-1734177600@mobilebaynow.com
SUMMARY:Holiday Ornament Make & Take
DESCRIPTION:The Mobile Botanical Gardens invites the community to a holiday ornament-making event on Saturday\, December 14\, from 10 a.m. to noon. Participants can enjoy cookies and refreshments while creating several nature-inspired ornaments\, perfect for decorating a tree or giving as gifts. \n\n\n\nPlanned crafts include cornstarch dough ornaments with pressed flowers\, pinecone ornaments\, woven yarn trees\, and button reindeer. \n\n\n\nThis family-friendly activity is free for MBG members or included with general admission. Registration is required\, and all supplies are provided. To reserve a spot\, email shabel@mbgardens.org. Guests of all ages are welcome to join the fun!
URL:https://mobilebaynow.com/event/holiday-ornament-make-take/
LOCATION:Mobile Botanical Gardens\, 5151 Museum Drive\, Mobile\, AL\, 36608\, United States
CATEGORIES:Art,Most Popular
ATTACH;FMTTYPE=image/png:https://mobilebaynow.com/wp-content/uploads/2024/12/IMG_2545.png
END:VEVENT
END:VCALENDAR