BEGIN:VCALENDAR
VERSION:2.0
PRODID:-//Mobile Bay Now - ECPv6.15.20//NONSGML v1.0//EN
CALSCALE:GREGORIAN
METHOD:PUBLISH
X-ORIGINAL-URL:https://mobilebaynow.com
X-WR-CALDESC:Events for Mobile Bay Now
REFRESH-INTERVAL;VALUE=DURATION:PT1H
X-Robots-Tag:noindex
X-PUBLISHED-TTL:PT1H
BEGIN:VTIMEZONE
TZID:America/Chicago
BEGIN:DAYLIGHT
TZOFFSETFROM:-0600
TZOFFSETTO:-0500
TZNAME:CDT
DTSTART:20230312T080000
END:DAYLIGHT
BEGIN:STANDARD
TZOFFSETFROM:-0500
TZOFFSETTO:-0600
TZNAME:CST
DTSTART:20231105T070000
END:STANDARD
BEGIN:DAYLIGHT
TZOFFSETFROM:-0600
TZOFFSETTO:-0500
TZNAME:CDT
DTSTART:20240310T080000
END:DAYLIGHT
BEGIN:STANDARD
TZOFFSETFROM:-0500
TZOFFSETTO:-0600
TZNAME:CST
DTSTART:20241103T070000
END:STANDARD
BEGIN:DAYLIGHT
TZOFFSETFROM:-0600
TZOFFSETTO:-0500
TZNAME:CDT
DTSTART:20250309T080000
END:DAYLIGHT
BEGIN:STANDARD
TZOFFSETFROM:-0500
TZOFFSETTO:-0600
TZNAME:CST
DTSTART:20251102T070000
END:STANDARD
END:VTIMEZONE
BEGIN:VEVENT
DTSTART;TZID=America/Chicago:20240508T100000
DTEND;TZID=America/Chicago:20240508T113000
DTSTAMP:20260422T135429
CREATED:20240507T083753Z
LAST-MODIFIED:20240507T083754Z
UID:10001324-1715162400-1715167800@mobilebaynow.com
SUMMARY:Diamond Dot Art
DESCRIPTION:Have fun with DIAMONDS!Diamond pod art is the “New” paint-by-numbers! Join us for a relaxing\, fun time in Mrs. Emma Study Room as you create colorful diamond designed coasters\, refrigerator magnets and hanging art work!For more information please email scoleman@mplonline.org\, or call 251-340-1478.More info\, here.
URL:https://mobilebaynow.com/event/diamond-dot-art/
LOCATION:Ben May Main Library\, 701 Government Street\, Mobile\, AL\, 36602
CATEGORIES:Art
ATTACH;FMTTYPE=image/png:https://mobilebaynow.com/wp-content/uploads/2024/05/Diamond-Dot-Art-calendar.png
END:VEVENT
BEGIN:VEVENT
DTSTART;TZID=America/Chicago:20240510T180000
DTEND;TZID=America/Chicago:20240510T210000
DTSTAMP:20260422T135429
CREATED:20240430T182146Z
LAST-MODIFIED:20240430T182147Z
UID:10001316-1715364000-1715374800@mobilebaynow.com
SUMMARY:May LODA ArtWalk: Cartoons & Comics
DESCRIPTION:Step into a colorful world as LODA ArtWalk CELEBRATES the art of cartoons and comics on May 10\, 2024\, from 6-9 PM!  \n\n\n\nImmerse yourself in a lively atmosphere filled with local art vendors showcasing their vibrant creations. Dive into the Kids’ Zone for an array of comic-inspired crafts and watch as talented caricature artists bring you to life as your favorite characters! \n\n\n\nCapture memories with photo ops\, get your face painted with whimsical designs and indulge in a night of FREE creative exploration for all ages! \n\n\n\nDon’t miss this exciting celebration of cartoons and comics at LODA ArtWalk.
URL:https://mobilebaynow.com/event/may-loda-artwalk-cartoons-comics/
LOCATION:Cathedral Square\, 300 Conti St.\, Mobile\, AL\, 36602
CATEGORIES:Art
ATTACH;FMTTYPE=image/jpeg:https://mobilebaynow.com/wp-content/uploads/2024/04/IMG_1498.jpeg
END:VEVENT
BEGIN:VEVENT
DTSTART;TZID=America/Chicago:20240516T190000
DTEND;TZID=America/Chicago:20240516T220000
DTSTAMP:20260422T135429
CREATED:20240430T182631Z
LAST-MODIFIED:20240430T182632Z
UID:10001317-1715886000-1715896800@mobilebaynow.com
SUMMARY:6th Annual White Linen Night\, Live Art Auction
DESCRIPTION:Join in for “A Night at the Beach” supporting the Eastern Shore Art Center!  \n\n\n\nThe galleries of ESAC will be transformed for its White Linen Night 2024 fundraising gala on Thursday\, May 16! Dress in your favorite white attire or get a little beachy this year and dance the night away to the surf stylings of Mr. Big and Rhythm Sisters. Amidst both silent and live art auctions\, the evening will spotlight exceptional coastal cuisine from several of your favorite local restaurants. Tickets include an open bar featuring hand-selected wines and a signature margarita by The Grand Hotel Golf Resort and Spa. \n\n\n\n“This event is one of our largest fundraisers of the year\, generating funds that help us reach our mission and expand our programming\,” says Marketing Director Adrienne Clow. “We are so grateful to our attendees and sponsors that support the arts along the Eastern Shore.” \n\n\n\nCan’t make the event\, but still want to support ESAC? Online bidding for the Silent Auction is open to the public and now available! Winners will be selected the night of the event. Create a free account and place your bids here: www.event.gives/wln2024 \n\n\n\nWHEN: Thursday\, May 16\, 2024 @ 7-10pm \n\n\n\n7:00-9:00 PM: Enjoy refreshments & live music! \n\n\n\n9:00 PM: Live Art Auction \n\n\n\n9:40 PM: Last Call to purchase Raffle Tickets & Open Bar closing \n\n\n\n9:45 PM: Silent Art Auction Closes + Last Call at the Bars + Raffle Drawing \n\n\n\n(need not be present to win) \n\n\n\n10:00 PM: Closing Time \n\n\n\nWHERE: Eastern Shore Art Center (401 Oak St.  Fairhope\, AL 36532) \n\n\n\nTICKETS: \n\n\n\n•        On Sale Now: $125 per person (includes food and open bar) \n\n\n\n•        LIMITED TICKETS available. Order online at www.event.gives/wln2024. You may also call (251) 928-2228 or pick up at the Art Center Tues-Fri10am-4pm or Sat 10am-6pm \n\n\n\nFor more info\, contact: Adrienne Clow\, Marketing Director atAdrienne@esartcenter.org or 928-2228 ext 103. Visit https://esartcenter.org\, Facebook\, or Twitter for daily updates! \n\n\n\n“Some beach\, somewhere…”​ \n\n\n\nSilent Auction Items are LIVE and can be bid on before the event begins.
URL:https://mobilebaynow.com/event/6th-annual-white-linen-night-live-art-auction/
LOCATION:Eastern Shore Art Center\, 401 Oak Street\, Fairhope\, AL\, 36532\, United States
CATEGORIES:Art,Shopping
ATTACH;FMTTYPE=image/webp:https://mobilebaynow.com/wp-content/uploads/2024/04/IMG_1474.webp
END:VEVENT
END:VCALENDAR